BEGIN:VCALENDAR
VERSION:2.0
PRODID:-//Academia Arguello - ECPv6.8.1//NONSGML v1.0//EN
CALSCALE:GREGORIAN
METHOD:PUBLISH
X-ORIGINAL-URL:https://aa.edu.ar
X-WR-CALDESC:Eventos para Academia Arguello
REFRESH-INTERVAL;VALUE=DURATION:PT1H
X-Robots-Tag:noindex
X-PUBLISHED-TTL:PT1H
BEGIN:VTIMEZONE
TZID:America/Argentina/Cordoba
BEGIN:STANDARD
TZOFFSETFROM:-0300
TZOFFSETTO:-0300
TZNAME:-03
DTSTART:20260101T000000
END:STANDARD
END:VTIMEZONE
BEGIN:VEVENT
DTSTART;VALUE=DATE:20261215
DTEND;VALUE=DATE:20261216
DTSTAMP:20260419T211300
CREATED:20260413T135111Z
LAST-MODIFIED:20260413T135111Z
UID:10001403-1797292800-1797379199@aa.edu.ar
SUMMARY:Colación Salas de 5 19hs
DESCRIPTION:
URL:https://aa.edu.ar/evento/colacion-salas-de-5-19hs/
CATEGORIES:Inicial
END:VEVENT
BEGIN:VEVENT
DTSTART;VALUE=DATE:20261216
DTEND;VALUE=DATE:20261217
DTSTAMP:20260419T211300
CREATED:20260413T135208Z
LAST-MODIFIED:20260413T135215Z
UID:10001404-1797379200-1797465599@aa.edu.ar
SUMMARY:Colación Sexto Grado
DESCRIPTION:
URL:https://aa.edu.ar/evento/colacion-sexto-grado/
CATEGORIES:Primario
END:VEVENT
BEGIN:VEVENT
DTSTART;VALUE=DATE:20261217
DTEND;VALUE=DATE:20261218
DTSTAMP:20260419T211300
CREATED:20260413T135258Z
LAST-MODIFIED:20260413T135258Z
UID:10001405-1797465600-1797551999@aa.edu.ar
SUMMARY:Colación Sexto Año
DESCRIPTION:
URL:https://aa.edu.ar/evento/colacion-sexto-ano/
CATEGORIES:Secundario
END:VEVENT
BEGIN:VEVENT
DTSTART;VALUE=DATE:20261218
DTEND;VALUE=DATE:20261219
DTSTAMP:20260419T211300
CREATED:20260413T133043Z
LAST-MODIFIED:20260413T133211Z
UID:10001395-1797552000-1797638399@aa.edu.ar
SUMMARY:Entrega de Informes Escolares 2da Etapa
DESCRIPTION:
URL:https://aa.edu.ar/evento/entrega-de-informes-escolares-2da-etapa/
CATEGORIES:Institucional
END:VEVENT
BEGIN:VEVENT
DTSTART;VALUE=DATE:20261218
DTEND;VALUE=DATE:20261219
DTSTAMP:20260419T211300
CREATED:20260413T133250Z
LAST-MODIFIED:20260413T133250Z
UID:10001396-1797552000-1797638399@aa.edu.ar
SUMMARY:Fiesta fin de año
DESCRIPTION:
URL:https://aa.edu.ar/evento/fiesta-fin-de-ano/
CATEGORIES:Institucional
END:VEVENT
BEGIN:VEVENT
DTSTART;VALUE=DATE:20261218
DTEND;VALUE=DATE:20261219
DTSTAMP:20260419T211300
CREATED:20260413T135447Z
LAST-MODIFIED:20260413T135447Z
UID:10001406-1797552000-1797638399@aa.edu.ar
SUMMARY:Entrega de informes y carpetas - 10:00 a 12:00 hs
DESCRIPTION:
URL:https://aa.edu.ar/evento/entrega-de-informes-y-carpetas-1000-a-1200-hs/
CATEGORIES:Inicial,Institucional
END:VEVENT
END:VCALENDAR