BEGIN:VCALENDAR
VERSION:2.0
PRODID:-//Academia Arguello - ECPv6.8.1//NONSGML v1.0//EN
CALSCALE:GREGORIAN
METHOD:PUBLISH
X-ORIGINAL-URL:https://aa.edu.ar
X-WR-CALDESC:Eventos para Academia Arguello
REFRESH-INTERVAL;VALUE=DURATION:PT1H
X-Robots-Tag:noindex
X-PUBLISHED-TTL:PT1H
BEGIN:VTIMEZONE
TZID:America/Argentina/Cordoba
BEGIN:STANDARD
TZOFFSETFROM:-0300
TZOFFSETTO:-0300
TZNAME:-03
DTSTART:20260101T000000
END:STANDARD
END:VTIMEZONE
BEGIN:VEVENT
DTSTART;VALUE=DATE:20261208
DTEND;VALUE=DATE:20261209
DTSTAMP:20260419T192203
CREATED:20260413T132808Z
LAST-MODIFIED:20260413T132808Z
UID:10001393-1796688000-1796774399@aa.edu.ar
SUMMARY:Día de la Inmaculada Concepción
DESCRIPTION:Feriado
URL:https://aa.edu.ar/evento/dia-de-la-inmaculada-concepcion/
CATEGORIES:Institucional
END:VEVENT
BEGIN:VEVENT
DTSTART;VALUE=DATE:20261211
DTEND;VALUE=DATE:20261212
DTSTAMP:20260419T192203
CREATED:20260413T132912Z
LAST-MODIFIED:20260413T132932Z
UID:10001394-1796947200-1797033599@aa.edu.ar
SUMMARY:Ultimo día de asistencia de alumnos
DESCRIPTION:
URL:https://aa.edu.ar/evento/ultimo-dia-de-asistencia-de-alumnos/
CATEGORIES:Institucional
END:VEVENT
END:VCALENDAR