BEGIN:VCALENDAR
VERSION:2.0
PRODID:-//Academia Arguello - ECPv6.8.1//NONSGML v1.0//EN
CALSCALE:GREGORIAN
METHOD:PUBLISH
X-ORIGINAL-URL:https://aa.edu.ar
X-WR-CALDESC:Eventos para Academia Arguello
REFRESH-INTERVAL;VALUE=DURATION:PT1H
X-Robots-Tag:noindex
X-PUBLISHED-TTL:PT1H
BEGIN:VTIMEZONE
TZID:America/Argentina/Cordoba
BEGIN:STANDARD
TZOFFSETFROM:-0300
TZOFFSETTO:-0300
TZNAME:-03
DTSTART:20250101T000000
END:STANDARD
END:VTIMEZONE
BEGIN:VEVENT
DTSTART;TZID=America/Argentina/Cordoba:20251202T190000
DTEND;TZID=America/Argentina/Cordoba:20251202T210000
DTSTAMP:20260419T131552
CREATED:20250724T161330Z
LAST-MODIFIED:20251201T155023Z
UID:10001226-1764702000-1764709200@aa.edu.ar
SUMMARY:FIESTA FIN DE AÑO - SALAS C
DESCRIPTION:Fiesta de fin de año para salas C \nHorario:19:00h \n 
URL:https://aa.edu.ar/evento/fiesta-fin-de-ano-salas-c/
CATEGORIES:Inicial
END:VEVENT
BEGIN:VEVENT
DTSTART;TZID=America/Argentina/Cordoba:20251203T190000
DTEND;TZID=America/Argentina/Cordoba:20251203T210000
DTSTAMP:20260419T131552
CREATED:20250724T161454Z
LAST-MODIFIED:20251201T125233Z
UID:10001227-1764788400-1764795600@aa.edu.ar
SUMMARY:FIESTA FIN DE AÑO - SALAS A
DESCRIPTION:Fiesta de fin de año en Salas 3\, 4 y 5 A \nHorario: 19:00hs \nLos alumnos deberán estar 15 minutos antes en el jardín \nEse día\, los estudiantes no tendrán clases.
URL:https://aa.edu.ar/evento/fiesta-fin-de-ano-salas-a/
CATEGORIES:Inicial
END:VEVENT
BEGIN:VEVENT
DTSTART;TZID=America/Argentina/Cordoba:20251204T080000
DTEND;TZID=America/Argentina/Cordoba:20251204T100000
DTSTAMP:20260419T131552
CREATED:20251201T124616Z
LAST-MODIFIED:20251201T125019Z
UID:10001296-1764835200-1764842400@aa.edu.ar
SUMMARY:TALLER DE FRANCÉS Y MÚSICA CON FAMILIAS
DESCRIPTION:
URL:https://aa.edu.ar/evento/taller-de-frances-y-musica-con-familias/
CATEGORIES:Primario
END:VEVENT
BEGIN:VEVENT
DTSTART;TZID=America/Argentina/Cordoba:20251204T133000
DTEND;TZID=America/Argentina/Cordoba:20251204T153000
DTSTAMP:20260419T131552
CREATED:20251110T140330Z
LAST-MODIFIED:20251110T173148Z
UID:10001287-1764855000-1764862200@aa.edu.ar
SUMMARY:DESPEDIDA DE 6° AÑO
DESCRIPTION:Almuerzo Despedida con estudiantes de 6° año\nComedor\n13.30 h\nFestejo de Colores\nQuincho\n14.30 h \n 
URL:https://aa.edu.ar/evento/despedida-de-6-ano/
CATEGORIES:Secundario
END:VEVENT
BEGIN:VEVENT
DTSTART;TZID=America/Argentina/Cordoba:20251204T190000
DTEND;TZID=America/Argentina/Cordoba:20251204T210000
DTSTAMP:20260419T131552
CREATED:20250724T161718Z
LAST-MODIFIED:20251201T121626Z
UID:10001228-1764874800-1764882000@aa.edu.ar
SUMMARY:FIESTA FIN DE AÑO - SALAS B Y LAS DELICIAS
DESCRIPTION:Fiesta de fin de año para las salas B y las Delicias. \nHorario 19:00h \nLos estudiantes de las salas B y las Delicias no tendrá clases \nLos chicos deben estar 15 minutos antes\, los esperamos a las 18:45h en el jardín. \n 
URL:https://aa.edu.ar/evento/fiesta-fin-de-ano-salas-b/
CATEGORIES:Inicial
END:VEVENT
BEGIN:VEVENT
DTSTART;TZID=America/Argentina/Cordoba:20251205T080000
DTEND;TZID=America/Argentina/Cordoba:20251205T083000
DTSTAMP:20260419T131552
CREATED:20250227T144101Z
LAST-MODIFIED:20250227T144101Z
UID:10001131-1764921600-1764923400@aa.edu.ar
SUMMARY:ACTO DE CIERRE DE FIN DE AÑO
DESCRIPTION:Horario a definir
URL:https://aa.edu.ar/evento/acto-de-cierre-de-fin-de-ano/
CATEGORIES:Secundario
END:VEVENT
END:VCALENDAR