BEGIN:VCALENDAR
VERSION:2.0
PRODID:-//Academia Arguello - ECPv6.8.1//NONSGML v1.0//EN
CALSCALE:GREGORIAN
METHOD:PUBLISH
X-WR-CALNAME:Academia Arguello
X-ORIGINAL-URL:https://aa.edu.ar
X-WR-CALDESC:Eventos para Academia Arguello
REFRESH-INTERVAL;VALUE=DURATION:PT1H
X-Robots-Tag:noindex
X-PUBLISHED-TTL:PT1H
BEGIN:VTIMEZONE
TZID:America/Argentina/Cordoba
BEGIN:STANDARD
TZOFFSETFROM:-0300
TZOFFSETTO:-0300
TZNAME:-03
DTSTART:20240101T000000
END:STANDARD
END:VTIMEZONE
BEGIN:VEVENT
DTSTART;TZID=America/Argentina/Cordoba:20241216T190000
DTEND;TZID=America/Argentina/Cordoba:20241216T210000
DTSTAMP:20260422T205057
CREATED:20241025T120242Z
LAST-MODIFIED:20241025T120319Z
UID:10001077-1734375600-1734382800@aa.edu.ar
SUMMARY:COLACIÓN 6° AÑO
DESCRIPTION:Colación de 6to año en el colegio \n19h
URL:https://aa.edu.ar/evento/colacion-6-ano/
CATEGORIES:Secundario
END:VEVENT
BEGIN:VEVENT
DTSTART;TZID=America/Argentina/Cordoba:20241217T080000
DTEND;TZID=America/Argentina/Cordoba:20241223T170000
DTSTAMP:20260422T205057
CREATED:20241111T112234Z
LAST-MODIFIED:20241111T112234Z
UID:10001096-1734422400-1734973200@aa.edu.ar
SUMMARY:COLOQUIOS
DESCRIPTION:Coloquios del 17 al 23 de diciembre
URL:https://aa.edu.ar/evento/coloquios/
CATEGORIES:Secundario
END:VEVENT
END:VCALENDAR