BEGIN:VCALENDAR
VERSION:2.0
PRODID:-//Academia Arguello - ECPv6.8.1//NONSGML v1.0//EN
CALSCALE:GREGORIAN
METHOD:PUBLISH
X-WR-CALNAME:Academia Arguello
X-ORIGINAL-URL:https://aa.edu.ar
X-WR-CALDESC:Eventos para Academia Arguello
REFRESH-INTERVAL;VALUE=DURATION:PT1H
X-Robots-Tag:noindex
X-PUBLISHED-TTL:PT1H
BEGIN:VTIMEZONE
TZID:America/Argentina/Cordoba
BEGIN:STANDARD
TZOFFSETFROM:-0300
TZOFFSETTO:-0300
TZNAME:-03
DTSTART:20240101T000000
END:STANDARD
END:VTIMEZONE
BEGIN:VEVENT
DTSTART;TZID=America/Argentina/Cordoba:20241122T080000
DTEND;TZID=America/Argentina/Cordoba:20241125T170000
DTSTAMP:20260422T204640
CREATED:20241111T120332Z
LAST-MODIFIED:20241111T120332Z
UID:10001105-1732262400-1732554000@aa.edu.ar
SUMMARY:EXÁMENES FINALES DE FRANCÉS
DESCRIPTION:VIERNES 22 Y LUNES 25 DE NOVIEMBRE
URL:https://aa.edu.ar/evento/examenes-finales-de-frances/
CATEGORIES:Primario
END:VEVENT
BEGIN:VEVENT
DTSTART;TZID=America/Argentina/Cordoba:20241125T080000
DTEND;TZID=America/Argentina/Cordoba:20241129T170000
DTSTAMP:20260422T204640
CREATED:20240710T125925Z
LAST-MODIFIED:20240710T125925Z
UID:10000995-1732521600-1732899600@aa.edu.ar
SUMMARY:MATECLUBES - RONDA FINAL
DESCRIPTION:
URL:https://aa.edu.ar/evento/mateclubes-ronda-final/
CATEGORIES:Secundario
END:VEVENT
BEGIN:VEVENT
DTSTART;TZID=America/Argentina/Cordoba:20241127T170000
DTEND;TZID=America/Argentina/Cordoba:20241127T173000
DTSTAMP:20260422T204640
CREATED:20240710T113926Z
LAST-MODIFIED:20240710T113926Z
UID:10000968-1732726800-1732728600@aa.edu.ar
SUMMARY:FIESTA DE FIN DE AÑO - SALAS A
DESCRIPTION:FIESTA DE FIN DE AÑO DE SALAS A \nHorario:
URL:https://aa.edu.ar/evento/fiesta-de-fin-de-ano-salas-a/
LOCATION:Colegio Academia Argüello\, ↗️ Ampliación Av. Rafael Nuñez esquina Pozo de la Loma.\, Córdoba\, Córdoba\, 5000\, Argentina
CATEGORIES:Inicial
END:VEVENT
BEGIN:VEVENT
DTSTART;VALUE=DATE:20241128
DTEND;VALUE=DATE:20241129
DTSTAMP:20260422T204640
CREATED:20241028T144120Z
LAST-MODIFIED:20241028T144129Z
UID:10001085-1732752000-1732838399@aa.edu.ar
SUMMARY:STUDY DAY
DESCRIPTION:Día completo con estudiantes de 5° y medio día 3° año
URL:https://aa.edu.ar/evento/study-day/
CATEGORIES:Secundario
END:VEVENT
BEGIN:VEVENT
DTSTART;TZID=America/Argentina/Cordoba:20241128T170000
DTEND;TZID=America/Argentina/Cordoba:20241128T173000
DTSTAMP:20260422T204640
CREATED:20240710T114017Z
LAST-MODIFIED:20240710T114017Z
UID:10000969-1732813200-1732815000@aa.edu.ar
SUMMARY:FIESTA DE FIN DE AÑO DE SALAS B
DESCRIPTION:FIESTA DE FIN DE AÑO DE SALAS B \nHorario:
URL:https://aa.edu.ar/evento/fiesta-de-fin-de-ano-de-salas-b/
LOCATION:Colegio Academia Argüello\, ↗️ Ampliación Av. Rafael Nuñez esquina Pozo de la Loma.\, Córdoba\, Córdoba\, 5000\, Argentina
CATEGORIES:Inicial
END:VEVENT
BEGIN:VEVENT
DTSTART;TZID=America/Argentina/Cordoba:20241129T080000
DTEND;TZID=America/Argentina/Cordoba:20241129T170000
DTSTAMP:20260422T204640
CREATED:20240802T142945Z
LAST-MODIFIED:20240802T142945Z
UID:10001023-1732867200-1732899600@aa.edu.ar
SUMMARY:ENTREGA DE PORTFOLIOS
DESCRIPTION:ENTREGA DE PORTFOLIOS A PADRES
URL:https://aa.edu.ar/evento/entrega-de-portfolios/
CATEGORIES:Primario
END:VEVENT
BEGIN:VEVENT
DTSTART;TZID=America/Argentina/Cordoba:20241129T093000
DTEND;TZID=America/Argentina/Cordoba:20241129T123000
DTSTAMP:20260422T204640
CREATED:20241111T114008Z
LAST-MODIFIED:20241111T114008Z
UID:10001103-1732872600-1732883400@aa.edu.ar
SUMMARY:CIERRE DE MÚSICA Y ARTES PLÁSTICAS EN FRANCÉS
DESCRIPTION:3º C:  8:30 a 9:30 h\n3º B:  9:30 a 10:30 h\n3º A:  10:30 a 11:30 h
URL:https://aa.edu.ar/evento/cierre-de-musica-y-artes-plasticas-en-frances/
CATEGORIES:Primario
END:VEVENT
BEGIN:VEVENT
DTSTART;TZID=America/Argentina/Cordoba:20241129T120000
DTEND;TZID=America/Argentina/Cordoba:20241129T130000
DTSTAMP:20260422T204640
CREATED:20241111T111534Z
LAST-MODIFIED:20241111T111534Z
UID:10001094-1732881600-1732885200@aa.edu.ar
SUMMARY:ACTO DE CIERRE DE CICLO LECTIVO 2024
DESCRIPTION:Acto de cierre de ciclo lectivo 2024 \n12:00h (aprox) – Biblioteca
URL:https://aa.edu.ar/evento/acto-de-cierre-de-ciclo-lectivo-2024/
CATEGORIES:Secundario
END:VEVENT
BEGIN:VEVENT
DTSTART;TZID=America/Argentina/Cordoba:20241129T170000
DTEND;TZID=America/Argentina/Cordoba:20241129T173000
DTSTAMP:20260422T204640
CREATED:20240710T114133Z
LAST-MODIFIED:20240710T114133Z
UID:10000970-1732899600-1732901400@aa.edu.ar
SUMMARY:FIESTA DE FIN DE AÑO DE SALAS C
DESCRIPTION:Fiesta de fin de año Salas C \nHorario
URL:https://aa.edu.ar/evento/fiesta-de-fin-de-ano-de-salas-c/
LOCATION:Colegio Academia Argüello\, ↗️ Ampliación Av. Rafael Nuñez esquina Pozo de la Loma.\, Córdoba\, Córdoba\, 5000\, Argentina
CATEGORIES:Inicial
END:VEVENT
END:VCALENDAR