BEGIN:VCALENDAR
VERSION:2.0
PRODID:-//Academia Arguello - ECPv6.8.1//NONSGML v1.0//EN
CALSCALE:GREGORIAN
METHOD:PUBLISH
X-ORIGINAL-URL:https://aa.edu.ar
X-WR-CALDESC:Eventos para Academia Arguello
REFRESH-INTERVAL;VALUE=DURATION:PT1H
X-Robots-Tag:noindex
X-PUBLISHED-TTL:PT1H
BEGIN:VTIMEZONE
TZID:America/Argentina/Cordoba
BEGIN:STANDARD
TZOFFSETFROM:-0300
TZOFFSETTO:-0300
TZNAME:-03
DTSTART:20240101T000000
END:STANDARD
END:VTIMEZONE
BEGIN:VEVENT
DTSTART;VALUE=DATE:20241019
DTEND;VALUE=DATE:20241026
DTSTAMP:20260423T003424
CREATED:20241014T111717Z
LAST-MODIFIED:20241014T111717Z
UID:10001066-1729296000-1729900799@aa.edu.ar
SUMMARY:MUESTRA "SEGUNDAS OPORTUNIDADES"
DESCRIPTION:Muestra “De Segundas Oportunidades”\, de Gabo Martínez\, egresada de Academia Argüello. Obras realizadas a partir del reciclaje de distintos materiales. \nestrena el 19 de Octubre en el marco de la Ecoferia \nFechas de la Exposición: 19 – 25 de octubre. \n 
URL:https://aa.edu.ar/evento/muestra-segundas-oportunidades/
CATEGORIES:Institucional
END:VEVENT
BEGIN:VEVENT
DTSTART;TZID=America/Argentina/Cordoba:20241021T080000
DTEND;TZID=America/Argentina/Cordoba:20241023T170000
DTSTAMP:20260423T003424
CREATED:20240710T125607Z
LAST-MODIFIED:20240710T125607Z
UID:10000992-1729497600-1729702800@aa.edu.ar
SUMMARY:OLIMPIADA MATEMÁTICA ÑANDÚ
DESCRIPTION:Certamen Nacional del 20 al 23 de octubre
URL:https://aa.edu.ar/evento/olimpiada-matematica-nandu/
CATEGORIES:Secundario
END:VEVENT
BEGIN:VEVENT
DTSTART;TZID=America/Argentina/Cordoba:20241022T080000
DTEND;TZID=America/Argentina/Cordoba:20241022T130000
DTSTAMP:20260423T003424
CREATED:20241022T105104Z
LAST-MODIFIED:20241022T105104Z
UID:10001071-1729584000-1729602000@aa.edu.ar
SUMMARY:FORMACION SITUADA
DESCRIPTION:NO HAY ACTIVIDADES ESOLARES PARA LOS ESTUDIANTES. \nDocentes de nivel inicial\, primario y secundario deberán asistir de 8 a 13h
URL:https://aa.edu.ar/evento/formacion-situada-3/
CATEGORIES:Institucional
END:VEVENT
BEGIN:VEVENT
DTSTART;TZID=America/Argentina/Cordoba:20241023T080000
DTEND;TZID=America/Argentina/Cordoba:20241023T130000
DTSTAMP:20260423T003424
CREATED:20241023T115345Z
LAST-MODIFIED:20241023T115345Z
UID:10001076-1729670400-1729688400@aa.edu.ar
SUMMARY:SALIDA AL CENTRO METEOROLÓGICO
DESCRIPTION: 1er año – Salida al centro meteorológico \n8:00 a 13:00 hs
URL:https://aa.edu.ar/evento/salida-al-centro-meteorologico/
CATEGORIES:Secundario
END:VEVENT
BEGIN:VEVENT
DTSTART;TZID=America/Argentina/Cordoba:20241025T130000
DTEND;TZID=America/Argentina/Cordoba:20241025T160000
DTSTAMP:20260423T003424
CREATED:20241022T110013Z
LAST-MODIFIED:20241022T110013Z
UID:10001072-1729861200-1729872000@aa.edu.ar
SUMMARY:INTERCULTURALIDAD - 2° GRADO
DESCRIPTION:Interculturalidad de inglés en 2° grado
URL:https://aa.edu.ar/evento/interculturalidad-2-grado-2/
CATEGORIES:Primario
END:VEVENT
END:VCALENDAR