BEGIN:VCALENDAR
VERSION:2.0
PRODID:-//Academia Arguello - ECPv6.8.1//NONSGML v1.0//EN
CALSCALE:GREGORIAN
METHOD:PUBLISH
X-ORIGINAL-URL:https://aa.edu.ar
X-WR-CALDESC:Eventos para Academia Arguello
REFRESH-INTERVAL;VALUE=DURATION:PT1H
X-Robots-Tag:noindex
X-PUBLISHED-TTL:PT1H
BEGIN:VTIMEZONE
TZID:America/Argentina/Cordoba
BEGIN:STANDARD
TZOFFSETFROM:-0300
TZOFFSETTO:-0300
TZNAME:-03
DTSTART:20240101T000000
END:STANDARD
END:VTIMEZONE
BEGIN:VEVENT
DTSTART;VALUE=DATE:20241001
DTEND;VALUE=DATE:20241002
DTSTAMP:20260423T021651
CREATED:20240710T112402Z
LAST-MODIFIED:20240710T112402Z
UID:10000965-1727740800-1727827199@aa.edu.ar
SUMMARY:FORMACION SITUADA
DESCRIPTION:Formación a docentes de los tres niveles. No hay actividades presenciales escolares.
URL:https://aa.edu.ar/evento/formacion-situada-2/
CATEGORIES:Institucional
END:VEVENT
BEGIN:VEVENT
DTSTART;VALUE=DATE:20241001
DTEND;VALUE=DATE:20241002
DTSTAMP:20260423T021651
CREATED:20240710T125337Z
LAST-MODIFIED:20240710T125337Z
UID:10000990-1727740800-1727827199@aa.edu.ar
SUMMARY:COMPETENCIA DE MATECLUBES - 3° RONDA
DESCRIPTION:
URL:https://aa.edu.ar/evento/competencia-de-mateclubes-3-ronda/
CATEGORIES:Secundario
END:VEVENT
BEGIN:VEVENT
DTSTART;TZID=America/Argentina/Cordoba:20241002T083000
DTEND;TZID=America/Argentina/Cordoba:20241002T150000
DTSTAMP:20260423T021651
CREATED:20241001T190203Z
LAST-MODIFIED:20241002T110106Z
UID:10001048-1727857800-1727881200@aa.edu.ar
SUMMARY:JORNADA DE INTERCULTURALIDAD
DESCRIPTION:Sala de 5 años \n8.30h \n10.30h \n14.o0h
URL:https://aa.edu.ar/evento/jornada-de-interculturalidad/
CATEGORIES:Inicial
END:VEVENT
BEGIN:VEVENT
DTSTART;TZID=America/Argentina/Cordoba:20241005T090000
DTEND;TZID=America/Argentina/Cordoba:20241005T120000
DTSTAMP:20260423T021651
CREATED:20241003T114557Z
LAST-MODIFIED:20241003T150938Z
UID:10001051-1728118800-1728129600@aa.edu.ar
SUMMARY:ENCUENTRO FÚTBOL INTERCOLEGIAL
DESCRIPTION:Se realizará en el colegio Del carmen\, en su campo de deporte\, ubicado en al universidad Siglo 21. \nEl horario será: \n9h a 12h \nAlumnos deberán asistir con el uniforme de fútbol o remera gris de educación física. \nConsultas a 3515161930 (Prof. Fabián) \n 
URL:https://aa.edu.ar/evento/encuentro-futbol-intercolegial/
CATEGORIES:Primario
END:VEVENT
BEGIN:VEVENT
DTSTART;TZID=America/Argentina/Cordoba:20241005T100000
DTEND;TZID=America/Argentina/Cordoba:20241005T120000
DTSTAMP:20260423T021651
CREATED:20240903T191352Z
LAST-MODIFIED:20240903T191402Z
UID:10001041-1728122400-1728129600@aa.edu.ar
SUMMARY:TORNEO DE GIMASIA ARTISTICA
DESCRIPTION:Torneo de Gimnasia artística en el colegio Academia Argüello
URL:https://aa.edu.ar/evento/torneo-de-gimasia-artistica/
CATEGORIES:Primario
END:VEVENT
BEGIN:VEVENT
DTSTART;TZID=America/Argentina/Cordoba:20241006T080000
DTEND;TZID=America/Argentina/Cordoba:20241006T170000
DTSTAMP:20260423T021651
CREATED:20241001T190731Z
LAST-MODIFIED:20241002T110016Z
UID:10001050-1728201600-1728234000@aa.edu.ar
SUMMARY:TORNEO CHINO FANTIN
DESCRIPTION:Horario: 9h \nLugar: canchas de Academia Argüello. Av. Germna Vagni\, esq. Pozo de la Loma \nParticipan todas las promociones de egresados
URL:https://aa.edu.ar/evento/torneo-chino-fantin/
CATEGORIES:Institucional
END:VEVENT
END:VCALENDAR