BEGIN:VCALENDAR
VERSION:2.0
PRODID:-//Academia Arguello - ECPv6.8.1//NONSGML v1.0//EN
CALSCALE:GREGORIAN
METHOD:PUBLISH
X-WR-CALNAME:Academia Arguello
X-ORIGINAL-URL:https://aa.edu.ar
X-WR-CALDESC:Eventos para Academia Arguello
REFRESH-INTERVAL;VALUE=DURATION:PT1H
X-Robots-Tag:noindex
X-PUBLISHED-TTL:PT1H
BEGIN:VTIMEZONE
TZID:America/Argentina/Cordoba
BEGIN:STANDARD
TZOFFSETFROM:-0300
TZOFFSETTO:-0300
TZNAME:-03
DTSTART:20240101T000000
END:STANDARD
END:VTIMEZONE
BEGIN:VEVENT
DTSTART;TZID=America/Argentina/Cordoba:20240902T080000
DTEND;TZID=America/Argentina/Cordoba:20240902T130000
DTSTAMP:20260423T022334
CREATED:20240827T185841Z
LAST-MODIFIED:20240827T185850Z
UID:10001034-1725264000-1725282000@aa.edu.ar
SUMMARY:SALIDA 2° AÑO
DESCRIPTION:Salida de 2do año al centro de la Ciudad de Córdoba par air conociendo nuestra Ciudad. \nSalida: 8h \nLlegada al colegio: 13h
URL:https://aa.edu.ar/evento/salida-2-ano/
CATEGORIES:Secundario
END:VEVENT
BEGIN:VEVENT
DTSTART;VALUE=DATE:20240903
DTEND;VALUE=DATE:20240925
DTSTAMP:20260423T022334
CREATED:20240902T162810Z
LAST-MODIFIED:20240902T163238Z
UID:10001037-1725321600-1727222399@aa.edu.ar
SUMMARY:INTERCAMBIO - EE.UU E INGLATERRA.
DESCRIPTION:Estudiantes de 5to año realizan el intercambio a Nueva York\, EE.UU y luego siguen a Londres junto a Paula Rigali y  Cristian Peralta
URL:https://aa.edu.ar/evento/partida-de-intercambios/
CATEGORIES:Secundario
END:VEVENT
BEGIN:VEVENT
DTSTART;TZID=America/Argentina/Cordoba:20240903T180000
DTEND;TZID=America/Argentina/Cordoba:20240903T183000
DTSTAMP:20260423T022334
CREATED:20240902T162051Z
LAST-MODIFIED:20240902T162051Z
UID:10001036-1725386400-1725388200@aa.edu.ar
SUMMARY:CEREMONIA DE ENTREGA DE PREMIOS - OUTSTANDING ESSARP - CAMBRIDGE LEARNER AWARS
DESCRIPTION:Ceremonia de Entrega de Premios\nOutstanding ESSARP – Cambridge Learner Award \nLugar: Auditorio de la Universidad Católica Argentina\nCiudad Autónoma de Buenos Aires \nHorario: 18:00h\nSerán premiados: Franco Fontana\, Virginia Prandi y Gastón Castillo Moro \n 
URL:https://aa.edu.ar/evento/ceremonia-de-entrega-de-premios-outstanding-essarp-cambridge-learner-awars/
CATEGORIES:Secundario
END:VEVENT
BEGIN:VEVENT
DTSTART;VALUE=DATE:20240904
DTEND;VALUE=DATE:20240905
DTSTAMP:20260423T022334
CREATED:20240731T154639Z
LAST-MODIFIED:20240731T154639Z
UID:10001019-1725408000-1725494399@aa.edu.ar
SUMMARY:VIDA EN LA NATURALEZA - 2do grado 🌳
DESCRIPTION:Vida en la naturaleza \n2do grado en Las Jarillas
URL:https://aa.edu.ar/evento/vida-en-la-naturaleza-2do-grado-%f0%9f%8c%b3/
CATEGORIES:Primario
END:VEVENT
BEGIN:VEVENT
DTSTART;TZID=America/Argentina/Cordoba:20240905T090000
DTEND;TZID=America/Argentina/Cordoba:20240905T100000
DTSTAMP:20260423T022334
CREATED:20240710T131400Z
LAST-MODIFIED:20240710T140336Z
UID:10000998-1725526800-1725530400@aa.edu.ar
SUMMARY:DESAYUNO DE EGRESADOS - 20 AÑOS
DESCRIPTION:Desayuno de egresado por los 20 años \nHorario: 9h \nLugar: Biblioteca de AA
URL:https://aa.edu.ar/evento/desayuno-de-egresados-2/
LOCATION:Colegio Academia Argüello\, ↗️ Ampliación Av. Rafael Nuñez esquina Pozo de la Loma.\, Córdoba\, Córdoba\, 5000\, Argentina
CATEGORIES:Institucional
END:VEVENT
BEGIN:VEVENT
DTSTART;TZID=America/Argentina/Cordoba:20240906T140000
DTEND;TZID=America/Argentina/Cordoba:20240906T160000
DTSTAMP:20260423T022334
CREATED:20240710T123945Z
LAST-MODIFIED:20240710T123945Z
UID:10000983-1725631200-1725638400@aa.edu.ar
SUMMARY:CERTAMEN PROVINCIAL DE OLIMPÍADAS CORDOBESAS DE MATEMÁTICA
DESCRIPTION:Certamen Provincial de Olimpíadas Cordobesas de Matemática \nEstudiantes afectados de 1ro a 6to año de 14h a 16h
URL:https://aa.edu.ar/evento/certamen-provincial-de-olimpiadas-cordobesas-de-matematica/
CATEGORIES:Secundario
END:VEVENT
BEGIN:VEVENT
DTSTART;VALUE=DATE:20240907
DTEND;VALUE=DATE:20240928
DTSTAMP:20260423T022334
CREATED:20240902T163010Z
LAST-MODIFIED:20240916T121902Z
UID:10001038-1725667200-1727481599@aa.edu.ar
SUMMARY:INTERCAMBIO- FRANCIA
DESCRIPTION:Estudiantes de 5to año realizan el intercambio a Francia junto a Marcela Bertolini y  Carolina Fontana.
URL:https://aa.edu.ar/evento/partida-de-intercambio-francia/
CATEGORIES:Secundario
END:VEVENT
BEGIN:VEVENT
DTSTART;TZID=America/Argentina/Cordoba:20240907T100000
DTEND;TZID=America/Argentina/Cordoba:20240907T120000
DTSTAMP:20260423T022334
CREATED:20240903T160338Z
LAST-MODIFIED:20240903T191408Z
UID:10001040-1725703200-1725710400@aa.edu.ar
SUMMARY:TORNEO DE HOCKEY
DESCRIPTION:Torneo de hockey en el colegio Taborin
URL:https://aa.edu.ar/evento/torneo-de-hockey-3/
CATEGORIES:Primario
END:VEVENT
END:VCALENDAR