BEGIN:VCALENDAR
VERSION:2.0
PRODID:-//Academia Arguello - ECPv6.8.1//NONSGML v1.0//EN
CALSCALE:GREGORIAN
METHOD:PUBLISH
X-ORIGINAL-URL:https://aa.edu.ar
X-WR-CALDESC:Eventos para Academia Arguello
REFRESH-INTERVAL;VALUE=DURATION:PT1H
X-Robots-Tag:noindex
X-PUBLISHED-TTL:PT1H
BEGIN:VTIMEZONE
TZID:America/Argentina/Cordoba
BEGIN:STANDARD
TZOFFSETFROM:-0300
TZOFFSETTO:-0300
TZNAME:-03
DTSTART:20240101T000000
END:STANDARD
END:VTIMEZONE
BEGIN:VEVENT
DTSTART;TZID=America/Argentina/Cordoba:20240722T092000
DTEND;TZID=America/Argentina/Cordoba:20240722T103000
DTSTAMP:20260425T073807
CREATED:20240708T142941Z
LAST-MODIFIED:20240708T143925Z
UID:10000958-1721640000-1721644200@aa.edu.ar
SUMMARY:ASSEMBLY: PRESENTACIÓN DE PINEHURST
DESCRIPTION:Assembly en la biblioteca. \nPresentación de Pinehurst \nHorario: 9:20 to 10:30h \n 
URL:https://aa.edu.ar/evento/assembly-presentacion-de-pinehurst/
LOCATION:Colegio Academia Argüello\, ↗️ Ampliación Av. Rafael Nuñez esquina Pozo de la Loma.\, Córdoba\, Córdoba\, 5000\, Argentina
CATEGORIES:Secundario
END:VEVENT
BEGIN:VEVENT
DTSTART;TZID=America/Argentina/Cordoba:20240723T100000
DTEND;TZID=America/Argentina/Cordoba:20240723T120000
DTSTAMP:20260425T073807
CREATED:20240708T150102Z
LAST-MODIFIED:20240708T150102Z
UID:10000959-1721728800-1721736000@aa.edu.ar
SUMMARY:TALLER SOBRE ECONOMIA CIRCULAR
DESCRIPTION:Taller sobre Economía Circular (presentación y visita a Coop Eco Lourdes) con estudiantes de Nueva Zelanda\, hermanos\, algunos voluntarios de RSE  y sexto grado de primaria. \nHorario: 10 a 12 h \nResponsable: Pilar Cirac
URL:https://aa.edu.ar/evento/taller-sobre-economia-circular/
LOCATION:Colegio Academia Argüello\, ↗️ Ampliación Av. Rafael Nuñez esquina Pozo de la Loma.\, Córdoba\, Córdoba\, 5000\, Argentina
CATEGORIES:Secundario
END:VEVENT
BEGIN:VEVENT
DTSTART;VALUE=DATE:20240726
DTEND;VALUE=DATE:20240727
DTSTAMP:20260425T073807
CREATED:20240708T185025Z
LAST-MODIFIED:20240708T185025Z
UID:10000960-1721952000-1722038399@aa.edu.ar
SUMMARY:DAY TRIP TO LOS TERRONES\, CAPILLA DEL MONTE.
DESCRIPTION:Day Trip to Los Terrones\, Capilla del Monte \nParticipan: AA y Pinehurst. Acompaña Paula Rigali \n  \n 
URL:https://aa.edu.ar/evento/day-trip-to-los-terrones-capilla-del-monte/
LOCATION:Colegio Academia Argüello\, ↗️ Ampliación Av. Rafael Nuñez esquina Pozo de la Loma.\, Córdoba\, Córdoba\, 5000\, Argentina
CATEGORIES:Secundario
END:VEVENT
END:VCALENDAR