BEGIN:VCALENDAR
VERSION:2.0
PRODID:-//Academia Arguello - ECPv6.8.1//NONSGML v1.0//EN
CALSCALE:GREGORIAN
METHOD:PUBLISH
X-WR-CALNAME:Academia Arguello
X-ORIGINAL-URL:https://aa.edu.ar
X-WR-CALDESC:Eventos para Academia Arguello
REFRESH-INTERVAL;VALUE=DURATION:PT1H
X-Robots-Tag:noindex
X-PUBLISHED-TTL:PT1H
BEGIN:VTIMEZONE
TZID:America/Argentina/Cordoba
BEGIN:STANDARD
TZOFFSETFROM:-0300
TZOFFSETTO:-0300
TZNAME:-03
DTSTART:20240101T000000
END:STANDARD
END:VTIMEZONE
BEGIN:VEVENT
DTSTART;TZID=America/Argentina/Cordoba:20240624T080000
DTEND;TZID=America/Argentina/Cordoba:20240628T163000
DTSTAMP:20260425T081312
CREATED:20240424T122841Z
LAST-MODIFIED:20240424T132956Z
UID:10000874-1719216000-1719592200@aa.edu.ar
SUMMARY:📚 FESTIVAL DEL LIBRO Y LA PALABRA 📚
DESCRIPTION:Festival del Libro y La Palabra “Los mundos posibles” \nOrganiza Gestión Cultural.
URL:https://aa.edu.ar/evento/%f0%9f%93%9a-festival-del-libro-y-la-palabra-%f0%9f%93%9a/
LOCATION:Colegio Academia Argüello\, ↗️ Ampliación Av. Rafael Nuñez esquina Pozo de la Loma.\, Córdoba\, Córdoba\, 5000\, Argentina
CATEGORIES:Institucional
END:VEVENT
BEGIN:VEVENT
DTSTART;TZID=America/Argentina/Cordoba:20240624T081500
DTEND;TZID=America/Argentina/Cordoba:20240624T094500
DTSTAMP:20260425T081312
CREATED:20240603T134554Z
LAST-MODIFIED:20240603T134620Z
UID:10000934-1719216900-1719222300@aa.edu.ar
SUMMARY:REUNIÓN INFORMATIVA EXÁMENES INTERNACIONALES
DESCRIPTION:Reunión informativa Exámenes internacionales \nParticipan familias de cuarto año \nHorario: 8:15h – 9:45h \nLugar: Biblioteca
URL:https://aa.edu.ar/evento/reunion-informativa-examenes-internacionales/
LOCATION:Colegio Academia Argüello\, ↗️ Ampliación Av. Rafael Nuñez esquina Pozo de la Loma.\, Córdoba\, Córdoba\, 5000\, Argentina
CATEGORIES:Secundario
END:VEVENT
BEGIN:VEVENT
DTSTART;TZID=America/Argentina/Cordoba:20240624T083000
DTEND;TZID=America/Argentina/Cordoba:20240624T100000
DTSTAMP:20260425T081312
CREATED:20240614T192152Z
LAST-MODIFIED:20240624T111427Z
UID:10000941-1719217800-1719223200@aa.edu.ar
SUMMARY:PROMESA DE LEALTAD A LA BANDERA
DESCRIPTION:Los invitamos formalmente al acto del Día de la Bandera\, que se llevará a cabo el día lunes 24 de junio a las 8:45 h. Se ruega puntualidad. \nLos alumnos ingresan en el horario habitual\, con el uniforme formal. \n 
URL:https://aa.edu.ar/evento/promesa-de-lealtad-a-la-bandera/
LOCATION:Colegio Academia Argüello\, ↗️ Ampliación Av. Rafael Nuñez esquina Pozo de la Loma.\, Córdoba\, Córdoba\, 5000\, Argentina
CATEGORIES:Primario
ATTACH;FMTTYPE=image/jpeg:https://aa.edu.ar/wp-content/uploads/2024/06/tipografia-aa.jpg
END:VEVENT
BEGIN:VEVENT
DTSTART;TZID=America/Argentina/Cordoba:20240624T140000
DTEND;TZID=America/Argentina/Cordoba:20240624T160000
DTSTAMP:20260425T081312
CREATED:20240603T134740Z
LAST-MODIFIED:20240603T134740Z
UID:10000935-1719237600-1719244800@aa.edu.ar
SUMMARY:TORNEO LITERATURA Y MATEMÁTICA - 1er ronda
DESCRIPTION:Torneo Literatura y Matemática 1ra Ronda – Olimpíadas Matemática \nEstudiantes afectados de 1ro a 6to año  \nHorario: 14h a 16h
URL:https://aa.edu.ar/evento/torneo-literatura-y-matematica-1er-ronda/
LOCATION:Colegio Academia Argüello\, ↗️ Ampliación Av. Rafael Nuñez esquina Pozo de la Loma.\, Córdoba\, Córdoba\, 5000\, Argentina
CATEGORIES:Secundario
END:VEVENT
BEGIN:VEVENT
DTSTART;TZID=America/Argentina/Cordoba:20240625T140000
DTEND;TZID=America/Argentina/Cordoba:20240625T153000
DTSTAMP:20260425T081312
CREATED:20240624T112259Z
LAST-MODIFIED:20240624T112259Z
UID:10000946-1719324000-1719329400@aa.edu.ar
SUMMARY:KNITTING FOR LOVE
DESCRIPTION:Se viene el último encuentro de Knitting for love con 6to grado y sus familias\, en este encuentro los estudiantes juntaran todos los cuadraditos que fueron donados. \nTe esperamos el martes 25 a las 14h \n  \nEn biblioteca
URL:https://aa.edu.ar/evento/knitting-for-love/
LOCATION:Colegio Academia Argüello\, ↗️ Ampliación Av. Rafael Nuñez esquina Pozo de la Loma.\, Córdoba\, Córdoba\, 5000\, Argentina
CATEGORIES:Primario
END:VEVENT
BEGIN:VEVENT
DTSTART;TZID=America/Argentina/Cordoba:20240626T080000
DTEND;TZID=America/Argentina/Cordoba:20240626T170000
DTSTAMP:20260425T081312
CREATED:20240424T151828Z
LAST-MODIFIED:20240424T151828Z
UID:10000897-1719388800-1719421200@aa.edu.ar
SUMMARY:FERIA DEL LIBRO 📚
DESCRIPTION:
URL:https://aa.edu.ar/evento/feria-del-libro-%f0%9f%93%9a/
CATEGORIES:Inicial
END:VEVENT
BEGIN:VEVENT
DTSTART;TZID=America/Argentina/Cordoba:20240626T083000
DTEND;TZID=America/Argentina/Cordoba:20240626T123000
DTSTAMP:20260425T081312
CREATED:20240424T130619Z
LAST-MODIFIED:20240424T130619Z
UID:10000877-1719390600-1719405000@aa.edu.ar
SUMMARY:JORNADA DE PUERTAS ABIERTAS - Universidad Blas Pascal
DESCRIPTION:Participan estudiantes de 6° año \nHorario: 9 h a 12.30 h
URL:https://aa.edu.ar/evento/jornada-de-puertas-abiertas-universidad-blas-pascal/
CATEGORIES:Secundario
END:VEVENT
BEGIN:VEVENT
DTSTART;TZID=America/Argentina/Cordoba:20240626T140000
DTEND;TZID=America/Argentina/Cordoba:20240626T160000
DTSTAMP:20260425T081312
CREATED:20240424T130815Z
LAST-MODIFIED:20240424T130928Z
UID:10000878-1719410400-1719417600@aa.edu.ar
SUMMARY:CERTAMEN ZONAL DE OLIMPIADAS CORDOBESAS DE MATEMÁTICA
DESCRIPTION:Certamen Zonal de Olimpíadas Cordobesas de Matemática \nParticipan estudiantes afectados de 1ro a 6to año de  \nHorario: 14h a 16h
URL:https://aa.edu.ar/evento/certamen-zonal-de-olimpiadas-cordobesas-de-matematica/
CATEGORIES:Secundario
END:VEVENT
BEGIN:VEVENT
DTSTART;TZID=America/Argentina/Cordoba:20240626T170000
DTEND;TZID=America/Argentina/Cordoba:20240626T190000
DTSTAMP:20260425T081312
CREATED:20240627T112258Z
LAST-MODIFIED:20240627T112258Z
UID:10000950-1719421200-1719428400@aa.edu.ar
SUMMARY:PRESENTACIÓN DE LIBRO CON MARITCHU Y SOFIA CHAS
DESCRIPTION:
URL:https://aa.edu.ar/evento/presentacion-de-libro-con-maritchu-y-sofia-chas/
LOCATION:Colegio Academia Argüello\, ↗️ Ampliación Av. Rafael Nuñez esquina Pozo de la Loma.\, Córdoba\, Córdoba\, 5000\, Argentina
CATEGORIES:Institucional
END:VEVENT
BEGIN:VEVENT
DTSTART;TZID=America/Argentina/Cordoba:20240627T100000
DTEND;TZID=America/Argentina/Cordoba:20240627T113000
DTSTAMP:20260425T081312
CREATED:20240503T112332Z
LAST-MODIFIED:20240503T112332Z
UID:10000904-1719482400-1719487800@aa.edu.ar
SUMMARY:VISITA DE OLIVIER LAGAHUZERE
DESCRIPTION:Visita la escuela\, el responsable de AEFE (l’Agence pour l’enseignement français à l’étrange) Olivier Lagahuzere. Organiza el departamento de francés \nHorario: 10am \nLugar:
URL:https://aa.edu.ar/evento/visita-de-olivier-lagahuzere/
LOCATION:Colegio Academia Argüello\, ↗️ Ampliación Av. Rafael Nuñez esquina Pozo de la Loma.\, Córdoba\, Córdoba\, 5000\, Argentina
CATEGORIES:Institucional
END:VEVENT
BEGIN:VEVENT
DTSTART;TZID=America/Argentina/Cordoba:20240627T130000
DTEND;TZID=America/Argentina/Cordoba:20240627T170000
DTSTAMP:20260425T081312
CREATED:20240626T113328Z
LAST-MODIFIED:20240626T113328Z
UID:10000947-1719493200-1719507600@aa.edu.ar
SUMMARY:Certamen Zonal de Ñandú - Olimpíadas de Matemática
DESCRIPTION:Estudiantes afectados de 1ro año de 13h a 17h \n 
URL:https://aa.edu.ar/evento/certamen-zonal-de-nandu-olimpiadas-de-matematica/
CATEGORIES:Secundario
END:VEVENT
BEGIN:VEVENT
DTSTART;TZID=America/Argentina/Cordoba:20240627T153000
DTEND;TZID=America/Argentina/Cordoba:20240627T163000
DTSTAMP:20260425T081312
CREATED:20240627T111516Z
LAST-MODIFIED:20240627T111516Z
UID:10000949-1719502200-1719505800@aa.edu.ar
SUMMARY:CONVERSATORIO CON MARITCHU SOBRE NUESTROS HIJOS PEQUEÑOS
DESCRIPTION:Charla con Maritchu y presentación del taller  “Conversando sobre nuestros hijos pequeños” \nDirecto de Buenos Aires\, viene Maritchu a presentar su taller y conversar con padres sobre los hijos pequeños. \nLugar: Biblioteca \nHorario: 15:30h \n  \nAbierto al público en general. Inscribite en el siguiente link: https://forms.gle/cVsAkPqsGpaYdmAU6
URL:https://aa.edu.ar/evento/conversatorio-con-maritchu-sobre-nuestros-hijos-pequenos/
LOCATION:Colegio Academia Argüello\, ↗️ Ampliación Av. Rafael Nuñez esquina Pozo de la Loma.\, Córdoba\, Córdoba\, 5000\, Argentina
CATEGORIES:Institucional
END:VEVENT
BEGIN:VEVENT
DTSTART;TZID=America/Argentina/Cordoba:20240628T080000
DTEND;TZID=America/Argentina/Cordoba:20240628T082000
DTSTAMP:20260425T081312
CREATED:20240424T114237Z
LAST-MODIFIED:20240424T114324Z
UID:10000131-1719561600-1719562800@aa.edu.ar
SUMMARY:FESTEJO DE CUMPLEAÑOS 🎂🍰
DESCRIPTION:En formación de primario se canta el feliz cumpleaños a los compañeros que cumplieron en la semana .
URL:https://aa.edu.ar/evento/festejo-de-cumpleanos-%f0%9f%8e%82%f0%9f%8d%b0/2024-06-28/
LOCATION:Colegio Academia Argüello\, ↗️ Ampliación Av. Rafael Nuñez esquina Pozo de la Loma.\, Córdoba\, Córdoba\, 5000\, Argentina
CATEGORIES:Primario
END:VEVENT
BEGIN:VEVENT
DTSTART;TZID=America/Argentina/Cordoba:20240628T110000
DTEND;TZID=America/Argentina/Cordoba:20240628T120000
DTSTAMP:20260425T081312
CREATED:20240424T131402Z
LAST-MODIFIED:20240626T113151Z
UID:10000879-1719572400-1719576000@aa.edu.ar
SUMMARY:ENCUENTRO CON PERLA SUEZ
DESCRIPTION:Dentro del marco del Festival Del Libro y la Palabra se realizará el encuentro de 5° año con la escritora Perla Suez. \n 
URL:https://aa.edu.ar/evento/encuentro-con-perla-suez/
LOCATION:Colegio Academia Argüello\, ↗️ Ampliación Av. Rafael Nuñez esquina Pozo de la Loma.\, Córdoba\, Córdoba\, 5000\, Argentina
CATEGORIES:Secundario
END:VEVENT
BEGIN:VEVENT
DTSTART;TZID=America/Argentina/Cordoba:20240628T130000
DTEND;TZID=America/Argentina/Cordoba:20240628T140000
DTSTAMP:20260425T081312
CREATED:20240506T180842Z
LAST-MODIFIED:20240624T111518Z
UID:10000908-1719579600-1719583200@aa.edu.ar
SUMMARY:FERIA DEL LIBRO
DESCRIPTION:Evento grande de la Feria de libro\, en el cierre del Festival del Libro y la Palabra
URL:https://aa.edu.ar/evento/feria-del-libro/
LOCATION:Colegio Academia Argüello\, ↗️ Ampliación Av. Rafael Nuñez esquina Pozo de la Loma.\, Córdoba\, Córdoba\, 5000\, Argentina
CATEGORIES:Primario
END:VEVENT
BEGIN:VEVENT
DTSTART;TZID=America/Argentina/Cordoba:20240629T080000
DTEND;TZID=America/Argentina/Cordoba:20240629T170000
DTSTAMP:20260425T081312
CREATED:20240626T190852Z
LAST-MODIFIED:20240701T114055Z
UID:10000948-1719648000-1719680400@aa.edu.ar
SUMMARY:ENCUENTRO DE FÚTBOL INTERCOLEGIAL
DESCRIPTION:Se realizara en el colegio CASTEL FRANCO\, en su campo de deportes ubicado en Av. Gauss\, equinas Blas Pascal (complejo “Muy fútbol”) \n  \nEL horario será: \n6to grado: 9:10h \n5to grado: 9:30h \n4to grado: 10:45h \n3er\, 2do y 1er grado: 10h a 12hs \n  \nLos estudiantes deberan asistir con uniforme de fútbol\, o remera gris de Educación física. Por consultas: 3515161930 (Prof. Fabian) \n 
URL:https://aa.edu.ar/evento/encuentro-de-futbol-intercolegial-3/
CATEGORIES:Primario
END:VEVENT
END:VCALENDAR