BEGIN:VCALENDAR
VERSION:2.0
PRODID:-//Academia Arguello - ECPv6.8.1//NONSGML v1.0//EN
CALSCALE:GREGORIAN
METHOD:PUBLISH
X-WR-CALNAME:Academia Arguello
X-ORIGINAL-URL:https://aa.edu.ar
X-WR-CALDESC:Eventos para Academia Arguello
REFRESH-INTERVAL;VALUE=DURATION:PT1H
X-Robots-Tag:noindex
X-PUBLISHED-TTL:PT1H
BEGIN:VTIMEZONE
TZID:America/Argentina/Cordoba
BEGIN:STANDARD
TZOFFSETFROM:-0300
TZOFFSETTO:-0300
TZNAME:-03
DTSTART:20240101T000000
END:STANDARD
TZID:America/Sao_Paulo
BEGIN:STANDARD
TZOFFSETFROM:-0300
TZOFFSETTO:-0300
TZNAME:-03
DTSTART:20240101T000000
END:STANDARD
END:VTIMEZONE
BEGIN:VEVENT
DTSTART;VALUE=DATE:20240617
DTEND;VALUE=DATE:20240618
DTSTAMP:20260425T074059
CREATED:20240424T141559Z
LAST-MODIFIED:20240424T141559Z
UID:10000892-1718582400-1718668799@aa.edu.ar
SUMMARY:PASO A LA INMORTALIDAD DEL GRAL DON MARTIN DE GÜEMES
DESCRIPTION:Feriado Nacional
URL:https://aa.edu.ar/evento/paso-a-la-inmortalidad-del-gral-don-martin-de-guemes/
CATEGORIES:Institucional
END:VEVENT
BEGIN:VEVENT
DTSTART;TZID=America/Argentina/Cordoba:20240618T133000
DTEND;TZID=America/Argentina/Cordoba:20240618T143000
DTSTAMP:20260425T074059
CREATED:20240618T143520Z
LAST-MODIFIED:20240618T143520Z
UID:10000942-1718717400-1718721000@aa.edu.ar
SUMMARY:Charla de Elena Onassis a 4° y 5° grado.
DESCRIPTION:Charla de Elena Onassis sobre ciberacoso\, precauciones esenciales para navegar de manera segura en redes sociales y juegos en línea\, así como el desarrollo de habilidades de ciudadanía digital. \n\nDestinado a  estudiantes de 5to y 6to grado. \nHorario: 13.30h \nLugar: Bilbioteca
URL:https://aa.edu.ar/evento/charla-de-elena-onassis-a-4-y-5-grado/
LOCATION:Colegio Academia Argüello\, ↗️ Ampliación Av. Rafael Nuñez esquina Pozo de la Loma.\, Córdoba\, Córdoba\, 5000\, Argentina
CATEGORIES:Primario
END:VEVENT
BEGIN:VEVENT
DTSTART;TZID=America/Argentina/Cordoba:20240619T100000
DTEND;TZID=America/Argentina/Cordoba:20240619T110000
DTSTAMP:20260425T074059
CREATED:20240618T144417Z
LAST-MODIFIED:20240618T153407Z
UID:10000943-1718791200-1718794800@aa.edu.ar
SUMMARY:ACTO DÍA DE LA BANDERA
DESCRIPTION:Acto Día de la Bandera \nHorario: 10.00 h. \nLugar: Biblioteca \n 
URL:https://aa.edu.ar/evento/acto-dia-de-la-bandera/
CATEGORIES:Secundario
END:VEVENT
BEGIN:VEVENT
DTSTART;TZID=America/Argentina/Cordoba:20240619T133000
DTEND;TZID=America/Argentina/Cordoba:20240619T160000
DTSTAMP:20260425T074059
CREATED:20240618T184137Z
LAST-MODIFIED:20240618T184137Z
UID:10000944-1718803800-1718812800@aa.edu.ar
SUMMARY:EXAMENES DE INGLÉS
DESCRIPTION:Examen de inglés en 6to grado \nLugar: biblioteca
URL:https://aa.edu.ar/evento/examenes-de-ingles/
CATEGORIES:Primario
END:VEVENT
BEGIN:VEVENT
DTSTART;VALUE=DATE:20240620
DTEND;VALUE=DATE:20240621
DTSTAMP:20260425T074059
CREATED:20230330T145000Z
LAST-MODIFIED:20240425T122153Z
UID:10000041-1718841600-1718927999@aa.edu.ar
SUMMARY:DÍA DE LA BANDERA
DESCRIPTION:En homenaje al paso a la Inmortalidad del General Manuel Belgrano
URL:https://aa.edu.ar/evento/dia-de-la-bandera/
CATEGORIES:Institucional
ATTACH;FMTTYPE=image/jpeg:https://aa.edu.ar/wp-content/uploads/2023/03/images.jpg
END:VEVENT
BEGIN:VEVENT
DTSTART;VALUE=DATE:20240621
DTEND;VALUE=DATE:20240622
DTSTAMP:20260425T074059
CREATED:20240424T143358Z
LAST-MODIFIED:20240424T144515Z
UID:10000894-1718928000-1719014399@aa.edu.ar
SUMMARY:FERIADO TURISTICO
DESCRIPTION:Feriado Nacional por el día de la bandera. No hay actividades.
URL:https://aa.edu.ar/evento/dia-de-la-bandera-argentina/
CATEGORIES:Institucional
END:VEVENT
END:VCALENDAR