BEGIN:VCALENDAR
VERSION:2.0
PRODID:-//Academia Arguello - ECPv6.8.1//NONSGML v1.0//EN
CALSCALE:GREGORIAN
METHOD:PUBLISH
X-WR-CALNAME:Academia Arguello
X-ORIGINAL-URL:https://aa.edu.ar
X-WR-CALDESC:Eventos para Academia Arguello
REFRESH-INTERVAL;VALUE=DURATION:PT1H
X-Robots-Tag:noindex
X-PUBLISHED-TTL:PT1H
BEGIN:VTIMEZONE
TZID:America/Argentina/Cordoba
BEGIN:STANDARD
TZOFFSETFROM:-0300
TZOFFSETTO:-0300
TZNAME:-03
DTSTART:20240101T000000
END:STANDARD
END:VTIMEZONE
BEGIN:VEVENT
DTSTART;VALUE=DATE:20240610
DTEND;VALUE=DATE:20240615
DTSTAMP:20260425T073452
CREATED:20240424T121613Z
LAST-MODIFIED:20240424T123659Z
UID:10000504-1717977600-1718409599@aa.edu.ar
SUMMARY:JORNADA DE PUERTAS ABIERTAS UCC
DESCRIPTION:Jornadas de puertas abiertas en la Universidad Católica de Córdoba. Participa 5° y 6° año
URL:https://aa.edu.ar/evento/jornada-de-puertas-abiertas-ucc/
CATEGORIES:Secundario
END:VEVENT
BEGIN:VEVENT
DTSTART;VALUE=DATE:20240610
DTEND;VALUE=DATE:20240615
DTSTAMP:20260425T073452
CREATED:20240424T151743Z
LAST-MODIFIED:20240424T151743Z
UID:10000896-1717977600-1718409599@aa.edu.ar
SUMMARY:🌎 SEMANA DEL MEDIO AMBIENTE 🌍
DESCRIPTION:Continuamos trabajando el eje del cuerpo en relación con el espacio donde vivimos\, reciclado y clasificación de residuos\, rehusar\, reutilizar. 
URL:https://aa.edu.ar/evento/%f0%9f%8c%8e-semana-del-medio-ambiente-%f0%9f%8c%8d/
LOCATION:Colegio Academia Argüello\, ↗️ Ampliación Av. Rafael Nuñez esquina Pozo de la Loma.\, Córdoba\, Córdoba\, 5000\, Argentina
CATEGORIES:Inicial
END:VEVENT
BEGIN:VEVENT
DTSTART;TZID=America/Argentina/Cordoba:20240611T080000
DTEND;TZID=America/Argentina/Cordoba:20240611T093000
DTSTAMP:20260425T073452
CREATED:20240603T125219Z
LAST-MODIFIED:20240603T125219Z
UID:10000928-1718092800-1718098200@aa.edu.ar
SUMMARY:INTERCULTURALIDAD - 5to GRADO
DESCRIPTION:Se viene la Interculturalidad en 5° grado el 11 de Junio de 8h a 9.30h
URL:https://aa.edu.ar/evento/interculturalidad-5to-grado/
LOCATION:Colegio Academia Argüello\, ↗️ Ampliación Av. Rafael Nuñez esquina Pozo de la Loma.\, Córdoba\, Córdoba\, 5000\, Argentina
CATEGORIES:Primario
END:VEVENT
BEGIN:VEVENT
DTSTART;TZID=America/Argentina/Cordoba:20240611T143000
DTEND;TZID=America/Argentina/Cordoba:20240611T161500
DTSTAMP:20260425T073452
CREATED:20240611T110839Z
LAST-MODIFIED:20240611T110839Z
UID:10000937-1718116200-1718122500@aa.edu.ar
SUMMARY:ENGLISH EXAMS
DESCRIPTION:Exámenes de inglés para 5° grado.
URL:https://aa.edu.ar/evento/english-exams/
LOCATION:Colegio Academia Argüello\, ↗️ Ampliación Av. Rafael Nuñez esquina Pozo de la Loma.\, Córdoba\, Córdoba\, 5000\, Argentina
CATEGORIES:Primario
END:VEVENT
BEGIN:VEVENT
DTSTART;TZID=America/Argentina/Cordoba:20240611T143000
DTEND;TZID=America/Argentina/Cordoba:20240611T163000
DTSTAMP:20260425T073452
CREATED:20240603T133709Z
LAST-MODIFIED:20240603T133907Z
UID:10000932-1718116200-1718123400@aa.edu.ar
SUMMARY:ESSARP Creative Writing Competition
DESCRIPTION:ESSARP Creative Writing Competition \nLugar: Aula de capacitación \nHorario: 14:30h-16:30h
URL:https://aa.edu.ar/evento/essarp-creative-writing-competition/
LOCATION:Colegio Academia Argüello\, ↗️ Ampliación Av. Rafael Nuñez esquina Pozo de la Loma.\, Córdoba\, Córdoba\, 5000\, Argentina
CATEGORIES:Secundario
END:VEVENT
BEGIN:VEVENT
DTSTART;TZID=America/Argentina/Cordoba:20240611T160000
DTEND;TZID=America/Argentina/Cordoba:20240611T170000
DTSTAMP:20260425T073452
CREATED:20240603T134135Z
LAST-MODIFIED:20240603T134409Z
UID:10000933-1718121600-1718125200@aa.edu.ar
SUMMARY:TORNEO MATECLUBES - 1ER RONDA
DESCRIPTION:Torneo Mateclubes 1ra Ronda – Olimpíadas Matemática\nEstudiantes afectados de 1ro a 4to año. \nHorario: 14h a 16h
URL:https://aa.edu.ar/evento/torneo-mateclubes-1er-ronda/
LOCATION:Colegio Academia Argüello\, ↗️ Ampliación Av. Rafael Nuñez esquina Pozo de la Loma.\, Córdoba\, Córdoba\, 5000\, Argentina
CATEGORIES:Secundario
END:VEVENT
BEGIN:VEVENT
DTSTART;TZID=America/Argentina/Cordoba:20240612T080000
DTEND;TZID=America/Argentina/Cordoba:20240612T170000
DTSTAMP:20260425T073452
CREATED:20240424T135500Z
LAST-MODIFIED:20240610T125751Z
UID:10000890-1718179200-1718211600@aa.edu.ar
SUMMARY:LA ESCUELA POSIBLE: Jornada de formación situada
DESCRIPTION:Jornada de formación a  docentes. No asisten estudiantes. Realizan tareas de manera remota desde sus hogares.
URL:https://aa.edu.ar/evento/la-escuela-posible-jornada-de-capacitacion/
LOCATION:Colegio Academia Argüello\, ↗️ Ampliación Av. Rafael Nuñez esquina Pozo de la Loma.\, Córdoba\, Córdoba\, 5000\, Argentina
CATEGORIES:Institucional
END:VEVENT
BEGIN:VEVENT
DTSTART;TZID=America/Argentina/Cordoba:20240612T080000
DTEND;TZID=America/Argentina/Cordoba:20240614T170000
DTSTAMP:20260425T073452
CREATED:20240610T125914Z
LAST-MODIFIED:20240610T133740Z
UID:10000936-1718179200-1718384400@aa.edu.ar
SUMMARY:JORNADA DE INTEGRACIÓN DE SABERES (JIS)
DESCRIPTION:Se realizan los días 12\, 13 y 14 de Junio.
URL:https://aa.edu.ar/evento/jornada-de-integracion-de-saberes-jis/
LOCATION:Colegio Academia Argüello\, ↗️ Ampliación Av. Rafael Nuñez esquina Pozo de la Loma.\, Córdoba\, Córdoba\, 5000\, Argentina
CATEGORIES:Secundario
END:VEVENT
BEGIN:VEVENT
DTSTART;TZID=America/Argentina/Cordoba:20240613T133000
DTEND;TZID=America/Argentina/Cordoba:20240613T163000
DTSTAMP:20260425T073452
CREATED:20240611T110958Z
LAST-MODIFIED:20240611T111108Z
UID:10000938-1718285400-1718296200@aa.edu.ar
SUMMARY:ENGLISH EXAMS
DESCRIPTION:Exámenes de inglés para 6° grado.
URL:https://aa.edu.ar/evento/english-exams-2/
LOCATION:Colegio Academia Argüello\, ↗️ Ampliación Av. Rafael Nuñez esquina Pozo de la Loma.\, Córdoba\, Córdoba\, 5000\, Argentina
CATEGORIES:Primario
END:VEVENT
BEGIN:VEVENT
DTSTART;TZID=America/Argentina/Cordoba:20240614T080000
DTEND;TZID=America/Argentina/Cordoba:20240614T082000
DTSTAMP:20260425T073452
CREATED:20240424T114237Z
LAST-MODIFIED:20240424T114324Z
UID:10000129-1718352000-1718353200@aa.edu.ar
SUMMARY:FESTEJO DE CUMPLEAÑOS 🎂🍰
DESCRIPTION:En formación de primario se canta el feliz cumpleaños a los compañeros que cumplieron en la semana .
URL:https://aa.edu.ar/evento/festejo-de-cumpleanos-%f0%9f%8e%82%f0%9f%8d%b0/2024-06-14/
LOCATION:Colegio Academia Argüello\, ↗️ Ampliación Av. Rafael Nuñez esquina Pozo de la Loma.\, Córdoba\, Córdoba\, 5000\, Argentina
CATEGORIES:Primario
END:VEVENT
BEGIN:VEVENT
DTSTART;TZID=America/Argentina/Cordoba:20240614T133000
DTEND;TZID=America/Argentina/Cordoba:20240614T163000
DTSTAMP:20260425T073452
CREATED:20240611T111202Z
LAST-MODIFIED:20240611T111202Z
UID:10000939-1718371800-1718382600@aa.edu.ar
SUMMARY:ENGLISH EXAMS
DESCRIPTION:Exámenes de inglés para 6° grado.
URL:https://aa.edu.ar/evento/english-exams-3/
LOCATION:Colegio Academia Argüello\, ↗️ Ampliación Av. Rafael Nuñez esquina Pozo de la Loma.\, Córdoba\, Córdoba\, 5000\, Argentina
CATEGORIES:Primario
END:VEVENT
BEGIN:VEVENT
DTSTART;TZID=America/Argentina/Cordoba:20240614T140000
DTEND;TZID=America/Argentina/Cordoba:20240614T162000
DTSTAMP:20260425T073452
CREATED:20240531T192803Z
LAST-MODIFIED:20240531T192803Z
UID:10000924-1718373600-1718382000@aa.edu.ar
SUMMARY:MUESTRA DE SALAS DE 4
DESCRIPTION:Muestra de Salas de 4 Doble Escolaridad \nHorario: De 14:00 a 16:20 h \nLugar: Biblioteca
URL:https://aa.edu.ar/evento/muestra-de-salas-de-4/
LOCATION:Colegio Academia Argüello\, ↗️ Ampliación Av. Rafael Nuñez esquina Pozo de la Loma.\, Córdoba\, Córdoba\, 5000\, Argentina
CATEGORIES:Inicial
END:VEVENT
BEGIN:VEVENT
DTSTART;TZID=America/Argentina/Cordoba:20240615T083000
DTEND;TZID=America/Argentina/Cordoba:20240615T120000
DTSTAMP:20260425T073452
CREATED:20240611T111314Z
LAST-MODIFIED:20240611T111314Z
UID:10000940-1718440200-1718452800@aa.edu.ar
SUMMARY:TORNEO DE HOCKEY
DESCRIPTION:Torneo de hockey en las instalaciones de Academia Argüello.
URL:https://aa.edu.ar/evento/torneo-de-hockey/
LOCATION:Colegio Academia Argüello\, ↗️ Ampliación Av. Rafael Nuñez esquina Pozo de la Loma.\, Córdoba\, Córdoba\, 5000\, Argentina
CATEGORIES:Institucional
END:VEVENT
BEGIN:VEVENT
DTSTART;VALUE=DATE:20240616
DTEND;VALUE=DATE:20240617
DTSTAMP:20260425T073452
CREATED:20240424T141311Z
LAST-MODIFIED:20240424T141311Z
UID:10000891-1718496000-1718582399@aa.edu.ar
SUMMARY:DÍA DEL PADRE
DESCRIPTION:
URL:https://aa.edu.ar/evento/dia-del-padre/
CATEGORIES:Institucional
END:VEVENT
END:VCALENDAR