BEGIN:VCALENDAR
VERSION:2.0
PRODID:-//Academia Arguello - ECPv6.8.1//NONSGML v1.0//EN
CALSCALE:GREGORIAN
METHOD:PUBLISH
X-WR-CALNAME:Academia Arguello
X-ORIGINAL-URL:https://aa.edu.ar
X-WR-CALDESC:Eventos para Academia Arguello
REFRESH-INTERVAL;VALUE=DURATION:PT1H
X-Robots-Tag:noindex
X-PUBLISHED-TTL:PT1H
BEGIN:VTIMEZONE
TZID:America/Argentina/Cordoba
BEGIN:STANDARD
TZOFFSETFROM:-0300
TZOFFSETTO:-0300
TZNAME:-03
DTSTART:20240101T000000
END:STANDARD
END:VTIMEZONE
BEGIN:VEVENT
DTSTART;TZID=America/Argentina/Cordoba:20240520T080000
DTEND;TZID=America/Argentina/Cordoba:20240605T170000
DTSTAMP:20260425T074058
CREATED:20240522T155605Z
LAST-MODIFIED:20240603T114508Z
UID:10000919-1716192000-1717606800@aa.edu.ar
SUMMARY:CAMPAÑA DEL ABRIGO
DESCRIPTION:Del 20 de mayo al 25 de junio \nRecibimos:\nRopa -Frazadas – Gorros – Guantes – Bufandas\n(nuevos o usados en buen estado). \nA beneficio de las organizaciones sociales vecinas \nLe sumamos Kitting for Love\, una campaña que se realizaba en años anteriores y ahora volvemos con mucho más. Organizado por 6to grado\, los voluntarios de RSE y madres kiosqueras\, para juntar y realizar cuadraditos de lana\, tela de 20×20 y poder crear frazadas y colchas para donar.  \nConsultas a rse@aa.edu.ar \n  \n 
URL:https://aa.edu.ar/evento/campana-del-abrigo/
LOCATION:Colegio Academia Argüello\, ↗️ Ampliación Av. Rafael Nuñez esquina Pozo de la Loma.\, Córdoba\, Córdoba\, 5000\, Argentina
CATEGORIES:Institucional
ATTACH;FMTTYPE=image/jpeg:https://aa.edu.ar/wp-content/uploads/2024/05/instagram.jpg
END:VEVENT
BEGIN:VEVENT
DTSTART;TZID=America/Argentina/Cordoba:20240603T080000
DTEND;TZID=America/Argentina/Cordoba:20240604T170000
DTSTAMP:20260425T074058
CREATED:20240424T115121Z
LAST-MODIFIED:20240424T115555Z
UID:10000134-1717401600-1717520400@aa.edu.ar
SUMMARY:VIDA EN AL NATURALEZA - 3° año 🌳🏕
DESCRIPTION:Salida de Vida en la Naturaleza \nEstudiantes de 3° año. \nLugar:  Campo Los Reartes \n3 y 4 de Junio \n 
URL:https://aa.edu.ar/evento/vida-en-al-naturaleza-3-ano-%f0%9f%8c%b3%f0%9f%8f%95/
CATEGORIES:Secundario
END:VEVENT
BEGIN:VEVENT
DTSTART;TZID=America/Argentina/Cordoba:20240603T080000
DTEND;TZID=America/Argentina/Cordoba:20240607T081000
DTSTAMP:20260425T074058
CREATED:20240424T114907Z
LAST-MODIFIED:20240514T192936Z
UID:10000875-1717401600-1717747800@aa.edu.ar
SUMMARY:PAL - Programa de Acompañamiento Laboral
DESCRIPTION:Programa de Acompañamiento Laboral – PAL \nParticipa sexto año \nLugar y horario a confirmar
URL:https://aa.edu.ar/evento/pal-programa-de-acompanamiento-laboral/
CATEGORIES:Secundario
END:VEVENT
BEGIN:VEVENT
DTSTART;TZID=America/Argentina/Cordoba:20240603T150000
DTEND;TZID=America/Argentina/Cordoba:20240603T160000
DTSTAMP:20260425T074058
CREATED:20240408T135342Z
LAST-MODIFIED:20240603T115209Z
UID:10000093-1717426800-1717430400@aa.edu.ar
SUMMARY:CLASE ABIERTA - 1er grado 🏃‍♂️🏃‍♀️
DESCRIPTION:Clase abierta de Educación Física de 1er grado para familias. \nHorario: 15h \n 
URL:https://aa.edu.ar/evento/clase-abierta-1er-grado/
LOCATION:Colegio Academia Argüello\, ↗️ Ampliación Av. Rafael Nuñez esquina Pozo de la Loma.\, Córdoba\, Córdoba\, 5000\, Argentina
CATEGORIES:Primario
ATTACH;FMTTYPE=image/jpeg:https://aa.edu.ar/wp-content/uploads/2024/04/dsc_0230-scaled.jpg
END:VEVENT
BEGIN:VEVENT
DTSTART;TZID=America/Argentina/Cordoba:20240604T140000
DTEND;TZID=America/Argentina/Cordoba:20240604T150000
DTSTAMP:20260425T074058
CREATED:20240603T120831Z
LAST-MODIFIED:20240603T120831Z
UID:10000926-1717509600-1717513200@aa.edu.ar
SUMMARY:CHARLA UNIVERSIDAD BLAS PASCAL
DESCRIPTION: Quinto año participa de charla de UBP sobre orientación vocacional  \nHorario: 14hs
URL:https://aa.edu.ar/evento/charla-universidad-blas-pascal/
LOCATION:Colegio Academia Argüello\, ↗️ Ampliación Av. Rafael Nuñez esquina Pozo de la Loma.\, Córdoba\, Córdoba\, 5000\, Argentina
CATEGORIES:Secundario
END:VEVENT
BEGIN:VEVENT
DTSTART;VALUE=DATE:20240605
DTEND;VALUE=DATE:20240606
DTSTAMP:20260425T074058
CREATED:20240424T135247Z
LAST-MODIFIED:20240424T135247Z
UID:10000888-1717545600-1717631999@aa.edu.ar
SUMMARY:DÍA DEL MEDIO AMBIENTE
DESCRIPTION:
URL:https://aa.edu.ar/evento/dia-del-medio-ambiente/
CATEGORIES:Institucional
END:VEVENT
BEGIN:VEVENT
DTSTART;TZID=America/Argentina/Cordoba:20240605T103000
DTEND;TZID=America/Argentina/Cordoba:20240605T133000
DTSTAMP:20260425T074058
CREATED:20240531T192524Z
LAST-MODIFIED:20240531T193610Z
UID:10000923-1717583400-1717594200@aa.edu.ar
SUMMARY:FESTEJO DIA DE LOS JARDINES CON JERE FIJO
DESCRIPTION:Festejo Dia de los Jardines/ Show de Jere Fijo \nDos funciones: \n>10 30 h \n> 13.30 h \nLugar: Jardín Academia Arguello
URL:https://aa.edu.ar/evento/festejo-de-dia-de-los-jardines-con-jere-fijo/
LOCATION:Colegio Academia Argüello\, ↗️ Ampliación Av. Rafael Nuñez esquina Pozo de la Loma.\, Córdoba\, Córdoba\, 5000\, Argentina
CATEGORIES:Inicial
END:VEVENT
BEGIN:VEVENT
DTSTART;TZID=America/Argentina/Cordoba:20240606T080000
DTEND;TZID=America/Argentina/Cordoba:20240606T163000
DTSTAMP:20260425T074058
CREATED:20240517T120917Z
LAST-MODIFIED:20240528T135312Z
UID:10000915-1717660800-1717691400@aa.edu.ar
SUMMARY:4° AÑO EN EL HOTEL EDÉN
DESCRIPTION:Salida al Hotel Edén – La Falda \nHorario: 8:00h a 16:30h \nOrganiza Área de Ciencias Sociales \nParticipan estudiantes de cuarto año
URL:https://aa.edu.ar/evento/4-ano-en-el-hotel-eden/
CATEGORIES:Secundario
END:VEVENT
BEGIN:VEVENT
DTSTART;TZID=America/Argentina/Cordoba:20240606T080000
DTEND;TZID=America/Argentina/Cordoba:20240607T170000
DTSTAMP:20260425T074058
CREATED:20240424T121123Z
LAST-MODIFIED:20240424T122512Z
UID:10000503-1717660800-1717779600@aa.edu.ar
SUMMARY:VIDA EN LA NATURALEZA - 4° año🌳🏕
DESCRIPTION:Salida de Vida en la Naturaleza. Participa estudiantes de 4to año. Organiza departamento de educación física \nUbicación: La Posta \n6 y 7 de junio
URL:https://aa.edu.ar/evento/viuda-en-la-naturaleza-4-ano%f0%9f%8c%b3%f0%9f%8f%95/
CATEGORIES:Secundario
ATTACH;FMTTYPE=image/jpeg:https://aa.edu.ar/wp-content/uploads/2024/04/tercer-ano-1.jpg
END:VEVENT
BEGIN:VEVENT
DTSTART;TZID=America/Argentina/Cordoba:20240606T130000
DTEND;TZID=America/Argentina/Cordoba:20240606T140000
DTSTAMP:20260425T074058
CREATED:20240603T121030Z
LAST-MODIFIED:20240603T121515Z
UID:10000927-1717678800-1717682400@aa.edu.ar
SUMMARY:ALMUERZO EQUIPO DE INTERCAMBIO: EE.UU
DESCRIPTION:Almuerzo de equipo de Intercambio a Estados Unidos. Aula de capacitación. Coordinan Cristian Peralta y Paula Rigali. \nHorario: 13:00 a 14:00 \n 
URL:https://aa.edu.ar/evento/almuerzo-equipo-de-intercambio-ee-uu/
LOCATION:Colegio Academia Argüello\, ↗️ Ampliación Av. Rafael Nuñez esquina Pozo de la Loma.\, Córdoba\, Córdoba\, 5000\, Argentina
CATEGORIES:Secundario
END:VEVENT
BEGIN:VEVENT
DTSTART;VALUE=DATE:20240607
DTEND;VALUE=DATE:20240608
DTSTAMP:20260425T074058
CREATED:20240424T135324Z
LAST-MODIFIED:20240424T135324Z
UID:10000889-1717718400-1717804799@aa.edu.ar
SUMMARY:DÍA DEL PERIODISTA
DESCRIPTION:
URL:https://aa.edu.ar/evento/dia-del-periodista/
CATEGORIES:Institucional
END:VEVENT
BEGIN:VEVENT
DTSTART;TZID=America/Argentina/Cordoba:20240607T080000
DTEND;TZID=America/Argentina/Cordoba:20240607T082000
DTSTAMP:20260425T074058
CREATED:20240424T114237Z
LAST-MODIFIED:20240424T114324Z
UID:10000128-1717747200-1717748400@aa.edu.ar
SUMMARY:FESTEJO DE CUMPLEAÑOS 🎂🍰
DESCRIPTION:En formación de primario se canta el feliz cumpleaños a los compañeros que cumplieron en la semana .
URL:https://aa.edu.ar/evento/festejo-de-cumpleanos-%f0%9f%8e%82%f0%9f%8d%b0/2024-06-07/
LOCATION:Colegio Academia Argüello\, ↗️ Ampliación Av. Rafael Nuñez esquina Pozo de la Loma.\, Córdoba\, Córdoba\, 5000\, Argentina
CATEGORIES:Primario
END:VEVENT
BEGIN:VEVENT
DTSTART;TZID=America/Argentina/Cordoba:20240607T140000
DTEND;TZID=America/Argentina/Cordoba:20240607T163000
DTSTAMP:20260425T074058
CREATED:20240531T193525Z
LAST-MODIFIED:20240603T115103Z
UID:10000925-1717768800-1717777800@aa.edu.ar
SUMMARY:ENCUENTRO CAFÉ Y TEJIDOS 🧶☕
DESCRIPTION:Con la colaboración y organización de los alumnos de 6º grado\, el aporte de Madres Kiosqueras y el entusiasmo de nuestros voluntarios de RSE\, para ayudar a quienes más lo necesitan \ninvitamos que nos acompañen a una tarde de café y tejido en nuestra escuela. \n\nLugar: Biblioteca \n¡Los esperamos!
URL:https://aa.edu.ar/evento/encuentro-cafe-y-tejidos-%f0%9f%a7%b6%e2%98%95/
LOCATION:Colegio Academia Argüello\, ↗️ Ampliación Av. Rafael Nuñez esquina Pozo de la Loma.\, Córdoba\, Córdoba\, 5000\, Argentina
CATEGORIES:Institucional
END:VEVENT
END:VCALENDAR