BEGIN:VCALENDAR
VERSION:2.0
PRODID:-//Academia Arguello - ECPv6.8.1//NONSGML v1.0//EN
CALSCALE:GREGORIAN
METHOD:PUBLISH
X-WR-CALNAME:Academia Arguello
X-ORIGINAL-URL:https://aa.edu.ar
X-WR-CALDESC:Eventos para Academia Arguello
REFRESH-INTERVAL;VALUE=DURATION:PT1H
X-Robots-Tag:noindex
X-PUBLISHED-TTL:PT1H
BEGIN:VTIMEZONE
TZID:America/Argentina/Cordoba
BEGIN:STANDARD
TZOFFSETFROM:-0300
TZOFFSETTO:-0300
TZNAME:-03
DTSTART:20260101T000000
END:STANDARD
END:VTIMEZONE
BEGIN:VEVENT
DTSTART;TZID=America/Argentina/Cordoba:20260928T080000
DTEND;TZID=America/Argentina/Cordoba:20261003T170000
DTSTAMP:20260419T115354
CREATED:20260413T113837Z
LAST-MODIFIED:20260413T113837Z
UID:10001366-1790582400-1791046800@aa.edu.ar
SUMMARY:Viaje a Región de Cuyo de 3° Año
DESCRIPTION:
URL:https://aa.edu.ar/evento/viaje-a-region-de-cuyo-de-3-ano/
CATEGORIES:Secundario
END:VEVENT
BEGIN:VEVENT
DTSTART;VALUE=DATE:20261003
DTEND;VALUE=DATE:20261004
DTSTAMP:20260419T115354
CREATED:20260312T182148Z
LAST-MODIFIED:20260312T184720Z
UID:10001330-1790985600-1791071999@aa.edu.ar
SUMMARY:Torneo de Gimnasia artística
DESCRIPTION:Somos locales dentro de la Liga de Gimnasia Artistica. \nHorario a confirmar. \nLugar: Playón de Academia Argüello
URL:https://aa.edu.ar/evento/torneo-de-gimnasia-artistica/
CATEGORIES:Primario
END:VEVENT
BEGIN:VEVENT
DTSTART;TZID=America/Argentina/Cordoba:20261008T080000
DTEND;TZID=America/Argentina/Cordoba:20261009T170000
DTSTAMP:20260419T115354
CREATED:20260413T113945Z
LAST-MODIFIED:20260413T113945Z
UID:10001367-1791446400-1791565200@aa.edu.ar
SUMMARY:Vida en la naturaleza 2° Año
DESCRIPTION:Salida a las 8:00h\, regreso aproximado a las 17:00h
URL:https://aa.edu.ar/evento/vida-en-la-naturaleza-2-ano-3/
CATEGORIES:Secundario
END:VEVENT
BEGIN:VEVENT
DTSTART;VALUE=DATE:20261012
DTEND;VALUE=DATE:20261013
DTSTAMP:20260419T115354
CREATED:20260413T131323Z
LAST-MODIFIED:20260413T131323Z
UID:10001387-1791763200-1791849599@aa.edu.ar
SUMMARY:Día del Respeto a la Diversidad Cultural
DESCRIPTION:Feriado
URL:https://aa.edu.ar/evento/dia-del-respeto-a-la-diversidad-cultural-2/
CATEGORIES:Institucional
END:VEVENT
BEGIN:VEVENT
DTSTART;VALUE=DATE:20261017
DTEND;VALUE=DATE:20261018
DTSTAMP:20260419T115354
CREATED:20260312T182013Z
LAST-MODIFIED:20260312T182013Z
UID:10001329-1792195200-1792281599@aa.edu.ar
SUMMARY:ECOFERIA 🌳
DESCRIPTION:Feria con conciencia ambiental y responsabilidad social. Organiza RSE \nHorarios a confirmar \nLugar: Academia Argüello
URL:https://aa.edu.ar/evento/ecoferia-%f0%9f%8c%b3/
CATEGORIES:Institucional
END:VEVENT
BEGIN:VEVENT
DTSTART;TZID=America/Argentina/Cordoba:20261019T080000
DTEND;TZID=America/Argentina/Cordoba:20261019T170000
DTSTAMP:20260419T115354
CREATED:20260317T154600Z
LAST-MODIFIED:20260317T154600Z
UID:10001338-1792396800-1792429200@aa.edu.ar
SUMMARY:Vida en la naturaleza de 1° grado
DESCRIPTION:Salida vida en la naturaleza \nLugar: Las Jarillas
URL:https://aa.edu.ar/evento/vida-en-la-naturaleza-de-1-grado/
CATEGORIES:Primario
END:VEVENT
BEGIN:VEVENT
DTSTART;VALUE=DATE:20261030
DTEND;VALUE=DATE:20261031
DTSTAMP:20260419T115354
CREATED:20260413T131759Z
LAST-MODIFIED:20260413T131759Z
UID:10001389-1793318400-1793404799@aa.edu.ar
SUMMARY:Festejo Halloween
DESCRIPTION:
URL:https://aa.edu.ar/evento/festejo-halloween/
CATEGORIES:Inicial,Institucional,Primario
END:VEVENT
BEGIN:VEVENT
DTSTART;VALUE=DATE:20261031
DTEND;VALUE=DATE:20261101
DTSTAMP:20260419T115354
CREATED:20260312T135247Z
LAST-MODIFIED:20260406T151831Z
UID:10001328-1793404800-1793491199@aa.edu.ar
SUMMARY:Torneo de hockey
DESCRIPTION:Horario a confirmar \nDirección: Colegio Academia Argüello
URL:https://aa.edu.ar/evento/torneo-de-hockey-6/
CATEGORIES:Primario
END:VEVENT
END:VCALENDAR