BEGIN:VCALENDAR
VERSION:2.0
PRODID:-//Academia Arguello - ECPv6.8.1//NONSGML v1.0//EN
CALSCALE:GREGORIAN
METHOD:PUBLISH
X-ORIGINAL-URL:https://aa.edu.ar
X-WR-CALDESC:Eventos para Academia Arguello
REFRESH-INTERVAL;VALUE=DURATION:PT1H
X-Robots-Tag:noindex
X-PUBLISHED-TTL:PT1H
BEGIN:VTIMEZONE
TZID:America/Argentina/Cordoba
BEGIN:STANDARD
TZOFFSETFROM:-0300
TZOFFSETTO:-0300
TZNAME:-03
DTSTART:20250101T000000
END:STANDARD
END:VTIMEZONE
BEGIN:VEVENT
DTSTART;TZID=America/Argentina/Cordoba:20250220T080000
DTEND;TZID=America/Argentina/Cordoba:20250312T170000
DTSTAMP:20260422T144635
CREATED:20250227T124843Z
LAST-MODIFIED:20250227T124843Z
UID:10001116-1740038400-1741798800@aa.edu.ar
SUMMARY:CAMPAÑA DE ÚTILES 🖊️📚✂️
DESCRIPTION:Desde el área de Responsabilidad Social Escolar\, lanzamos una campaña especial para darle una segunda oportunidad a esos útiles escolares que ya no necesitas. ¡Ayúdanos a construir un futuro más sostenible y solidario! \n¿Cómo puedes participar? \n\nDona tus útiles usados:\n\nRevisa tus cajones\, mochilas y estuches.\nDona aquellos útiles que estén en buen estado y que ya no utilices.\n\n\n\nLa campaña estará vigente hasta el 12 de marzo. \n¿Qué útiles puedes donar? \n\nLápices\, bolígrafos\, marcadores y resaltadores.\nCuadernos\, carpetas y hojas.\nReglas\, tijeras y pegamento.\nMochilas y estuches.\n¡Y todo aquel material escolar que pueda ser reutilizado!\n\nBeneficios de participar: \n\nSolidaridad: Apoyas a estudiantes que más lo necesitan.\nSostenibilidad: Contribuyes al cuidado del medio ambiente al reducir el desperdicio.\nComunidad: Fomentas la cultura de la reutilización y el apoyo mutuo.\n\n¡Tu donación hará la diferencia en la vida de otros estudiantes! ¡Juntos podemos hacer la diferencia!
URL:https://aa.edu.ar/evento/campana-de-utiles-%f0%9f%96%8a%ef%b8%8f%f0%9f%93%9a%e2%9c%82%ef%b8%8f/
CATEGORIES:Institucional
ATTACH;FMTTYPE=image/jpeg:https://aa.edu.ar/wp-content/uploads/2025/02/dale-una-segunda-vida-a-tus-utiles.jpg
END:VEVENT
BEGIN:VEVENT
DTSTART;TZID=America/Argentina/Cordoba:20250303T080000
DTEND;TZID=America/Argentina/Cordoba:20250304T170000
DTSTAMP:20260422T144635
CREATED:20250205T141823Z
LAST-MODIFIED:20250205T142440Z
UID:10001113-1740988800-1741107600@aa.edu.ar
SUMMARY:FERIADO NACIONAL
DESCRIPTION:El lunes 3 y martes 4 de Marzo es Feriado Nacional por Carnaval
URL:https://aa.edu.ar/evento/feriado-nacional-3/
CATEGORIES:Institucional
END:VEVENT
BEGIN:VEVENT
DTSTART;TZID=America/Argentina/Cordoba:20250310T083000
DTEND;TZID=America/Argentina/Cordoba:20250310T130000
DTSTAMP:20260422T144635
CREATED:20250227T125619Z
LAST-MODIFIED:20250306T111407Z
UID:10001117-1741595400-1741611600@aa.edu.ar
SUMMARY:ENCUENTRO DIRECTIVO CON EL INSPECTOR GERARDO ROSSI
DESCRIPTION:CÍRCULO DE DIRECTORES/AS DE LA ZONA CON EL SUPERVISOR INSP. GERARDO ROSSI \nLugar: Biblioteca \n 
URL:https://aa.edu.ar/evento/encuentro-directivo-con-el-inspector-gerardo-rossi/
CATEGORIES:Secundario
END:VEVENT
BEGIN:VEVENT
DTSTART;TZID=America/Argentina/Cordoba:20250310T130000
DTEND;TZID=America/Argentina/Cordoba:20250311T153000
DTSTAMP:20260422T144635
CREATED:20250227T123015Z
LAST-MODIFIED:20250227T123225Z
UID:10001115-1741611600-1741707000@aa.edu.ar
SUMMARY:FERIA DE LIBROS DE TEXTO USADOS
DESCRIPTION:Feria de Libros de Texto Usados: ¡Reutiliza y Ahorra! \nDesde el área de Responsabilidad Social Escolar\, nos complace anunciar la organización de una feria de libros de texto usados en nivel secundario. Esta iniciativa tiene como objetivo fomentar la reutilización de materiales educativos y ofrecer una alternativa económica para la adquisición de libros. \n¿Cómo funciona? \n\nEntrega de libros para la venta:\n\nLos estudiantes que deseen vender sus libros de texto usados podrán entregarlos el 6 de marzo\, en el horario de 13:00 a 15:30 horas.\nAgradecemos que los libros se encuentren en buen estado para su reutilización.\n\n\nVenta de libros:\n\nLa feria de venta se llevará a cabo los días 10 y 11 de marzo\, en el horario de 13:00 a 15:30 horas.\n¡Aprovecha esta oportunidad para adquirir los libros que necesitas a precios accesibles!\n\n\n\n¡Te esperamos en la feria!
URL:https://aa.edu.ar/evento/feria-de-libros-de-texto-usados-2/
CATEGORIES:Secundario
ATTACH;FMTTYPE=image/jpeg:https://aa.edu.ar/wp-content/uploads/2025/02/libro-usado-a4.jpg
END:VEVENT
BEGIN:VEVENT
DTSTART;TZID=America/Argentina/Cordoba:20250310T153000
DTEND;TZID=America/Argentina/Cordoba:20250310T163000
DTSTAMP:20260422T144635
CREATED:20250307T175640Z
LAST-MODIFIED:20250307T175640Z
UID:10001135-1741620600-1741624200@aa.edu.ar
SUMMARY:REUNIÓN PARA FAMILIAS QUE ALOJARAN A ESTUDIANTES DE PACKER COLLEGIATE
DESCRIPTION:Reunión de familias que alojarán a los y las estudiantes de Packer Collegiate
URL:https://aa.edu.ar/evento/reunion-para-familias-que-alojaran-a-estudiantes-de-packer-collegiate/
CATEGORIES:Secundario
END:VEVENT
BEGIN:VEVENT
DTSTART;TZID=America/Argentina/Cordoba:20250311T140000
DTEND;TZID=America/Argentina/Cordoba:20250311T160000
DTSTAMP:20260422T144635
CREATED:20250311T141324Z
LAST-MODIFIED:20250311T141356Z
UID:10001145-1741701600-1741708800@aa.edu.ar
SUMMARY:IMPULSO\, Taller de lectura y escritura creativa
DESCRIPTION:ENCUENTROS MENSUALES:\nHíbrido / Presenciales – 11/03\, 25/03\, 08/04 y 22/04\nPRECIO:\n$30000 mensuales\nHORARIOS\nde 14:00 A 16:00H
URL:https://aa.edu.ar/evento/impulso-taller-de-lectura-y-escritura-creativa/
CATEGORIES:Institucional
ATTACH;FMTTYPE=image/png:https://aa.edu.ar/wp-content/uploads/2025/03/impulso-2.png
END:VEVENT
BEGIN:VEVENT
DTSTART;TZID=America/Argentina/Cordoba:20250313T080000
DTEND;TZID=America/Argentina/Cordoba:20250313T093000
DTSTAMP:20260422T144635
CREATED:20250227T132748Z
LAST-MODIFIED:20250227T132748Z
UID:10001119-1741852800-1741858200@aa.edu.ar
SUMMARY:BIENVENIDA A FAMILIAS NUEVAS
DESCRIPTION:Desayuno institucional con directivos y  familias nuevas que se incorporan en este 2025 a Academia Argüello. \nHorario: 8:30h
URL:https://aa.edu.ar/evento/bienvenida-a-familias-nuevas/
CATEGORIES:Institucional
ATTACH;FMTTYPE=image/jpeg:https://aa.edu.ar/wp-content/uploads/2025/02/desayunoca-16-scaled.jpg
END:VEVENT
BEGIN:VEVENT
DTSTART;TZID=America/Argentina/Cordoba:20250313T120000
DTEND;TZID=America/Argentina/Cordoba:20250313T130000
DTSTAMP:20260422T144635
CREATED:20250310T150056Z
LAST-MODIFIED:20250310T163357Z
UID:10001139-1741867200-1741870800@aa.edu.ar
SUMMARY:REUNIÓN 2° GRADO
DESCRIPTION:Jueves 13/03 \nHorario: 12:00h
URL:https://aa.edu.ar/evento/reunion-2-grado/
CATEGORIES:Primario
END:VEVENT
BEGIN:VEVENT
DTSTART;TZID=America/Argentina/Cordoba:20250314T081500
DTEND;TZID=America/Argentina/Cordoba:20250314T093000
DTSTAMP:20260422T144635
CREATED:20250307T181303Z
LAST-MODIFIED:20250307T181303Z
UID:10001136-1741940100-1741944600@aa.edu.ar
SUMMARY:REUNIÓN CON FAMILIAS DE 2° AÑO
DESCRIPTION:Reunión con familias de 2do año en biblioteca.
URL:https://aa.edu.ar/evento/reunion-con-familias-de-2-ano/
CATEGORIES:Secundario
END:VEVENT
BEGIN:VEVENT
DTSTART;TZID=America/Argentina/Cordoba:20250314T120000
DTEND;TZID=America/Argentina/Cordoba:20250314T133000
DTSTAMP:20260422T144635
CREATED:20250310T150006Z
LAST-MODIFIED:20250310T163123Z
UID:10001138-1741953600-1741959000@aa.edu.ar
SUMMARY:REUNIÓN DE 1° GRADO
DESCRIPTION:Viernes 14/03 \nHorario: 11:30h
URL:https://aa.edu.ar/evento/reunion-de-1-grado/
CATEGORIES:Primario
END:VEVENT
BEGIN:VEVENT
DTSTART;TZID=America/Argentina/Cordoba:20250317T092000
DTEND;TZID=America/Argentina/Cordoba:20250317T100000
DTSTAMP:20260422T144635
CREATED:20250317T111109Z
LAST-MODIFIED:20250317T112539Z
UID:10001147-1742203200-1742205600@aa.edu.ar
SUMMARY:ASSEMBLY
DESCRIPTION:Presentación de estudiantes de Collegiate Packer en secundario
URL:https://aa.edu.ar/evento/assembly/
CATEGORIES:Secundario
END:VEVENT
BEGIN:VEVENT
DTSTART;TZID=America/Argentina/Cordoba:20250317T120000
DTEND;TZID=America/Argentina/Cordoba:20250317T133000
DTSTAMP:20260422T144635
CREATED:20250310T150046Z
LAST-MODIFIED:20250310T163223Z
UID:10001140-1742212800-1742218200@aa.edu.ar
SUMMARY:REUNIÓN 3° GRADO
DESCRIPTION:Lunes 17/03 \nHorario: 12:00h
URL:https://aa.edu.ar/evento/reunion-3-grado/
CATEGORIES:Primario
END:VEVENT
BEGIN:VEVENT
DTSTART;TZID=America/Argentina/Cordoba:20250317T151500
DTEND;TZID=America/Argentina/Cordoba:20250317T160000
DTSTAMP:20260422T144635
CREATED:20250317T112708Z
LAST-MODIFIED:20250317T112708Z
UID:10001148-1742224500-1742227200@aa.edu.ar
SUMMARY:VISITAS EN NIVEL INICIAL
DESCRIPTION:Visita de estudiantes de Packer Collegiate al Nivel Inicial
URL:https://aa.edu.ar/evento/visitas-en-nivel-inicial/
CATEGORIES:Inicial
END:VEVENT
BEGIN:VEVENT
DTSTART;TZID=America/Argentina/Cordoba:20250318T080000
DTEND;TZID=America/Argentina/Cordoba:20250318T200000
DTSTAMP:20260422T144635
CREATED:20250317T112810Z
LAST-MODIFIED:20250317T112810Z
UID:10001149-1742284800-1742328000@aa.edu.ar
SUMMARY:SALIDA A LA CUMBRECITA Y PEÑON DEL ÁGUILA
DESCRIPTION:Salida a la Cumbrecita y Peñón del Águila\nEstudiantes de 6to año y Packer Collegiate \nHorario: de 8:00h a 20:00h \n 
URL:https://aa.edu.ar/evento/salida-a-la-cumbrecita-y-penon-del-aguila/
CATEGORIES:Secundario
END:VEVENT
BEGIN:VEVENT
DTSTART;TZID=America/Argentina/Cordoba:20250318T080000
DTEND;TZID=America/Argentina/Cordoba:20250319T170000
DTSTAMP:20260422T144635
CREATED:20250310T163812Z
LAST-MODIFIED:20250310T163831Z
UID:10001144-1742284800-1742403600@aa.edu.ar
SUMMARY:VIDA EN LA NATURALEZA EN 5° GRADO
DESCRIPTION:Dentro del marco de Vida en la naturaleza\, estudiantes de 5° grado realizaran el campamento en Campo Los Reartes en Valle de Calamuchita los días 18 y 19 de marzo. \n  \n 
URL:https://aa.edu.ar/evento/vida-en-la-naturaleza-en-5-grado/
CATEGORIES:Primario
END:VEVENT
BEGIN:VEVENT
DTSTART;TZID=America/Argentina/Cordoba:20250319T081500
DTEND;TZID=America/Argentina/Cordoba:20250319T093000
DTSTAMP:20260422T144635
CREATED:20250307T181409Z
LAST-MODIFIED:20250307T181637Z
UID:10001137-1742372100-1742376600@aa.edu.ar
SUMMARY:REUNIÓN CON FAMILIAS DE 3° AÑO
DESCRIPTION:Reunión con familias de 3er año en biblioteca
URL:https://aa.edu.ar/evento/reunion-con-familias-de-3-ano/
CATEGORIES:Secundario
END:VEVENT
BEGIN:VEVENT
DTSTART;TZID=America/Argentina/Cordoba:20250319T093000
DTEND;TZID=America/Argentina/Cordoba:20250319T123000
DTSTAMP:20260422T144635
CREATED:20250317T112959Z
LAST-MODIFIED:20250317T112959Z
UID:10001150-1742376600-1742387400@aa.edu.ar
SUMMARY:COLLEGIATE PACKER EN COLODRERO
DESCRIPTION:Actividad de Responsabilidad Social Escolar en Colodrero.\nEstudiantes de 6to año y Packer Collegiate. Coordina Pilar Cirac \nHorario: de 9:30 a 12:30 \n 
URL:https://aa.edu.ar/evento/collegiate-packer-en-colodrero/
CATEGORIES:Secundario
END:VEVENT
BEGIN:VEVENT
DTSTART;TZID=America/Argentina/Cordoba:20250319T134000
DTEND;TZID=America/Argentina/Cordoba:20250319T142000
DTSTAMP:20260422T144635
CREATED:20250317T113114Z
LAST-MODIFIED:20250317T113114Z
UID:10001151-1742391600-1742394000@aa.edu.ar
SUMMARY:ACTIVIDAD DE 5TO GRADO CON ESTUDIANTES DEL COLLEGIATE PACKER
DESCRIPTION:Actividad de estudiantes de Packer con 5to grado\nNivel Secundario y Nivel Primario \nHorario: de 13:40 a 14:20 \n 
URL:https://aa.edu.ar/evento/actividad-de-5to-grado-con-estudiantes-del-collegiate-packer/
CATEGORIES:Secundario
END:VEVENT
BEGIN:VEVENT
DTSTART;TZID=America/Argentina/Cordoba:20250319T151500
DTEND;TZID=America/Argentina/Cordoba:20250319T162000
DTSTAMP:20260422T144635
CREATED:20250317T113508Z
LAST-MODIFIED:20250317T113508Z
UID:10001152-1742397300-1742401200@aa.edu.ar
SUMMARY:CLASES DE TANGO CON PACKER COLLEGIATE
DESCRIPTION:Clase de Tango\n6to año y Packer Collegiate. Coordina Francisco Solá\nBiblioteca\nHorario: de 15:15 a 16:20 \n 
URL:https://aa.edu.ar/evento/clases-de-tango-con-packer-collegiate/
CATEGORIES:Secundario
END:VEVENT
BEGIN:VEVENT
DTSTART;TZID=America/Argentina/Cordoba:20250320T080000
DTEND;TZID=America/Argentina/Cordoba:20250320T163000
DTSTAMP:20260422T144635
CREATED:20250317T113612Z
LAST-MODIFIED:20250317T113628Z
UID:10001153-1742457600-1742488200@aa.edu.ar
SUMMARY:SALIDA A COLONIA CAROYA
DESCRIPTION:Salida a Colonia Caroya\n6to año y Packer Collegiate. \nHorario: de 8:30 a 16:30 \n 
URL:https://aa.edu.ar/evento/salida-a-colonia-caroya/
CATEGORIES:Secundario
END:VEVENT
BEGIN:VEVENT
DTSTART;TZID=America/Argentina/Cordoba:20250320T120000
DTEND;TZID=America/Argentina/Cordoba:20250320T133000
DTSTAMP:20260422T144635
CREATED:20250310T162755Z
LAST-MODIFIED:20250310T162755Z
UID:10001142-1742472000-1742477400@aa.edu.ar
SUMMARY:REUNIÓN 5° GRADO
DESCRIPTION:Jueves 20/3
URL:https://aa.edu.ar/evento/reunion-5-grado/
CATEGORIES:Primario
END:VEVENT
BEGIN:VEVENT
DTSTART;TZID=America/Argentina/Cordoba:20250321T080000
DTEND;TZID=America/Argentina/Cordoba:20250321T163000
DTSTAMP:20260422T144635
CREATED:20250317T113738Z
LAST-MODIFIED:20250317T113738Z
UID:10001154-1742544000-1742574600@aa.edu.ar
SUMMARY:SALIDA A LA CIUDAD DE CÓRDOBA
DESCRIPTION:Salida a la ciudad de Córdoba\n6to año y Packer Collegiate. \nHorario: de 8:30 a 16:30 \n 
URL:https://aa.edu.ar/evento/salida-a-la-ciudad-de-cordoba-2/
CATEGORIES:Secundario
END:VEVENT
BEGIN:VEVENT
DTSTART;TZID=America/Argentina/Cordoba:20250321T120000
DTEND;TZID=America/Argentina/Cordoba:20250321T130000
DTSTAMP:20260422T144635
CREATED:20250310T162700Z
LAST-MODIFIED:20250310T162700Z
UID:10001141-1742558400-1742562000@aa.edu.ar
SUMMARY:REUNIÓN 4° GRADO
DESCRIPTION:Biblioteca \nHorario: 12:00h
URL:https://aa.edu.ar/evento/reunion-4-grado/
CATEGORIES:Primario
END:VEVENT
BEGIN:VEVENT
DTSTART;VALUE=DATE:20250324
DTEND;VALUE=DATE:20250325
DTSTAMP:20260422T144635
CREATED:20250205T142901Z
LAST-MODIFIED:20250205T142901Z
UID:10001114-1742774400-1742860799@aa.edu.ar
SUMMARY:FERIADO NACIONAL
DESCRIPTION:Día Nacional de la Memoria por la Verdad y la Justicia
URL:https://aa.edu.ar/evento/feriado-nacional-4/
CATEGORIES:Institucional
END:VEVENT
BEGIN:VEVENT
DTSTART;TZID=America/Argentina/Cordoba:20250324T163000
DTEND;TZID=America/Argentina/Cordoba:20250324T170000
DTSTAMP:20260422T144635
CREATED:20250317T113837Z
LAST-MODIFIED:20250317T113837Z
UID:10001155-1742833800-1742835600@aa.edu.ar
SUMMARY:PARTIDA DE LOS ESTUDIANTES DE COLLEGIATE PACKER
DESCRIPTION:
URL:https://aa.edu.ar/evento/partida-de-los-estudiantes-de-collegiate-packer/
CATEGORIES:Secundario
END:VEVENT
BEGIN:VEVENT
DTSTART;TZID=America/Argentina/Cordoba:20250326T081500
DTEND;TZID=America/Argentina/Cordoba:20250326T090000
DTSTAMP:20260422T144635
CREATED:20250325T115041Z
LAST-MODIFIED:20250325T115041Z
UID:10001156-1742976900-1742979600@aa.edu.ar
SUMMARY:REUNIÓN A FAMILIAS DE 5° AÑO
DESCRIPTION:Reunión de familias de 5to año\nEquipo Directivo – Coordinadores de curso – Familias de 5to año\nBiblioteca\n8:15h \n 
URL:https://aa.edu.ar/evento/reunion-a-familias-de-5-ano/
CATEGORIES:Secundario
END:VEVENT
BEGIN:VEVENT
DTSTART;TZID=America/Argentina/Cordoba:20250327T081500
DTEND;TZID=America/Argentina/Cordoba:20250327T090000
DTSTAMP:20260422T144635
CREATED:20250325T115349Z
LAST-MODIFIED:20250325T115349Z
UID:10001157-1743063300-1743066000@aa.edu.ar
SUMMARY:REUNIÓN DE FAMILIAS DE 6° AÑO
DESCRIPTION:Reunión de familias de 6to año\nEquipo Directivo – Coordinadores de curso – Familias de 6to año\nBiblioteca\n8:15h \n 
URL:https://aa.edu.ar/evento/reunion-de-familias-de-6-ano/
CATEGORIES:Secundario
END:VEVENT
BEGIN:VEVENT
DTSTART;TZID=America/Argentina/Cordoba:20250327T120000
DTEND;TZID=America/Argentina/Cordoba:20250327T133000
DTSTAMP:20260422T144635
CREATED:20250310T162849Z
LAST-MODIFIED:20250310T162849Z
UID:10001143-1743076800-1743082200@aa.edu.ar
SUMMARY:REUNIÓN 6° GRADO
DESCRIPTION:Jueves 27/3 \nHorario: 12:00h
URL:https://aa.edu.ar/evento/reunion-6-grado/
CATEGORIES:Primario
END:VEVENT
BEGIN:VEVENT
DTSTART;TZID=America/Argentina/Cordoba:20250327T150000
DTEND;TZID=America/Argentina/Cordoba:20250327T170000
DTSTAMP:20260422T144635
CREATED:20250311T141602Z
LAST-MODIFIED:20250311T141602Z
UID:10001146-1743087600-1743094800@aa.edu.ar
SUMMARY:LA LECTURA: RAICES Y HORIZONTES
DESCRIPTION:Para madres\, padres\, abuelos\, abuelas y docentes de niños y niñas de Nivel Inicial y primer ciclo de Nivel Primario. \nINFORMES E INSCRIPCIÓN: gestioncultural@aa.edu.ar \nMODALIDAD: 3 ENCUENTROS: 27/03 – 03/04 -10/04 \nHORARIO: 15:00H \nPRECIO: $30.000
URL:https://aa.edu.ar/evento/la-lectura-raices-y-horizontes/
CATEGORIES:Institucional
ATTACH;FMTTYPE=image/png:https://aa.edu.ar/wp-content/uploads/2025/03/mediacion-lectora-1.png
END:VEVENT
END:VCALENDAR