BEGIN:VCALENDAR
VERSION:2.0
PRODID:-//Academia Arguello - ECPv6.8.1//NONSGML v1.0//EN
CALSCALE:GREGORIAN
METHOD:PUBLISH
X-ORIGINAL-URL:https://aa.edu.ar
X-WR-CALDESC:Eventos para Academia Arguello
REFRESH-INTERVAL;VALUE=DURATION:PT1H
X-Robots-Tag:noindex
X-PUBLISHED-TTL:PT1H
BEGIN:VTIMEZONE
TZID:America/Argentina/Cordoba
BEGIN:STANDARD
TZOFFSETFROM:-0300
TZOFFSETTO:-0300
TZNAME:-03
DTSTART:20240101T000000
END:STANDARD
END:VTIMEZONE
BEGIN:VEVENT
DTSTART;TZID=America/Argentina/Cordoba:20241202T080000
DTEND;TZID=America/Argentina/Cordoba:20241211T170000
DTSTAMP:20260422T203056
CREATED:20241111T111804Z
LAST-MODIFIED:20241111T111852Z
UID:10001095-1733126400-1733936400@aa.edu.ar
SUMMARY:PERIODO DE INTENSIFICACIÓN DE APRENDIZAJES
DESCRIPTION:DEL 2 AL 11 DE DICIEMBRE
URL:https://aa.edu.ar/evento/periodo-de-intensificacion-de-aprendizajes/
CATEGORIES:Secundario
END:VEVENT
BEGIN:VEVENT
DTSTART;TZID=America/Argentina/Cordoba:20241204T190000
DTEND;TZID=America/Argentina/Cordoba:20241204T193000
DTSTAMP:20260422T203056
CREATED:20240710T114258Z
LAST-MODIFIED:20240710T114417Z
UID:10000971-1733338800-1733340600@aa.edu.ar
SUMMARY:COLACIÓN DE GRADO
DESCRIPTION:Colación de grado en salas de 5. \nLugar: Biblioteca de AA \nHorario: 19h
URL:https://aa.edu.ar/evento/colacion-de-grado/
LOCATION:Colegio Academia Argüello\, ↗️ Ampliación Av. Rafael Nuñez esquina Pozo de la Loma.\, Córdoba\, Córdoba\, 5000\, Argentina
CATEGORIES:Inicial
END:VEVENT
BEGIN:VEVENT
DTSTART;TZID=America/Argentina/Cordoba:20241206T130000
DTEND;TZID=America/Argentina/Cordoba:20241206T163000
DTSTAMP:20260422T203056
CREATED:20241111T120731Z
LAST-MODIFIED:20241111T121128Z
UID:10001106-1733490000-1733502600@aa.edu.ar
SUMMARY:FESTEJO DE CUMPLEAÑOS
DESCRIPTION:Se festeja los cumpleaños de agosto a diciembre. \nEl festejo es por la tarde\, en el turno de inglés.
URL:https://aa.edu.ar/evento/festejo-de-cumpleanos/
CATEGORIES:Primario
END:VEVENT
BEGIN:VEVENT
DTSTART;TZID=America/Argentina/Cordoba:20241211T080000
DTEND;TZID=America/Argentina/Cordoba:20241211T163000
DTSTAMP:20260422T203056
CREATED:20241111T121031Z
LAST-MODIFIED:20241111T121031Z
UID:10001107-1733904000-1733934600@aa.edu.ar
SUMMARY:ACTO DE CIERRE ESCOLAR
DESCRIPTION:Jornada completa. Último día de clases de los estudiantes.
URL:https://aa.edu.ar/evento/acto-de-cierre-escolar/
CATEGORIES:Primario
END:VEVENT
BEGIN:VEVENT
DTSTART;TZID=America/Argentina/Cordoba:20241212T080000
DTEND;TZID=America/Argentina/Cordoba:20241212T170000
DTSTAMP:20260422T203056
CREATED:20240802T143058Z
LAST-MODIFIED:20240802T143058Z
UID:10001024-1733990400-1734022800@aa.edu.ar
SUMMARY:COLACIÓN DE 6to GRADO
DESCRIPTION:
URL:https://aa.edu.ar/evento/colacion-de-6to-grado/
CATEGORIES:Primario
END:VEVENT
BEGIN:VEVENT
DTSTART;TZID=America/Argentina/Cordoba:20241213T080000
DTEND;TZID=America/Argentina/Cordoba:20241213T100000
DTSTAMP:20260422T203056
CREATED:20240710T114959Z
LAST-MODIFIED:20240710T114959Z
UID:10000972-1734076800-1734084000@aa.edu.ar
SUMMARY:ENTREGA DE INFORMES Y CARPETAS
DESCRIPTION:Entrega de informes y carpetas a familias.
URL:https://aa.edu.ar/evento/entrega-de-informes-y-carpetas/
CATEGORIES:Inicial
END:VEVENT
BEGIN:VEVENT
DTSTART;TZID=America/Argentina/Cordoba:20241213T100000
DTEND;TZID=America/Argentina/Cordoba:20241213T120000
DTSTAMP:20260422T203056
CREATED:20240802T143154Z
LAST-MODIFIED:20241111T121308Z
UID:10001025-1734084000-1734091200@aa.edu.ar
SUMMARY:ENTREGA DE INFORMES
DESCRIPTION:Entrega de informes a familias
URL:https://aa.edu.ar/evento/fin-de-ciclo-lectivo/
CATEGORIES:Primario
END:VEVENT
BEGIN:VEVENT
DTSTART;TZID=America/Argentina/Cordoba:20241216T190000
DTEND;TZID=America/Argentina/Cordoba:20241216T210000
DTSTAMP:20260422T203056
CREATED:20241025T120242Z
LAST-MODIFIED:20241025T120319Z
UID:10001077-1734375600-1734382800@aa.edu.ar
SUMMARY:COLACIÓN 6° AÑO
DESCRIPTION:Colación de 6to año en el colegio \n19h
URL:https://aa.edu.ar/evento/colacion-6-ano/
CATEGORIES:Secundario
END:VEVENT
BEGIN:VEVENT
DTSTART;TZID=America/Argentina/Cordoba:20241217T080000
DTEND;TZID=America/Argentina/Cordoba:20241223T170000
DTSTAMP:20260422T203056
CREATED:20241111T112234Z
LAST-MODIFIED:20241111T112234Z
UID:10001096-1734422400-1734973200@aa.edu.ar
SUMMARY:COLOQUIOS
DESCRIPTION:Coloquios del 17 al 23 de diciembre
URL:https://aa.edu.ar/evento/coloquios/
CATEGORIES:Secundario
END:VEVENT
BEGIN:VEVENT
DTSTART;TZID=America/Argentina/Cordoba:20241226T080000
DTEND;TZID=America/Argentina/Cordoba:20241227T170000
DTSTAMP:20260422T203056
CREATED:20241111T112512Z
LAST-MODIFIED:20241111T112611Z
UID:10001097-1735200000-1735318800@aa.edu.ar
SUMMARY:COLOQUIOS\, EXÁMENES PREVIOS Y EQUIVALENCIAS
DESCRIPTION:
URL:https://aa.edu.ar/evento/coloquios-examenes-previos-y-equivalencias/
CATEGORIES:Secundario
END:VEVENT
END:VCALENDAR