BEGIN:VCALENDAR
VERSION:2.0
PRODID:-//Academia Arguello - ECPv6.8.1//NONSGML v1.0//EN
CALSCALE:GREGORIAN
METHOD:PUBLISH
X-WR-CALNAME:Academia Arguello
X-ORIGINAL-URL:https://aa.edu.ar
X-WR-CALDESC:Eventos para Academia Arguello
REFRESH-INTERVAL;VALUE=DURATION:PT1H
X-Robots-Tag:noindex
X-PUBLISHED-TTL:PT1H
BEGIN:VTIMEZONE
TZID:America/Argentina/Cordoba
BEGIN:STANDARD
TZOFFSETFROM:-0300
TZOFFSETTO:-0300
TZNAME:-03
DTSTART:20240101T000000
END:STANDARD
END:VTIMEZONE
BEGIN:VEVENT
DTSTART;TZID=America/Argentina/Cordoba:20240729T080000
DTEND;TZID=America/Argentina/Cordoba:20240812T170000
DTSTAMP:20260423T020155
CREATED:20240729T114410Z
LAST-MODIFIED:20240729T114410Z
UID:10001013-1722240000-1723482000@aa.edu.ar
SUMMARY:CAMPAÑA DEL JUGUETE
DESCRIPTION:
URL:https://aa.edu.ar/evento/campana-del-juguete/
LOCATION:Colegio Academia Argüello\, ↗️ Ampliación Av. Rafael Nuñez esquina Pozo de la Loma.\, Córdoba\, Córdoba\, 5000\, Argentina
CATEGORIES:Institucional
END:VEVENT
BEGIN:VEVENT
DTSTART;VALUE=DATE:20240802
DTEND;VALUE=DATE:20240803
DTSTAMP:20260423T020155
CREATED:20240723T181705Z
LAST-MODIFIED:20240723T181705Z
UID:10001000-1722556800-1722643199@aa.edu.ar
SUMMARY:DÍA DEL GASTRONOMICO
DESCRIPTION:
URL:https://aa.edu.ar/evento/dia-del-gastronomico/
LOCATION:Colegio Academia Argüello\, ↗️ Ampliación Av. Rafael Nuñez esquina Pozo de la Loma.\, Córdoba\, Córdoba\, 5000\, Argentina
CATEGORIES:Institucional
END:VEVENT
BEGIN:VEVENT
DTSTART;TZID=America/Argentina/Cordoba:20240802T083000
DTEND;TZID=America/Argentina/Cordoba:20240802T111500
DTSTAMP:20260423T020155
CREATED:20240603T125640Z
LAST-MODIFIED:20240726T180341Z
UID:10000930-1722587400-1722597300@aa.edu.ar
SUMMARY:INTERCULTURALIDAD - 6° GRADO
DESCRIPTION:Interculturalidad en 6to grado \n6to grado A: 8.30h a 9.15h \n6to grado B: 9.30 a 10.15h \n6to grado C: 10:30h a 11.15h \n  \nEn biblioteca Academia Arguello \n 
URL:https://aa.edu.ar/evento/interculturalidad-6-grado/
LOCATION:Colegio Academia Argüello\, ↗️ Ampliación Av. Rafael Nuñez esquina Pozo de la Loma.\, Córdoba\, Córdoba\, 5000\, Argentina
CATEGORIES:Primario
ATTACH;FMTTYPE=image/jpeg:https://aa.edu.ar/wp-content/uploads/2024/06/unnamed-4.jpg
END:VEVENT
BEGIN:VEVENT
DTSTART;TZID=America/Argentina/Cordoba:20240803T091500
DTEND;TZID=America/Argentina/Cordoba:20240803T120000
DTSTAMP:20260423T020155
CREATED:20240731T153138Z
LAST-MODIFIED:20240731T153516Z
UID:10001018-1722676500-1722686400@aa.edu.ar
SUMMARY:ENCUENTRO DE FÚTBOL INTERCOLEGIAL
DESCRIPTION:El mismo será con el colegio Mark Twain\, en nuestro campo de deportes de Academia Argüello \nEl horario será: \n6to grado –> 9:15h \n5to grado –> 9:45h \n4to grado –> 10:45h \n1ro\, 2do y 3er grado –> de 9:30h a 12h \n  \nPor consultas: 3515161930 (Prof. Fabián)
URL:https://aa.edu.ar/evento/encuentro-de-futbol-intercolegial-4/
CATEGORIES:Primario
END:VEVENT
BEGIN:VEVENT
DTSTART;TZID=America/Argentina/Cordoba:20240805T130000
DTEND;TZID=America/Argentina/Cordoba:20240805T170000
DTSTAMP:20260423T020155
CREATED:20240710T120728Z
LAST-MODIFIED:20240710T120728Z
UID:10000974-1722862800-1722877200@aa.edu.ar
SUMMARY:TORNEO LITERATURA Y MATEMÁTICA
DESCRIPTION:Torneo Literatura y Matemática – 2do ronda \nEstudiantes afectados de 1ro a 6to año  \nHorario: 13h a 17h
URL:https://aa.edu.ar/evento/torneo-literatura-y-matematica/
LOCATION:Colegio Academia Argüello\, ↗️ Ampliación Av. Rafael Nuñez esquina Pozo de la Loma.\, Córdoba\, Córdoba\, 5000\, Argentina
CATEGORIES:Secundario
END:VEVENT
BEGIN:VEVENT
DTSTART;TZID=America/Argentina/Cordoba:20240806T080000
DTEND;TZID=America/Argentina/Cordoba:20240806T083000
DTSTAMP:20260423T020155
CREATED:20240603T125902Z
LAST-MODIFIED:20240603T125902Z
UID:10000931-1722931200-1722933000@aa.edu.ar
SUMMARY:INTERCULTURALIDAD - 2° GRADO
DESCRIPTION:Interculturalidad en 2do grado. \nLugar: Biblioteca
URL:https://aa.edu.ar/evento/interculturalidad-2-grado/
LOCATION:Colegio Academia Argüello\, ↗️ Ampliación Av. Rafael Nuñez esquina Pozo de la Loma.\, Córdoba\, Córdoba\, 5000\, Argentina
CATEGORIES:Primario
END:VEVENT
BEGIN:VEVENT
DTSTART;TZID=America/Argentina/Cordoba:20240806T110000
DTEND;TZID=America/Argentina/Cordoba:20240806T113000
DTSTAMP:20260423T020155
CREATED:20240710T121342Z
LAST-MODIFIED:20240710T121342Z
UID:10000975-1722942000-1722943800@aa.edu.ar
SUMMARY:CHARLA SOBRE ESTRATEGIA DE SUSTENTABILIDAD
DESCRIPTION:Charla sobre estrategias de Sustentabilidad \nEstudiantes de Ciclo Básico \nEnte Bio Córdoba. Organiza: RSE \nHorario: 11h \nLugar: Biblioteca
URL:https://aa.edu.ar/evento/charla-sobre-estrategia-de-sustentabilidad/
LOCATION:Colegio Academia Argüello\, ↗️ Ampliación Av. Rafael Nuñez esquina Pozo de la Loma.\, Córdoba\, Córdoba\, 5000\, Argentina
CATEGORIES:Secundario
END:VEVENT
BEGIN:VEVENT
DTSTART;TZID=America/Argentina/Cordoba:20240807T080000
DTEND;TZID=America/Argentina/Cordoba:20240807T083000
DTSTAMP:20260423T020155
CREATED:20240723T182356Z
LAST-MODIFIED:20240723T182356Z
UID:10001003-1723017600-1723019400@aa.edu.ar
SUMMARY:INTERCULTURALIDAD - 1° B
DESCRIPTION:
URL:https://aa.edu.ar/evento/interculturalidad-1-b/
LOCATION:Colegio Academia Argüello\, ↗️ Ampliación Av. Rafael Nuñez esquina Pozo de la Loma.\, Córdoba\, Córdoba\, 5000\, Argentina
CATEGORIES:Primario
END:VEVENT
BEGIN:VEVENT
DTSTART;TZID=America/Argentina/Cordoba:20240808T080000
DTEND;TZID=America/Argentina/Cordoba:20240808T083000
DTSTAMP:20260423T020155
CREATED:20240723T182628Z
LAST-MODIFIED:20240723T182628Z
UID:10001004-1723104000-1723105800@aa.edu.ar
SUMMARY:INTERCULTURALIDAD - 1° A
DESCRIPTION:
URL:https://aa.edu.ar/evento/interculturalidad-1-a/
LOCATION:Colegio Academia Argüello\, ↗️ Ampliación Av. Rafael Nuñez esquina Pozo de la Loma.\, Córdoba\, Córdoba\, 5000\, Argentina
CATEGORIES:Primario
END:VEVENT
BEGIN:VEVENT
DTSTART;TZID=America/Argentina/Cordoba:20240808T150000
DTEND;TZID=America/Argentina/Cordoba:20240808T163000
DTSTAMP:20260423T020155
CREATED:20240710T121537Z
LAST-MODIFIED:20240710T121537Z
UID:10000976-1723129200-1723134600@aa.edu.ar
SUMMARY:ENTREGA DE CERTIFICADOS DELF\, IGSCE\, AS\, AL Y DIPLOMAS ICE Y AICE
DESCRIPTION:Entrega de certificados DELF\, IGCSE\, AS\, AL y diplomas  ICE y AICE \nParticipan estudiante de tercero a sexto año y egresados 2023 \nHorario: 15:15h \nLugar: Biblioteca \nLas familias están invitadas a compartir la ceremonia
URL:https://aa.edu.ar/evento/entrega-de-certificados-delf-igsce-as-al-y-diplomas-ice-y-aice/
LOCATION:Colegio Academia Argüello\, ↗️ Ampliación Av. Rafael Nuñez esquina Pozo de la Loma.\, Córdoba\, Córdoba\, 5000\, Argentina
CATEGORIES:Secundario
END:VEVENT
BEGIN:VEVENT
DTSTART;TZID=America/Argentina/Cordoba:20240809T080000
DTEND;TZID=America/Argentina/Cordoba:20240809T090000
DTSTAMP:20260423T020155
CREATED:20240723T182744Z
LAST-MODIFIED:20240723T182744Z
UID:10001005-1723190400-1723194000@aa.edu.ar
SUMMARY:INTERCULTURALIDAD - 1° C
DESCRIPTION:
URL:https://aa.edu.ar/evento/interculturalidad-1-c/
LOCATION:Colegio Academia Argüello\, ↗️ Ampliación Av. Rafael Nuñez esquina Pozo de la Loma.\, Córdoba\, Córdoba\, 5000\, Argentina
CATEGORIES:Primario
END:VEVENT
BEGIN:VEVENT
DTSTART;TZID=America/Argentina/Cordoba:20240810T090000
DTEND;TZID=America/Argentina/Cordoba:20240810T120000
DTSTAMP:20260423T020155
CREATED:20240807T173334Z
LAST-MODIFIED:20240807T173342Z
UID:10001026-1723280400-1723291200@aa.edu.ar
SUMMARY:ÚLTIMA FECHA DEL TORNEO DE APERTURA
DESCRIPTION:Última fecha del torneo de fútbol intercolegial para clasificación en COPA ORO y COPA PLATA \nEl mismo será en el Colegio Taborin en al calle JUAN ROMULDO BAEZ 5850 ESQ. MAURICIO REVIGLIONI (Camino San Carlos) \nHorarios: \n6° grado – 9:15h \n5° grado – 9:45h \n4° grado – 10:30h \n1°\, 2° y 3° grado – 10h a 12h \n  \nConsultas: 3515161930 (Prof. Fabian)
URL:https://aa.edu.ar/evento/ultima-fecha-del-torneo-de-apertura/
CATEGORIES:Primario
END:VEVENT
BEGIN:VEVENT
DTSTART;VALUE=DATE:20240811
DTEND;VALUE=DATE:20240812
DTSTAMP:20260423T020155
CREATED:20240723T181839Z
LAST-MODIFIED:20240723T181839Z
UID:10001001-1723334400-1723420799@aa.edu.ar
SUMMARY:DÍA DEL NUTRICIONISTA
DESCRIPTION:
URL:https://aa.edu.ar/evento/dia-del-nutricionista/
CATEGORIES:Institucional
END:VEVENT
BEGIN:VEVENT
DTSTART;VALUE=DATE:20240812
DTEND;VALUE=DATE:20240813
DTSTAMP:20260423T020155
CREATED:20240723T184244Z
LAST-MODIFIED:20240812T111137Z
UID:10001008-1723420800-1723507199@aa.edu.ar
SUMMARY:VIDA EN LA NATURALEZA - 3° grado
DESCRIPTION:Vida en la naturaleza  de 3er grado en “Los Guindos” \n 
URL:https://aa.edu.ar/evento/vida-en-la-nturaleza-3-grado/
LOCATION:Colegio Academia Argüello\, ↗️ Ampliación Av. Rafael Nuñez esquina Pozo de la Loma.\, Córdoba\, Córdoba\, 5000\, Argentina
CATEGORIES:Primario
END:VEVENT
BEGIN:VEVENT
DTSTART;TZID=America/Argentina/Cordoba:20240812T080000
DTEND;TZID=America/Argentina/Cordoba:20240817T170000
DTSTAMP:20260423T020155
CREATED:20240506T183056Z
LAST-MODIFIED:20240606T155916Z
UID:10000910-1723449600-1723914000@aa.edu.ar
SUMMARY:VIAJE DE ESTUDIO - 6to grado
DESCRIPTION:Viaje de estudio de 6to grado en el Norte de Argentina.
URL:https://aa.edu.ar/evento/viaje-de-estudio-6to-grado/
LOCATION:Colegio Academia Argüello\, ↗️ Ampliación Av. Rafael Nuñez esquina Pozo de la Loma.\, Córdoba\, Córdoba\, 5000\, Argentina
CATEGORIES:Primario
END:VEVENT
BEGIN:VEVENT
DTSTART;TZID=America/Argentina/Cordoba:20240812T140000
DTEND;TZID=America/Argentina/Cordoba:20240812T160000
DTSTAMP:20260423T020155
CREATED:20240710T121648Z
LAST-MODIFIED:20240710T121648Z
UID:10000977-1723471200-1723478400@aa.edu.ar
SUMMARY:TORNEO DE MATECLUBES
DESCRIPTION:Torneo Mateclubes 2da Ronda – OMA \nEstudiantes afectados de 1ro a 4to año  \nHorario: de 14h a 16h
URL:https://aa.edu.ar/evento/torneo-de-mateclubes/
CATEGORIES:Secundario
END:VEVENT
BEGIN:VEVENT
DTSTART;TZID=America/Argentina/Cordoba:20240812T163000
DTEND;TZID=America/Argentina/Cordoba:20240812T170000
DTSTAMP:20260423T020155
CREATED:20240729T114624Z
LAST-MODIFIED:20240729T114624Z
UID:10001015-1723480200-1723482000@aa.edu.ar
SUMMARY:FINALIZA LA CAMPAÑA DEL JUGUETE
DESCRIPTION:
URL:https://aa.edu.ar/evento/finaliza-la-campana-del-juguete/
LOCATION:Colegio Academia Argüello\, ↗️ Ampliación Av. Rafael Nuñez esquina Pozo de la Loma.\, Córdoba\, Córdoba\, 5000\, Argentina
CATEGORIES:Institucional
END:VEVENT
BEGIN:VEVENT
DTSTART;TZID=America/Argentina/Cordoba:20240814T140000
DTEND;TZID=America/Argentina/Cordoba:20240814T160000
DTSTAMP:20260423T020155
CREATED:20240710T121849Z
LAST-MODIFIED:20240710T121849Z
UID:10000978-1723644000-1723651200@aa.edu.ar
SUMMARY:OLIMPIADAS DE MATEMÁTICA ÑANDU
DESCRIPTION:Olimpíada Matemática Ñandú – Provincial  \nHorario: 14h al 16h \nLugar: Aula A
URL:https://aa.edu.ar/evento/olimpiadas-de-matematica-nandu/
CATEGORIES:Secundario
END:VEVENT
BEGIN:VEVENT
DTSTART;TZID=America/Argentina/Cordoba:20240815T080000
DTEND;TZID=America/Argentina/Cordoba:20240816T170000
DTSTAMP:20260423T020155
CREATED:20240710T122334Z
LAST-MODIFIED:20240710T122334Z
UID:10000979-1723708800-1723827600@aa.edu.ar
SUMMARY:VIDA EN LA NATURALEZA - 1° AÑO
DESCRIPTION:Salida de Vida en la Naturaleza – 1er año a La Estancita \nDías 15 y 16 de agosto \n 
URL:https://aa.edu.ar/evento/vida-en-la-naturaleza-1-ano/
CATEGORIES:Secundario
END:VEVENT
BEGIN:VEVENT
DTSTART;TZID=America/Argentina/Cordoba:20240816T080000
DTEND;TZID=America/Argentina/Cordoba:20240816T093000
DTSTAMP:20260423T020155
CREATED:20240723T183008Z
LAST-MODIFIED:20240802T142149Z
UID:10001006-1723795200-1723800600@aa.edu.ar
SUMMARY:ACTO DEL GENERAL SAN MARTIN
DESCRIPTION:Organizado por 5to grado. \nLugar : Biblioteca
URL:https://aa.edu.ar/evento/acto-del-general-san-martin/
CATEGORIES:Primario
END:VEVENT
BEGIN:VEVENT
DTSTART;TZID=America/Argentina/Cordoba:20240816T140000
DTEND;TZID=America/Argentina/Cordoba:20240816T150000
DTSTAMP:20260423T020155
CREATED:20240816T124614Z
LAST-MODIFIED:20240816T125516Z
UID:10001028-1723816800-1723820400@aa.edu.ar
SUMMARY:ACTO ESCOLAR - CONMEMORACIÓN AL PASO DE LA INMORTALIDAD DEL GRAL. JOSÉ SAN MARTÍN
DESCRIPTION:
URL:https://aa.edu.ar/evento/acto-escolar-conmemoracion-al-paso-de-la-inmortalidad-del-gral-jose-san-martin/
CATEGORIES:Secundario
END:VEVENT
BEGIN:VEVENT
DTSTART;TZID=America/Argentina/Cordoba:20240819T080000
DTEND;TZID=America/Argentina/Cordoba:20240820T170000
DTSTAMP:20260423T020155
CREATED:20240710T122443Z
LAST-MODIFIED:20240710T122443Z
UID:10000980-1724054400-1724173200@aa.edu.ar
SUMMARY:VIDA EN LA NATURALEZA - 4° AÑO
DESCRIPTION:
URL:https://aa.edu.ar/evento/vida-en-la-naturaleza-4-ano/
LOCATION:Colegio Academia Argüello\, ↗️ Ampliación Av. Rafael Nuñez esquina Pozo de la Loma.\, Córdoba\, Córdoba\, 5000\, Argentina
CATEGORIES:Secundario
END:VEVENT
BEGIN:VEVENT
DTSTART;TZID=America/Argentina/Cordoba:20240820T090000
DTEND;TZID=America/Argentina/Cordoba:20240820T170000
DTSTAMP:20260423T020155
CREATED:20240708T191757Z
LAST-MODIFIED:20240814T192113Z
UID:10000962-1724144400-1724173200@aa.edu.ar
SUMMARY:CHILDREN'S DAY EN NIVEL INICIAL
DESCRIPTION: Festejo Día del Niño – Child´s Day \nTurno mañana y tarde
URL:https://aa.edu.ar/evento/childs-day-en-nivel-inicial/
LOCATION:Colegio Academia Argüello\, ↗️ Ampliación Av. Rafael Nuñez esquina Pozo de la Loma.\, Córdoba\, Córdoba\, 5000\, Argentina
CATEGORIES:Inicial
END:VEVENT
BEGIN:VEVENT
DTSTART;TZID=America/Argentina/Cordoba:20240821T132000
DTEND;TZID=America/Argentina/Cordoba:20240821T143000
DTSTAMP:20260423T020155
CREATED:20240819T115732Z
LAST-MODIFIED:20240819T115732Z
UID:10001030-1724246400-1724250600@aa.edu.ar
SUMMARY:CHARLA UNIVERSIDAD AUSTRAL
DESCRIPTION:Charla a estudiantes de 6° año de la Universidad Austral. \nLugar: Bibilioteca \nHorario: 13.20h
URL:https://aa.edu.ar/evento/charla-universidad-austral/
CATEGORIES:Secundario
END:VEVENT
BEGIN:VEVENT
DTSTART;TZID=America/Argentina/Cordoba:20240822T090000
DTEND;TZID=America/Argentina/Cordoba:20240822T100000
DTSTAMP:20260423T020155
CREATED:20240710T131307Z
LAST-MODIFIED:20240710T131443Z
UID:10000997-1724317200-1724320800@aa.edu.ar
SUMMARY:DESAYUNO DE EGRESADOS - 15 AÑOS
DESCRIPTION:Desayuno de egresado por los 15 años \nHorario: 9h \nLugar: Biblioteca de AA
URL:https://aa.edu.ar/evento/desayuno-de-egresados/
CATEGORIES:Institucional
END:VEVENT
BEGIN:VEVENT
DTSTART;TZID=America/Argentina/Cordoba:20240822T183000
DTEND;TZID=America/Argentina/Cordoba:20240822T200000
DTSTAMP:20260423T020155
CREATED:20240807T180212Z
LAST-MODIFIED:20240807T180710Z
UID:10001027-1724351400-1724356800@aa.edu.ar
SUMMARY:JUVENTUD Y APUESTAS ONLINE: Un peligro que no vimos llegar.
DESCRIPTION:Con el boom de la digitalización\, el mercado de las apuestas se expandió hacia jugadores de cualquier edad\, a través de ofertas variadas\, inmediatas y tentadoras. Por eso\, en esta charla vamos a analizar la participación en los juegos de apuestas compulsivas y la ciberludopatía infantil: qué es\, cómo afecta al cerebro y por qué es más permeable en los adolescentes. \n\nCon más de 15 años de experiencia estudiando el cerebro humano\, la Dra. Rosana Gogorza nos brindará herramientas y conocimientos valiosos para entender y prevenir estos riesgos. Como jefa de Asesoría Médica en OSDE y experta en neurociencia\, compartirá su experiencia en el acompañamiento del desarrollo personal y profesional.\n\n\n \n\n\n📍 ¿Donde? Auditorio OSDE (Av. Rafael Núñez 4252\, Córdoba)\n\n\n🗓️ ¿Cuando? 22 de agosto a las 18 h\n\n\n🆓 Entrada con cupo. Inscripciones abiertas en el siguiente link https://docs.google.com/forms/d/1efZwRF47Z66CyC3RJyHfJHdtHTX7Qi2lRUsAMLFBJVA/viewform?ts=66a9259d&edit_requested=true\n\nActividad libre y gratuita. Cupos limitados. \nLos esperamos. \nConsejo Directivo Academia Argüello \nFundación OSDE \n 
URL:https://aa.edu.ar/evento/juventud-y-apuestas-online-un-peligro-que-no-vimos-llegar/
CATEGORIES:Institucional
ATTACH;FMTTYPE=image/png:https://aa.edu.ar/wp-content/uploads/2024/08/3.png
END:VEVENT
BEGIN:VEVENT
DTSTART;TZID=America/Argentina/Cordoba:20240823T120000
DTEND;TZID=America/Argentina/Cordoba:20240823T130000
DTSTAMP:20260423T020155
CREATED:20240819T111608Z
LAST-MODIFIED:20240819T111608Z
UID:10001029-1724414400-1724418000@aa.edu.ar
SUMMARY:REUNIÓN INFORMATIVA PARA NUEVAS FAMILIAS
DESCRIPTION:Desde ya agradecemos su interés en nuestra institución y nos complace que nos consideren como una opción para la educación de sus hijos. Por este motivo deseamos invitarlos a una reunión informativa para conocer en detalle nuestras propuestas pedagógicas y los lineamientos generales tanto del nivel inicial como del nivel primario. \nLa reunión se llevará a cabo el 23 de agosto a las 12:00h en nuestra Biblioteca. Durante el encuentro\, los equipos directivos de ambos niveles compartirán las metodologías\, enfoques educativos y los valores que promovemos en nuestra institución. \nAl finalizar la presentación\, realizaremos un recorrido por nuestras instalaciones para que puedan conocer los espacios donde se desarrollan las actividades diarias de los estudiantes.
URL:https://aa.edu.ar/evento/reunion-informativa-para-nuevas-familias/
CATEGORIES:Institucional
END:VEVENT
BEGIN:VEVENT
DTSTART;TZID=America/Argentina/Cordoba:20240828T080000
DTEND;TZID=America/Argentina/Cordoba:20240830T170000
DTSTAMP:20260423T020155
CREATED:20240710T123332Z
LAST-MODIFIED:20240710T123332Z
UID:10000982-1724832000-1725037200@aa.edu.ar
SUMMARY:JORNADA INTEGRACIÓN DE SABERES (JIS)
DESCRIPTION:
URL:https://aa.edu.ar/evento/jornada-integracion-de-saberes-jis/
LOCATION:Colegio Academia Argüello\, ↗️ Ampliación Av. Rafael Nuñez esquina Pozo de la Loma.\, Córdoba\, Córdoba\, 5000\, Argentina
CATEGORIES:Secundario
END:VEVENT
BEGIN:VEVENT
DTSTART;TZID=America/Argentina/Cordoba:20240828T140000
DTEND;TZID=America/Argentina/Cordoba:20240828T150000
DTSTAMP:20260423T020155
CREATED:20240826T130346Z
LAST-MODIFIED:20240826T134401Z
UID:10001031-1724853600-1724857200@aa.edu.ar
SUMMARY:REUNIÓN CON FAMILIAS
DESCRIPTION:Reunión con familias que participan del Intercambio a Nueva York. \n 
URL:https://aa.edu.ar/evento/reunion-con-familias/
CATEGORIES:Secundario
END:VEVENT
BEGIN:VEVENT
DTSTART;VALUE=DATE:20240829
DTEND;VALUE=DATE:20240830
DTSTAMP:20260423T020155
CREATED:20240710T112051Z
LAST-MODIFIED:20240710T112430Z
UID:10000963-1724889600-1724975999@aa.edu.ar
SUMMARY:FORMACIÓN SITUADA
DESCRIPTION:Formación a docentes de los tres niveles. Dia sin actividades presenciales escolares. Los estudiantes tendrán actividades para trabajar en casa.
URL:https://aa.edu.ar/evento/formacion-situada/
LOCATION:Colegio Academia Argüello\, ↗️ Ampliación Av. Rafael Nuñez esquina Pozo de la Loma.\, Córdoba\, Córdoba\, 5000\, Argentina
CATEGORIES:Institucional
END:VEVENT
END:VCALENDAR