BEGIN:VCALENDAR
VERSION:2.0
PRODID:-//Academia Arguello - ECPv6.8.1//NONSGML v1.0//EN
CALSCALE:GREGORIAN
METHOD:PUBLISH
X-ORIGINAL-URL:https://aa.edu.ar
X-WR-CALDESC:Eventos para Academia Arguello
REFRESH-INTERVAL;VALUE=DURATION:PT1H
X-Robots-Tag:noindex
X-PUBLISHED-TTL:PT1H
BEGIN:VTIMEZONE
TZID:America/Argentina/Cordoba
BEGIN:STANDARD
TZOFFSETFROM:-0300
TZOFFSETTO:-0300
TZNAME:-03
DTSTART:20240101T000000
END:STANDARD
END:VTIMEZONE
BEGIN:VEVENT
DTSTART;VALUE=DATE:20240501
DTEND;VALUE=DATE:20240502
DTSTAMP:20260425T073522
CREATED:20240424T133632Z
LAST-MODIFIED:20240424T133632Z
UID:10000882-1714521600-1714607999@aa.edu.ar
SUMMARY:DÍA DEL TRABAJADOR
DESCRIPTION:Día del trabajador. Feriado Nacional. No hay actividad en el colegio.
URL:https://aa.edu.ar/evento/dia-del-trabajador/
CATEGORIES:Institucional
END:VEVENT
BEGIN:VEVENT
DTSTART;VALUE=DATE:20240501
DTEND;VALUE=DATE:20240502
DTSTAMP:20260425T073522
CREATED:20240424T133743Z
LAST-MODIFIED:20240424T133743Z
UID:10000883-1714521600-1714607999@aa.edu.ar
SUMMARY:Día de la Constitución Nacional
DESCRIPTION:
URL:https://aa.edu.ar/evento/dia-de-la-constitucion-nacional/
CATEGORIES:Institucional
END:VEVENT
BEGIN:VEVENT
DTSTART;TZID=America/Argentina/Cordoba:20240502T140000
DTEND;TZID=America/Argentina/Cordoba:20240502T160000
DTSTAMP:20260425T073522
CREATED:20240417T163139Z
LAST-MODIFIED:20240417T180848Z
UID:10000109-1714658400-1714665600@aa.edu.ar
SUMMARY:WORD WIZARD
DESCRIPTION:Word Wizard – Competencia de escritura creativa \nCoordinado por Carolina Poggi \nHora: 14.30h \nLugar: Biblioteca de Academia Argüello
URL:https://aa.edu.ar/evento/word-wizard/
LOCATION:Colegio Academia Argüello\, ↗️ Ampliación Av. Rafael Nuñez esquina Pozo de la Loma.\, Córdoba\, Córdoba\, 5000\, Argentina
CATEGORIES:Primario,Secundario
ATTACH;FMTTYPE=image/png:https://aa.edu.ar/wp-content/uploads/2024/04/word-wizard-documento-a4.png
END:VEVENT
BEGIN:VEVENT
DTSTART;TZID=America/Argentina/Cordoba:20240502T190000
DTEND;TZID=America/Argentina/Cordoba:20240502T190000
DTSTAMP:20260425T073522
CREATED:20240429T162444Z
LAST-MODIFIED:20240429T162713Z
UID:10000903-1714676400-1714676400@aa.edu.ar
SUMMARY:CONVERSANDO CON MARTICHU SOBRE NUESTROS HIJOS PEQUEÑOS
DESCRIPTION:Se viene este taller con la Licenciada Maritchu\, donde se abordará inquietudes acerca del desarrollo emocional de los niños pequeños. Pensado para padres\, se abordarán temas como los límites\, los berrinches\, el valor de los cuentos y de los juegos. \nCada encuentro se organizará a partir de una presentación a cargo de la docente\, destinándose los minutos finales para la formulación de preguntas y el diálogo con ella. \n2 de Mayo y 6 de Junio: Modalidad virtual\, plataforma Zoom.  \n27 de Junio: Último encuentro\, presencial\, en Academia Argüello. \n  \nAranceles e inscripción en https://forms.gle/G59CoFcBQBE7SSiB8
URL:https://aa.edu.ar/evento/conversando-con-martichu-sobre-nuetsros-hijos-pequenos/
CATEGORIES:Institucional
END:VEVENT
BEGIN:VEVENT
DTSTART;TZID=America/Argentina/Cordoba:20240503T080000
DTEND;TZID=America/Argentina/Cordoba:20240503T082000
DTSTAMP:20260425T073522
CREATED:20240424T114237Z
LAST-MODIFIED:20240424T114324Z
UID:10000123-1714723200-1714724400@aa.edu.ar
SUMMARY:FESTEJO DE CUMPLEAÑOS 🎂🍰
DESCRIPTION:En formación de primario se canta el feliz cumpleaños a los compañeros que cumplieron en la semana .
URL:https://aa.edu.ar/evento/festejo-de-cumpleanos-%f0%9f%8e%82%f0%9f%8d%b0/2024-05-03/
LOCATION:Colegio Academia Argüello\, ↗️ Ampliación Av. Rafael Nuñez esquina Pozo de la Loma.\, Córdoba\, Córdoba\, 5000\, Argentina
CATEGORIES:Primario
END:VEVENT
BEGIN:VEVENT
DTSTART;TZID=America/Argentina/Cordoba:20240504T090000
DTEND;TZID=America/Argentina/Cordoba:20240504T120000
DTSTAMP:20260425T073522
CREATED:20240503T114618Z
LAST-MODIFIED:20240503T131358Z
UID:10000905-1714813200-1714824000@aa.edu.ar
SUMMARY:ENCUENTRO DE FÚTBOL INTERCOLEGIAL
DESCRIPTION:El encuentro se realizará en el colegio Cita con la vida\, en el campo de deportes de Academia Argüello (ingreso por portón Norte) \nHorarios: \n9:00h: 6° grado \n9:45h: 5° grado \n10:30h: 4° grado \n10h a 12h: 1°\, 2° y 3° grado \n  \nLos estudiantes deberán asistir con uniforme de fútbol o remera gris de Educación física. \nConsultas al 3515161930 (Prof. Fabian)
URL:https://aa.edu.ar/evento/encuentro-de-futbol-intercolegial-2/
LOCATION:Colegio Academia Argüello\, ↗️ Ampliación Av. Rafael Nuñez esquina Pozo de la Loma.\, Córdoba\, Córdoba\, 5000\, Argentina
CATEGORIES:Primario
END:VEVENT
BEGIN:VEVENT
DTSTART;TZID=America/Argentina/Cordoba:20240507T150000
DTEND;TZID=America/Argentina/Cordoba:20240507T170000
DTSTAMP:20260425T073522
CREATED:20240419T131342Z
LAST-MODIFIED:20240419T131342Z
UID:10000113-1715094000-1715101200@aa.edu.ar
SUMMARY:TALLER CON LA UNIVERSIDAD BLAS PASCAL: INSERCIÓN LABORAL Y CV
DESCRIPTION:Actividad de 6° año A y B  con la Universidad Blas Pascal\, tema Inserción laboral y CV  \nHorario: 15 h \nLugar: a confirmar
URL:https://aa.edu.ar/evento/taller-con-la-universidad-blas-pascal-insercion-laboral-y-cv/
CATEGORIES:Secundario
END:VEVENT
BEGIN:VEVENT
DTSTART;TZID=America/Argentina/Cordoba:20240508T080000
DTEND;TZID=America/Argentina/Cordoba:20240508T083000
DTSTAMP:20260425T073522
CREATED:20240408T130901Z
LAST-MODIFIED:20240506T155854Z
UID:10000089-1715155200-1715157000@aa.edu.ar
SUMMARY:CLASE ABIERTA - 2do grado 🏃‍♀️🏃‍♂️
DESCRIPTION:Clase abierta de educación física junto a familias. \n  \n    \n 
URL:https://aa.edu.ar/evento/clase-abierta-de-educacion-fisica-2do-grado/
LOCATION:Colegio Academia Argüello\, ↗️ Ampliación Av. Rafael Nuñez esquina Pozo de la Loma.\, Córdoba\, Córdoba\, 5000\, Argentina
CATEGORIES:Primario
ATTACH;FMTTYPE=image/jpeg:https://aa.edu.ar/wp-content/uploads/2024/04/dsc_0250-scaled.jpg
END:VEVENT
BEGIN:VEVENT
DTSTART;TZID=America/Argentina/Cordoba:20240508T083000
DTEND;TZID=America/Argentina/Cordoba:20240508T120000
DTSTAMP:20260425T073522
CREATED:20240506T123817Z
LAST-MODIFIED:20240506T134810Z
UID:10000906-1715157000-1715169600@aa.edu.ar
SUMMARY:EXAMEN IGCSE First Language English Paper
DESCRIPTION:Horario: 8:30h\nLugar: biblioteca \n 
URL:https://aa.edu.ar/evento/examen-igcse-first-language-english-paper/
LOCATION:Colegio Academia Argüello\, ↗️ Ampliación Av. Rafael Nuñez esquina Pozo de la Loma.\, Córdoba\, Córdoba\, 5000\, Argentina
CATEGORIES:Secundario
END:VEVENT
BEGIN:VEVENT
DTSTART;TZID=America/Argentina/Cordoba:20240508T130000
DTEND;TZID=America/Argentina/Cordoba:20240508T160000
DTSTAMP:20260425T073522
CREATED:20240506T180259Z
LAST-MODIFIED:20240507T113833Z
UID:10000907-1715173200-1715184000@aa.edu.ar
SUMMARY:VISITA A AGUAS CORDOBESAS
DESCRIPTION:Salida de 5to grado a Aguas Cordobesas con las misses Susie\, Andrea y Laura.
URL:https://aa.edu.ar/evento/visita-a-aguas-cordobesas/
CATEGORIES:Primario
END:VEVENT
BEGIN:VEVENT
DTSTART;TZID=America/Argentina/Cordoba:20240509T092000
DTEND;TZID=America/Argentina/Cordoba:20240509T100000
DTSTAMP:20260425T073522
CREATED:20240424T113244Z
LAST-MODIFIED:20240424T113244Z
UID:10000120-1715246400-1715248800@aa.edu.ar
SUMMARY:Junior Achievement: Presentación FIE
DESCRIPTION:Horario: 9:20h a 10:00h\nLugar: Biblioteca\nJunior Achievement: Presentación FIE\nParticipa 5° y 6° año \n 
URL:https://aa.edu.ar/evento/junior-achievement-presentacion-fie/
LOCATION:Colegio Academia Argüello\, ↗️ Ampliación Av. Rafael Nuñez esquina Pozo de la Loma.\, Córdoba\, Córdoba\, 5000\, Argentina
CATEGORIES:Secundario
END:VEVENT
BEGIN:VEVENT
DTSTART;TZID=America/Argentina/Cordoba:20240509T130000
DTEND;TZID=America/Argentina/Cordoba:20240509T170000
DTSTAMP:20260425T073522
CREATED:20240424T113400Z
LAST-MODIFIED:20240424T113536Z
UID:10000121-1715259600-1715274000@aa.edu.ar
SUMMARY:Certamen Intercolegial Ñandú de Olimpíadas Matemática
DESCRIPTION:Certamen Intercolegial Ñandú de Olimpíadas Matemática\nParticipan estudiantes de 1° año \nHorario: de 13 h a 17h.
URL:https://aa.edu.ar/evento/certamen-intercolegial-nandu-de-olimpiadas-matematica/
CATEGORIES:Secundario
END:VEVENT
BEGIN:VEVENT
DTSTART;TZID=America/Argentina/Cordoba:20240510T080000
DTEND;TZID=America/Argentina/Cordoba:20240510T082000
DTSTAMP:20260425T073522
CREATED:20240424T114237Z
LAST-MODIFIED:20240424T114324Z
UID:10000124-1715328000-1715329200@aa.edu.ar
SUMMARY:FESTEJO DE CUMPLEAÑOS 🎂🍰
DESCRIPTION:En formación de primario se canta el feliz cumpleaños a los compañeros que cumplieron en la semana .
URL:https://aa.edu.ar/evento/festejo-de-cumpleanos-%f0%9f%8e%82%f0%9f%8d%b0/2024-05-10/
LOCATION:Colegio Academia Argüello\, ↗️ Ampliación Av. Rafael Nuñez esquina Pozo de la Loma.\, Córdoba\, Córdoba\, 5000\, Argentina
CATEGORIES:Primario
END:VEVENT
BEGIN:VEVENT
DTSTART;TZID=America/Argentina/Cordoba:20240510T093000
DTEND;TZID=America/Argentina/Cordoba:20240510T130000
DTSTAMP:20260425T073522
CREATED:20240419T131510Z
LAST-MODIFIED:20240419T132238Z
UID:10000114-1715333400-1715346000@aa.edu.ar
SUMMARY:SALIDA AL TEATRO: "Ίκαρο / Un vuelo por los márgenes”\, del Grupo Cirulaxia
DESCRIPTION:Salida al Teatro de 3° y 6° año. A ver la obra “Ίκαρο / Un vuelo por los márgenes”\, del Grupo Cirulaxia \nHorario: 11h \nLugar: Teatro Real \n(Salida 9.30 – Regreso 13 h)
URL:https://aa.edu.ar/evento/49982/
CATEGORIES:Secundario
END:VEVENT
BEGIN:VEVENT
DTSTART;TZID=America/Argentina/Cordoba:20240514T093000
DTEND;TZID=America/Argentina/Cordoba:20240514T130000
DTSTAMP:20260425T073522
CREATED:20240419T133148Z
LAST-MODIFIED:20240419T135420Z
UID:10000115-1715679000-1715691600@aa.edu.ar
SUMMARY:SALIDA AL TEATRO: "Ίκαρο / Un vuelo por los márgenes”\, del Grupo Cirulaxia
DESCRIPTION:Estudiantes de 1° y 4° año realizarán una salida para ver la obra “Ίκαρο/ Un vuelo por los márgenes”\, del Grupo Cirulaxia \nHorario: 11 h \n(Salida 9.30 – Regreso 13 h) \nLugar: Teatro Real \n 
URL:https://aa.edu.ar/evento/49986/
CATEGORIES:Secundario
END:VEVENT
BEGIN:VEVENT
DTSTART;TZID=America/Argentina/Cordoba:20240515T080000
DTEND;TZID=America/Argentina/Cordoba:20240515T090000
DTSTAMP:20260425T073522
CREATED:20240416T162319Z
LAST-MODIFIED:20240416T162319Z
UID:10000106-1715760000-1715763600@aa.edu.ar
SUMMARY:CLASE ABIERTA - 3er grado 🏃‍♀️🏃‍♂️
DESCRIPTION:Clase abierta de Educación física para los estudiantes de 3er grado y sus familias \n 
URL:https://aa.edu.ar/evento/clase-abierta-3er-grado-%f0%9f%8f%83%e2%99%80%ef%b8%8f%f0%9f%8f%83%e2%99%82%ef%b8%8f/
LOCATION:Colegio Academia Argüello\, ↗️ Ampliación Av. Rafael Nuñez esquina Pozo de la Loma.\, Córdoba\, Córdoba\, 5000\, Argentina
CATEGORIES:Primario
ATTACH;FMTTYPE=image/jpeg:https://aa.edu.ar/wp-content/uploads/2024/04/dsc_0278-scaled.jpg
END:VEVENT
BEGIN:VEVENT
DTSTART;TZID=America/Argentina/Cordoba:20240516T093000
DTEND;TZID=America/Argentina/Cordoba:20240516T130000
DTSTAMP:20260425T073522
CREATED:20240419T135352Z
LAST-MODIFIED:20240424T113014Z
UID:10000116-1715851800-1715864400@aa.edu.ar
SUMMARY:SALIDA AL TEATRO: "Ίκαρο / Un vuelo por los márgenes”\, del Grupo Cirulaxia
DESCRIPTION:Estudiantes de 2° y 5° “Ίκαρο / Un vuelo por los márgenes”\, del Grupo Cirulaxia \nHorario: 11 h (Salida 9.30 – Regreso 13 h) \nLugar: Teatro Real \n 
URL:https://aa.edu.ar/evento/salida-al-teatro-%ce%af%ce%ba%ce%b1%cf%81%ce%bf-un-vuelo-por-los-margenes-del-grupo-cirulaxia-corregir/
CATEGORIES:Secundario
END:VEVENT
BEGIN:VEVENT
DTSTART;TZID=America/Argentina/Cordoba:20240517T080000
DTEND;TZID=America/Argentina/Cordoba:20240517T082000
DTSTAMP:20260425T073522
CREATED:20240424T114237Z
LAST-MODIFIED:20240424T114324Z
UID:10000125-1715932800-1715934000@aa.edu.ar
SUMMARY:FESTEJO DE CUMPLEAÑOS 🎂🍰
DESCRIPTION:En formación de primario se canta el feliz cumpleaños a los compañeros que cumplieron en la semana .
URL:https://aa.edu.ar/evento/festejo-de-cumpleanos-%f0%9f%8e%82%f0%9f%8d%b0/2024-05-17/
LOCATION:Colegio Academia Argüello\, ↗️ Ampliación Av. Rafael Nuñez esquina Pozo de la Loma.\, Córdoba\, Córdoba\, 5000\, Argentina
CATEGORIES:Primario
END:VEVENT
BEGIN:VEVENT
DTSTART;TZID=America/Argentina/Cordoba:20240517T080000
DTEND;TZID=America/Argentina/Cordoba:20240517T083000
DTSTAMP:20260425T073522
CREATED:20240516T115134Z
LAST-MODIFIED:20240516T115134Z
UID:10000912-1715932800-1715934600@aa.edu.ar
SUMMARY:Conversatorio de estudiantes de 4° año con Cecilia\, Directora del Colegio Colodredo.
DESCRIPTION:Conversatorio de estudiantes de 4to año con Cecilia\, Directora de Colodrero\, para compartir la realidad de estudiantes del barrio Argüello.\nLugar: Sum 1.\nHorario: 8.00 a 8.30 h.
URL:https://aa.edu.ar/evento/conversatorio-de-estudiantes-de-4-ano-con-cecilia-directora-del-colegio-colodredo/
LOCATION:Colegio Academia Argüello\, ↗️ Ampliación Av. Rafael Nuñez esquina Pozo de la Loma.\, Córdoba\, Córdoba\, 5000\, Argentina
CATEGORIES:Secundario
END:VEVENT
BEGIN:VEVENT
DTSTART;TZID=America/Argentina/Cordoba:20240518T110000
DTEND;TZID=America/Argentina/Cordoba:20240518T160000
DTSTAMP:20260425T073522
CREATED:20240408T123616Z
LAST-MODIFIED:20240424T114722Z
UID:10000086-1716030000-1716048000@aa.edu.ar
SUMMARY:DÍA DE LA FAMILIA  🏠
DESCRIPTION:
URL:https://aa.edu.ar/evento/dia-de-la-familia-%f0%9f%8f%a0/
LOCATION:Colegio Academia Argüello\, ↗️ Ampliación Av. Rafael Nuñez esquina Pozo de la Loma.\, Córdoba\, Córdoba\, 5000\, Argentina
CATEGORIES:Institucional
END:VEVENT
BEGIN:VEVENT
DTSTART;TZID=America/Argentina/Cordoba:20240520T080000
DTEND;TZID=America/Argentina/Cordoba:20240605T170000
DTSTAMP:20260425T073522
CREATED:20240522T155605Z
LAST-MODIFIED:20240603T114508Z
UID:10000919-1716192000-1717606800@aa.edu.ar
SUMMARY:CAMPAÑA DEL ABRIGO
DESCRIPTION:Del 20 de mayo al 25 de junio \nRecibimos:\nRopa -Frazadas – Gorros – Guantes – Bufandas\n(nuevos o usados en buen estado). \nA beneficio de las organizaciones sociales vecinas \nLe sumamos Kitting for Love\, una campaña que se realizaba en años anteriores y ahora volvemos con mucho más. Organizado por 6to grado\, los voluntarios de RSE y madres kiosqueras\, para juntar y realizar cuadraditos de lana\, tela de 20×20 y poder crear frazadas y colchas para donar.  \nConsultas a rse@aa.edu.ar \n  \n 
URL:https://aa.edu.ar/evento/campana-del-abrigo/
LOCATION:Colegio Academia Argüello\, ↗️ Ampliación Av. Rafael Nuñez esquina Pozo de la Loma.\, Córdoba\, Córdoba\, 5000\, Argentina
CATEGORIES:Institucional
ATTACH;FMTTYPE=image/jpeg:https://aa.edu.ar/wp-content/uploads/2024/05/instagram.jpg
END:VEVENT
BEGIN:VEVENT
DTSTART;TZID=America/Argentina/Cordoba:20240521T080000
DTEND;TZID=America/Argentina/Cordoba:20240522T170000
DTSTAMP:20260425T073522
CREATED:20240424T134012Z
LAST-MODIFIED:20240426T185733Z
UID:10000884-1716278400-1716397200@aa.edu.ar
SUMMARY:🌳 VIDA EN LA NATURALEZA  - 4° grado 🏕
DESCRIPTION:Salida a Vida en la naturaleza de 4° grado. \n21 y 22 de Mayo
URL:https://aa.edu.ar/evento/%f0%9f%8c%b3-vida-en-la-naturaleza-%f0%9f%8f%95/
CATEGORIES:Primario
END:VEVENT
BEGIN:VEVENT
DTSTART;TZID=America/Argentina/Cordoba:20240521T083000
DTEND;TZID=America/Argentina/Cordoba:20240521T133000
DTSTAMP:20260425T073522
CREATED:20240408T124422Z
LAST-MODIFIED:20240408T141848Z
UID:10000087-1716280200-1716298200@aa.edu.ar
SUMMARY:ACTO PATRIO - 25 DE MAYO
DESCRIPTION:Acto patrio de todas las salas en la Biblioteca Academia Argüello \nSalas A: 8:30  \nSalas B: 11:00  \nSalas C: 13:30
URL:https://aa.edu.ar/evento/acto-patrio-25-de-mayo/
LOCATION:Colegio Academia Argüello\, ↗️ Ampliación Av. Rafael Nuñez esquina Pozo de la Loma.\, Córdoba\, Córdoba\, 5000\, Argentina
CATEGORIES:Inicial
END:VEVENT
BEGIN:VEVENT
DTSTART;TZID=America/Argentina/Cordoba:20240521T091000
DTEND;TZID=America/Argentina/Cordoba:20240521T124000
DTSTAMP:20260425T073522
CREATED:20240520T182325Z
LAST-MODIFIED:20240520T182325Z
UID:10000918-1716282600-1716295200@aa.edu.ar
SUMMARY:VISITA AL MUSEO CARAFFA
DESCRIPTION:Participan estudiantes de 1° de Art&Design \nOrganiza: Prof. Ana Gabriela Rojas y Amandine Guillard
URL:https://aa.edu.ar/evento/visita-al-museo-caraffa/
CATEGORIES:Secundario
END:VEVENT
BEGIN:VEVENT
DTSTART;TZID=America/Argentina/Cordoba:20240523T140000
DTEND;TZID=America/Argentina/Cordoba:20240523T160000
DTSTAMP:20260425T073522
CREATED:20240517T120541Z
LAST-MODIFIED:20240517T120541Z
UID:10000913-1716472800-1716480000@aa.edu.ar
SUMMARY:Certamen Intercolegial de Olimpíadas Matemática Argentinas
DESCRIPTION:Estudiantes afectados de 2do a 6to año de 14h a 16h en las instalaciones del Colegio.
URL:https://aa.edu.ar/evento/certamen-intercolegial-de-olimpiadas-matematica-argentinas/
LOCATION:Colegio Academia Argüello\, ↗️ Ampliación Av. Rafael Nuñez esquina Pozo de la Loma.\, Córdoba\, Córdoba\, 5000\, Argentina
CATEGORIES:Secundario
END:VEVENT
BEGIN:VEVENT
DTSTART;TZID=America/Argentina/Cordoba:20240524T080000
DTEND;TZID=America/Argentina/Cordoba:20240524T082000
DTSTAMP:20260425T073522
CREATED:20240424T114237Z
LAST-MODIFIED:20240424T114324Z
UID:10000126-1716537600-1716538800@aa.edu.ar
SUMMARY:FESTEJO DE CUMPLEAÑOS 🎂🍰
DESCRIPTION:En formación de primario se canta el feliz cumpleaños a los compañeros que cumplieron en la semana .
URL:https://aa.edu.ar/evento/festejo-de-cumpleanos-%f0%9f%8e%82%f0%9f%8d%b0/2024-05-24/
LOCATION:Colegio Academia Argüello\, ↗️ Ampliación Av. Rafael Nuñez esquina Pozo de la Loma.\, Córdoba\, Córdoba\, 5000\, Argentina
CATEGORIES:Primario
END:VEVENT
BEGIN:VEVENT
DTSTART;TZID=America/Argentina/Cordoba:20240527T080000
DTEND;TZID=America/Argentina/Cordoba:20240527T115000
DTSTAMP:20260425T073522
CREATED:20240424T134307Z
LAST-MODIFIED:20240517T115207Z
UID:10000885-1716796800-1716810600@aa.edu.ar
SUMMARY:ACTO 25 DE MAYO
DESCRIPTION:Aniversario de la Revolución de Mayo. Acto escolar. \nOrganiza: \nHorario: de 8h a 11.50h \nUbicación: Biblioteca
URL:https://aa.edu.ar/evento/acto-25-de-mayo/
LOCATION:Colegio Academia Argüello\, ↗️ Ampliación Av. Rafael Nuñez esquina Pozo de la Loma.\, Córdoba\, Córdoba\, 5000\, Argentina
CATEGORIES:Primario
END:VEVENT
BEGIN:VEVENT
DTSTART;TZID=America/Argentina/Cordoba:20240527T114500
DTEND;TZID=America/Argentina/Cordoba:20240527T124500
DTSTAMP:20260425T073522
CREATED:20240527T143928Z
LAST-MODIFIED:20240527T143928Z
UID:10000920-1716810300-1716813900@aa.edu.ar
SUMMARY:ACTO DE CONMEMORACIÓN DEL 25 DE MAYO
DESCRIPTION:Acto de conmemoración del  25 de mayo. \nHorario: 11:45 – 12:45  \nLugar: Biblioteca \nOrganiza: Departamento de Language and Literature
URL:https://aa.edu.ar/evento/acto-de-conmemoracion-del-25-de-mayo/
LOCATION:Colegio Academia Argüello\, ↗️ Ampliación Av. Rafael Nuñez esquina Pozo de la Loma.\, Córdoba\, Córdoba\, 5000\, Argentina
CATEGORIES:Secundario
END:VEVENT
BEGIN:VEVENT
DTSTART;TZID=America/Argentina/Cordoba:20240527T151500
DTEND;TZID=America/Argentina/Cordoba:20240527T161500
DTSTAMP:20260425T073522
CREATED:20240517T120736Z
LAST-MODIFIED:20240517T120736Z
UID:10000914-1716822900-1716826500@aa.edu.ar
SUMMARY:Reunión de intercambio a EEUU
DESCRIPTION:Reunión de familias de intercambio a EEUU con el Coordinador de Packer Collegiate \nLugar: Biblioteca \nHorario: 15:15h – 16:15h
URL:https://aa.edu.ar/evento/reunion-de-intercambio-a-eeuu/
LOCATION:Colegio Academia Argüello\, ↗️ Ampliación Av. Rafael Nuñez esquina Pozo de la Loma.\, Córdoba\, Córdoba\, 5000\, Argentina
CATEGORIES:Secundario
END:VEVENT
BEGIN:VEVENT
DTSTART;VALUE=DATE:20240528
DTEND;VALUE=DATE:20240529
DTSTAMP:20260425T073522
CREATED:20240424T144713Z
LAST-MODIFIED:20240424T145059Z
UID:10000895-1716854400-1716940799@aa.edu.ar
SUMMARY:KINDER´S DAY
DESCRIPTION:Día de los jardines. Festejo y celebración en Nivel Inicial
URL:https://aa.edu.ar/evento/kinders-day/
CATEGORIES:Inicial
END:VEVENT
END:VCALENDAR