BEGIN:VCALENDAR
VERSION:2.0
PRODID:-//Academia Arguello - ECPv6.8.1//NONSGML v1.0//EN
CALSCALE:GREGORIAN
METHOD:PUBLISH
X-WR-CALNAME:Academia Arguello
X-ORIGINAL-URL:https://aa.edu.ar
X-WR-CALDESC:Eventos para Academia Arguello
REFRESH-INTERVAL;VALUE=DURATION:PT1H
X-Robots-Tag:noindex
X-PUBLISHED-TTL:PT1H
BEGIN:VTIMEZONE
TZID:America/Sao_Paulo
BEGIN:STANDARD
TZOFFSETFROM:-0300
TZOFFSETTO:-0300
TZNAME:-03
DTSTART:20230101T000000
END:STANDARD
END:VTIMEZONE
BEGIN:VEVENT
DTSTART;VALUE=DATE:20231208
DTEND;VALUE=DATE:20231209
DTSTAMP:20260425T182051
CREATED:20230403T135334Z
LAST-MODIFIED:20230403T135334Z
UID:10000058-1701993600-1702079999@aa.edu.ar
SUMMARY:DÍA DE LA VIRGEN
DESCRIPTION:Fecha no laborable
URL:https://aa.edu.ar/evento/dia-de-la-virgen/
ATTACH;FMTTYPE=image/jpeg:https://aa.edu.ar/wp-content/uploads/2023/04/955-6-dia-de-la-virgen-8-de-diciembre.jpg
END:VEVENT
BEGIN:VEVENT
DTSTART;VALUE=DATE:20231220
DTEND;VALUE=DATE:20231221
DTSTAMP:20260425T182051
CREATED:20230403T135017Z
LAST-MODIFIED:20230403T135017Z
UID:10000057-1703030400-1703116799@aa.edu.ar
SUMMARY:FINALIZACIÓN DEL CICLO ESCOLAR 2023
DESCRIPTION:
URL:https://aa.edu.ar/evento/finalizacion-del-ciclo-escolar-2023/
CATEGORIES:Institucional
ATTACH;FMTTYPE=image/jpeg:https://aa.edu.ar/wp-content/uploads/2023/04/ww.jpg
END:VEVENT
BEGIN:VEVENT
DTSTART;VALUE=DATE:20231225
DTEND;VALUE=DATE:20231226
DTSTAMP:20260425T182051
CREATED:20230403T135939Z
LAST-MODIFIED:20230403T140244Z
UID:10000059-1703462400-1703548799@aa.edu.ar
SUMMARY:NAVIDAD
DESCRIPTION:Día no laborable
URL:https://aa.edu.ar/evento/navidad/
ATTACH;FMTTYPE=image/png:https://aa.edu.ar/wp-content/uploads/2023/04/feliz-navidad_blogface-1.png
END:VEVENT
BEGIN:VEVENT
DTSTART;TZID=America/Sao_Paulo:20231231T080000
DTEND;TZID=America/Sao_Paulo:20231231T170000
DTSTAMP:20260425T182051
CREATED:20230403T140403Z
LAST-MODIFIED:20230403T140403Z
UID:10000060-1704009600-1704042000@aa.edu.ar
SUMMARY:AÑO NUEVO
DESCRIPTION:
URL:https://aa.edu.ar/evento/ano-nuevo/
ATTACH;FMTTYPE=image/jpeg:https://aa.edu.ar/wp-content/uploads/2023/04/maderita-feliz-ano-nuevo-artesana-taller.jpg
END:VEVENT
END:VCALENDAR