BEGIN:VCALENDAR
VERSION:2.0
PRODID:-//Academia Arguello - ECPv6.8.1//NONSGML v1.0//EN
CALSCALE:GREGORIAN
METHOD:PUBLISH
X-WR-CALNAME:Academia Arguello
X-ORIGINAL-URL:https://aa.edu.ar
X-WR-CALDESC:Eventos para Academia Arguello
REFRESH-INTERVAL;VALUE=DURATION:PT1H
X-Robots-Tag:noindex
X-PUBLISHED-TTL:PT1H
BEGIN:VTIMEZONE
TZID:America/Argentina/Cordoba
BEGIN:STANDARD
TZOFFSETFROM:-0300
TZOFFSETTO:-0300
TZNAME:-03
DTSTART:20250101T000000
END:STANDARD
END:VTIMEZONE
BEGIN:VEVENT
DTSTART;TZID=America/Argentina/Cordoba:20250924T090000
DTEND;TZID=America/Argentina/Cordoba:20250924T100000
DTSTAMP:20260419T192618
CREATED:20250923T114928Z
LAST-MODIFIED:20250923T114928Z
UID:10001257-1758704400-1758708000@aa.edu.ar
SUMMARY:CHARLA CON NUESTRA NUTRICIONISTA SILVINA 👩‍🍳
DESCRIPTION:Silvina Guerra\, nutricionista de Academia Argüello\, realizará una charla informativa  a alumnos de 5to grado.
URL:https://aa.edu.ar/evento/charla-con-nuestra-nutricionista-silvina-%f0%9f%91%a9%f0%9f%8d%b3/
CATEGORIES:Primario
END:VEVENT
BEGIN:VEVENT
DTSTART;TZID=America/Argentina/Cordoba:20250925T130000
DTEND;TZID=America/Argentina/Cordoba:20250925T163000
DTSTAMP:20260419T192618
CREATED:20250923T131943Z
LAST-MODIFIED:20250923T141229Z
UID:10001259-1758805200-1758817800@aa.edu.ar
SUMMARY:4th GRADE INTERCULTURALITY
DESCRIPTION:4° B: 1pm \n4° C: 3pm \nIn School library
URL:https://aa.edu.ar/evento/interculturalidad-de-4th-grade-2/
CATEGORIES:Primario
END:VEVENT
BEGIN:VEVENT
DTSTART;TZID=America/Argentina/Cordoba:20250926T130000
DTEND;TZID=America/Argentina/Cordoba:20250926T163000
DTSTAMP:20260419T192618
CREATED:20250923T130136Z
LAST-MODIFIED:20250923T134247Z
UID:10001258-1758891600-1758904200@aa.edu.ar
SUMMARY:4th GRADE INTERCULTURALITY
DESCRIPTION:4° C: 1pm \nIn school library
URL:https://aa.edu.ar/evento/interculturalidad-de-4th-grade/
CATEGORIES:Primario
END:VEVENT
END:VCALENDAR