BEGIN:VCALENDAR
VERSION:2.0
PRODID:-//Academia Arguello - ECPv6.8.1//NONSGML v1.0//EN
CALSCALE:GREGORIAN
METHOD:PUBLISH
X-WR-CALNAME:Academia Arguello
X-ORIGINAL-URL:https://aa.edu.ar
X-WR-CALDESC:Eventos para Academia Arguello
REFRESH-INTERVAL;VALUE=DURATION:PT1H
X-Robots-Tag:noindex
X-PUBLISHED-TTL:PT1H
BEGIN:VTIMEZONE
TZID:America/Argentina/Cordoba
BEGIN:STANDARD
TZOFFSETFROM:-0300
TZOFFSETTO:-0300
TZNAME:-03
DTSTART:20250101T000000
END:STANDARD
END:VTIMEZONE
BEGIN:VEVENT
DTSTART;TZID=America/Argentina/Cordoba:20250407T080000
DTEND;TZID=America/Argentina/Cordoba:20250407T163000
DTSTAMP:20260422T190829
CREATED:20250328T141522Z
LAST-MODIFIED:20250328T141522Z
UID:10001159-1744012800-1744043400@aa.edu.ar
SUMMARY:DIA DE LA EDUCACIÓN FISICA
DESCRIPTION:Como todos los años\, festejamos la actividad física de cada estudiante. En esta jornada los estudiantes compartirán su deporte favorito con sus compañeros del colegio.
URL:https://aa.edu.ar/evento/dia-de-la-educacion-fisica/
CATEGORIES:Primario
END:VEVENT
BEGIN:VEVENT
DTSTART;TZID=America/Argentina/Cordoba:20250407T080000
DTEND;TZID=America/Argentina/Cordoba:20250416T170000
DTSTAMP:20260422T190829
CREATED:20250414T110750Z
LAST-MODIFIED:20250414T110750Z
UID:10001165-1744012800-1744822800@aa.edu.ar
SUMMARY:THOSE SHOES
DESCRIPTION:Estudiantes y misses de 4° grado inglés con el apoyo de Responsabilidad Social Escolar\, están realizando una campaña de recolecta de zapatos\, zapatillas\, etc. \nHasta el 16 de Abril. \n 
URL:https://aa.edu.ar/evento/those-shoes/
CATEGORIES:Primario
END:VEVENT
BEGIN:VEVENT
DTSTART;TZID=America/Argentina/Cordoba:20250412T090000
DTEND;TZID=America/Argentina/Cordoba:20250412T120000
DTSTAMP:20260422T190829
CREATED:20250410T141127Z
LAST-MODIFIED:20250410T141127Z
UID:10001162-1744448400-1744459200@aa.edu.ar
SUMMARY:TORNEO DE FÚTBOL INTER-ESCOLAR (L.E.F.I)
DESCRIPTION:Inauguramos la cancha de pasto sintético en Academia Argüello. \nEl sábado 12 de abril jugamos con el colegio Nuevo Milenio. \nHorarios: \n6to grado: 9:00h \n5to grado: 9:30h \n4to grado: 10:ooh \n3er grado: 9:00h \n1er y 2do grado: 10:00h \n 
URL:https://aa.edu.ar/evento/torneo-de-futbol-inter-escolar-l-e-f-i/
CATEGORIES:Primario
END:VEVENT
END:VCALENDAR