BEGIN:VCALENDAR
VERSION:2.0
PRODID:-//Academia Arguello - ECPv6.8.1//NONSGML v1.0//EN
CALSCALE:GREGORIAN
METHOD:PUBLISH
X-ORIGINAL-URL:https://aa.edu.ar
X-WR-CALDESC:Eventos para Academia Arguello
REFRESH-INTERVAL;VALUE=DURATION:PT1H
X-Robots-Tag:noindex
X-PUBLISHED-TTL:PT1H
BEGIN:VTIMEZONE
TZID:America/Argentina/Cordoba
BEGIN:STANDARD
TZOFFSETFROM:-0300
TZOFFSETTO:-0300
TZNAME:-03
DTSTART:20240101T000000
END:STANDARD
END:VTIMEZONE
BEGIN:VEVENT
DTSTART;TZID=America/Argentina/Cordoba:20241015T083000
DTEND;TZID=America/Argentina/Cordoba:20241015T100000
DTSTAMP:20260422T231023
CREATED:20241014T110325Z
LAST-MODIFIED:20241014T110630Z
UID:10001063-1728981000-1728986400@aa.edu.ar
SUMMARY:CHARLA CON NUTRICIONISTA EN 1° GRADO
DESCRIPTION:
URL:https://aa.edu.ar/evento/charla-con-nutricionista-en-1-grado/
CATEGORIES:Primario
END:VEVENT
BEGIN:VEVENT
DTSTART;VALUE=DATE:20241016
DTEND;VALUE=DATE:20241017
DTSTAMP:20260422T231023
CREATED:20241014T110527Z
LAST-MODIFIED:20241014T115545Z
UID:10001064-1729036800-1729123199@aa.edu.ar
SUMMARY:INTERCULTURALIDAD EN 6° GRADO
DESCRIPTION:Interculturalidad de inglés y francés de 6to grado \nHorario: 13h a 16:30h
URL:https://aa.edu.ar/evento/interculturalidad-en-6-grado/
CATEGORIES:Primario
END:VEVENT
BEGIN:VEVENT
DTSTART;VALUE=DATE:20241017
DTEND;VALUE=DATE:20241018
DTSTAMP:20260422T231023
CREATED:20241014T111421Z
LAST-MODIFIED:20241014T111421Z
UID:10001065-1729123200-1729209599@aa.edu.ar
SUMMARY:INTERCULTURALIDAD EN 3° GRADO
DESCRIPTION:Interculturalidad de inglés en 3° grado \nLugar: biblioteca \nHorario a confirmar
URL:https://aa.edu.ar/evento/interculturalidad-en-3-grado/
CATEGORIES:Primario
END:VEVENT
END:VCALENDAR