BEGIN:VCALENDAR
VERSION:2.0
PRODID:-//Academia Arguello - ECPv6.8.1//NONSGML v1.0//EN
CALSCALE:GREGORIAN
METHOD:PUBLISH
X-ORIGINAL-URL:https://aa.edu.ar
X-WR-CALDESC:Eventos para Academia Arguello
REFRESH-INTERVAL;VALUE=DURATION:PT1H
X-Robots-Tag:noindex
X-PUBLISHED-TTL:PT1H
BEGIN:VTIMEZONE
TZID:America/Argentina/Cordoba
BEGIN:STANDARD
TZOFFSETFROM:-0300
TZOFFSETTO:-0300
TZNAME:-03
DTSTART:20240101T000000
END:STANDARD
END:VTIMEZONE
BEGIN:VEVENT
DTSTART;TZID=America/Argentina/Cordoba:20240916T130000
DTEND;TZID=America/Argentina/Cordoba:20240916T160000
DTSTAMP:20260423T042310
CREATED:20240916T114022Z
LAST-MODIFIED:20240916T114022Z
UID:10001043-1726491600-1726502400@aa.edu.ar
SUMMARY:INTERCULTURALIDAD - 5° grado
DESCRIPTION:Comenzamos las interculturalidades de 5° grado de Primario Académico (inglés) \n13h: 5° B \n15h: 5° A
URL:https://aa.edu.ar/evento/interculturalidad-5-grado/
CATEGORIES:Primario
END:VEVENT
BEGIN:VEVENT
DTSTART;TZID=America/Argentina/Cordoba:20240920T130000
DTEND;TZID=America/Argentina/Cordoba:20240920T140000
DTSTAMP:20260423T042310
CREATED:20240916T115022Z
LAST-MODIFIED:20240916T115022Z
UID:10001044-1726837200-1726840800@aa.edu.ar
SUMMARY:INTERCULTURALIDAD - 5° grado
DESCRIPTION:Seguimos con las interculturalidades de 5° grado de Primario Académico (inglés) \n13h: 5° C \n¡Los esperamos!
URL:https://aa.edu.ar/evento/interculturalidad-5-grado-2/
CATEGORIES:Primario
END:VEVENT
END:VCALENDAR