BEGIN:VCALENDAR
VERSION:2.0
PRODID:-//Academia Arguello - ECPv6.8.1//NONSGML v1.0//EN
CALSCALE:GREGORIAN
METHOD:PUBLISH
X-ORIGINAL-URL:https://aa.edu.ar
X-WR-CALDESC:Eventos para Academia Arguello
REFRESH-INTERVAL;VALUE=DURATION:PT1H
X-Robots-Tag:noindex
X-PUBLISHED-TTL:PT1H
BEGIN:VTIMEZONE
TZID:America/Argentina/Cordoba
BEGIN:STANDARD
TZOFFSETFROM:-0300
TZOFFSETTO:-0300
TZNAME:-03
DTSTART:20240101T000000
END:STANDARD
END:VTIMEZONE
BEGIN:VEVENT
DTSTART;TZID=America/Argentina/Cordoba:20240910T103000
DTEND;TZID=America/Argentina/Cordoba:20240910T113000
DTSTAMP:20260423T023143
CREATED:20240830T145046Z
LAST-MODIFIED:20240830T145046Z
UID:10001035-1725964200-1725967800@aa.edu.ar
SUMMARY:DÍA DEL MAESTRO
DESCRIPTION:Festejo Día del maestro a las 10.30h \nFamilias invitadas de 3° grado.
URL:https://aa.edu.ar/evento/dia-del-maestro-2/
LOCATION:Colegio Academia Argüello\, ↗️ Ampliación Av. Rafael Nuñez esquina Pozo de la Loma.\, Córdoba\, Córdoba\, 5000\, Argentina
CATEGORIES:Primario
END:VEVENT
BEGIN:VEVENT
DTSTART;VALUE=DATE:20240913
DTEND;VALUE=DATE:20240914
DTSTAMP:20260423T023143
CREATED:20240731T154820Z
LAST-MODIFIED:20240731T154820Z
UID:10001020-1726185600-1726271999@aa.edu.ar
SUMMARY:FESTEJO DÍA DEL MAESTRO
DESCRIPTION:
URL:https://aa.edu.ar/evento/festejo-dia-del-maestro/
LOCATION:Colegio Academia Argüello\, ↗️ Ampliación Av. Rafael Nuñez esquina Pozo de la Loma.\, Córdoba\, Córdoba\, 5000\, Argentina
CATEGORIES:Primario
END:VEVENT
END:VCALENDAR