BEGIN:VCALENDAR
VERSION:2.0
PRODID:-//Academia Arguello - ECPv6.8.1//NONSGML v1.0//EN
CALSCALE:GREGORIAN
METHOD:PUBLISH
X-WR-CALNAME:Academia Arguello
X-ORIGINAL-URL:https://aa.edu.ar
X-WR-CALDESC:Eventos para Academia Arguello
REFRESH-INTERVAL;VALUE=DURATION:PT1H
X-Robots-Tag:noindex
X-PUBLISHED-TTL:PT1H
BEGIN:VTIMEZONE
TZID:America/Argentina/Cordoba
BEGIN:STANDARD
TZOFFSETFROM:-0300
TZOFFSETTO:-0300
TZNAME:-03
DTSTART:20240101T000000
END:STANDARD
END:VTIMEZONE
BEGIN:VEVENT
DTSTART;TZID=America/Argentina/Cordoba:20240424T120000
DTEND;TZID=America/Argentina/Cordoba:20240424T161500
DTSTAMP:20260425T072712
CREATED:20240424T135109Z
LAST-MODIFIED:20240424T135109Z
UID:10000886-1713960000-1713975300@aa.edu.ar
SUMMARY:SALIDA A RESERVA SAN MARTÍN
DESCRIPTION:Participan estudiantes de 6 grado irán a la reserva General San Martín \nHorario: 12h a 16:15h \nMiércoles 24 y Jueves 25
URL:https://aa.edu.ar/evento/salida-a-reserva-san-martin/
CATEGORIES:Primario
END:VEVENT
BEGIN:VEVENT
DTSTART;TZID=America/Argentina/Cordoba:20240425T120000
DTEND;TZID=America/Argentina/Cordoba:20240425T161500
DTSTAMP:20260425T072712
CREATED:20240424T135149Z
LAST-MODIFIED:20240424T135149Z
UID:10000887-1714046400-1714061700@aa.edu.ar
SUMMARY:SALIDA A RESERVA SAN MARTÍN
DESCRIPTION:Participan estudiantes de 6 grado irán a la reserva General San Martín \nHorario: 12h a 16:15h \nMiércoles 24 y Jueves 25
URL:https://aa.edu.ar/evento/salida-a-reserva-san-martin-2/
CATEGORIES:Primario
END:VEVENT
BEGIN:VEVENT
DTSTART;TZID=America/Argentina/Cordoba:20240426T080000
DTEND;TZID=America/Argentina/Cordoba:20240426T082000
DTSTAMP:20260425T072712
CREATED:20240424T114237Z
LAST-MODIFIED:20240424T114324Z
UID:10000122-1714118400-1714119600@aa.edu.ar
SUMMARY:FESTEJO DE CUMPLEAÑOS 🎂🍰
DESCRIPTION:En formación de primario se canta el feliz cumpleaños a los compañeros que cumplieron en la semana .
URL:https://aa.edu.ar/evento/festejo-de-cumpleanos-%f0%9f%8e%82%f0%9f%8d%b0/2024-04-26/
LOCATION:Colegio Academia Argüello\, ↗️ Ampliación Av. Rafael Nuñez esquina Pozo de la Loma.\, Córdoba\, Córdoba\, 5000\, Argentina
CATEGORIES:Primario
END:VEVENT
BEGIN:VEVENT
DTSTART;TZID=America/Argentina/Cordoba:20240427T100000
DTEND;TZID=America/Argentina/Cordoba:20240427T120000
DTSTAMP:20260425T072712
CREATED:20240425T181448Z
LAST-MODIFIED:20240425T184653Z
UID:10000901-1714212000-1714219200@aa.edu.ar
SUMMARY:ENCUENTRO DE FÚTBOL INTERCOLEGIAL
DESCRIPTION:El encuentro será el 27 de Abril en el colegio Mark Twain\, ubicado en Ramon Carcano 75 (atrás de complejos Matei) \nJugaran los equipos de 1r\, 2do y 3er grado \nHorario: 10 a 12hs. \n  \nPor consultas: 3515161930 (Porf. Fabian)
URL:https://aa.edu.ar/evento/encuentro-de-futbol-intercolegial/
CATEGORIES:Primario
END:VEVENT
END:VCALENDAR