BEGIN:VCALENDAR
VERSION:2.0
PRODID:-//Academia Arguello - ECPv6.8.1//NONSGML v1.0//EN
CALSCALE:GREGORIAN
METHOD:PUBLISH
X-ORIGINAL-URL:https://aa.edu.ar
X-WR-CALDESC:Eventos para Academia Arguello
REFRESH-INTERVAL;VALUE=DURATION:PT1H
X-Robots-Tag:noindex
X-PUBLISHED-TTL:PT1H
BEGIN:VTIMEZONE
TZID:America/Sao_Paulo
BEGIN:STANDARD
TZOFFSETFROM:-0300
TZOFFSETTO:-0300
TZNAME:-03
DTSTART:20230101T000000
END:STANDARD
END:VTIMEZONE
BEGIN:VEVENT
DTSTART;TZID=America/Sao_Paulo:20231003T083000
DTEND;TZID=America/Sao_Paulo:20231011T163000
DTSTAMP:20260425T202456
CREATED:20230403T124030Z
LAST-MODIFIED:20230403T124804Z
UID:10000051-1696321800-1697041800@aa.edu.ar
SUMMARY:SEMANA DE LA INTERCULTURALIDAD
DESCRIPTION:Participan todos los niveles\, familias e invitados especiales
URL:https://aa.edu.ar/evento/semana-de-la-interculturalidad/
CATEGORIES:Inicial,Primario,Secundario
ATTACH;FMTTYPE=image/jpeg:https://aa.edu.ar/wp-content/uploads/2023/04/df87149e9a2178652f26a70cf50b625a.jpg
END:VEVENT
END:VCALENDAR