BEGIN:VCALENDAR
VERSION:2.0
PRODID:-//Academia Arguello - ECPv6.8.1//NONSGML v1.0//EN
CALSCALE:GREGORIAN
METHOD:PUBLISH
X-ORIGINAL-URL:https://aa.edu.ar
X-WR-CALDESC:Eventos para Academia Arguello
REFRESH-INTERVAL;VALUE=DURATION:PT1H
X-Robots-Tag:noindex
X-PUBLISHED-TTL:PT1H
BEGIN:VTIMEZONE
TZID:America/Argentina/Cordoba
BEGIN:STANDARD
TZOFFSETFROM:-0300
TZOFFSETTO:-0300
TZNAME:-03
DTSTART:20250101T000000
END:STANDARD
END:VTIMEZONE
BEGIN:VEVENT
DTSTART;VALUE=DATE:20251110
DTEND;VALUE=DATE:20251115
DTSTAMP:20260421T070036
CREATED:20250718T162624Z
LAST-MODIFIED:20250718T162631Z
UID:10001210-1762732800-1763164799@aa.edu.ar
SUMMARY:INTEGRADORAS CASTELLANO
DESCRIPTION:Exámenes finales de castellano
URL:https://aa.edu.ar/evento/integradoras-castellano/
CATEGORIES:Primario
END:VEVENT
BEGIN:VEVENT
DTSTART;TZID=America/Argentina/Cordoba:20251112T133000
DTEND;TZID=America/Argentina/Cordoba:20251112T163000
DTSTAMP:20260421T070036
CREATED:20251110T131032Z
LAST-MODIFIED:20251110T131047Z
UID:10001279-1762954200-1762965000@aa.edu.ar
SUMMARY:DÍA DE LA MÚSICA
DESCRIPTION:13.30hs – Presentación musical del coro y taller de percusión de 5° y 6° grado. Organiza Miss Evelin Jure y Prof. Rodrigo Díaz
URL:https://aa.edu.ar/evento/dia-de-la-musica/
CATEGORIES:Primario
END:VEVENT
BEGIN:VEVENT
DTSTART;TZID=America/Argentina/Cordoba:20251112T163000
DTEND;TZID=America/Argentina/Cordoba:20251112T173000
DTSTAMP:20260421T070036
CREATED:20251110T135425Z
LAST-MODIFIED:20251110T135425Z
UID:10001283-1762965000-1762968600@aa.edu.ar
SUMMARY:CIERRE DE EVENTO EN HOCKEY Y GIMNASIA ARTÍSTICA
DESCRIPTION:El mismo se realizará en India Eventos junto a Gimnasia Artística
URL:https://aa.edu.ar/evento/cierre-de-evento-en-hockey-y-gimnasia-artistica/
CATEGORIES:Primario
END:VEVENT
END:VCALENDAR