BEGIN:VCALENDAR
VERSION:2.0
PRODID:-//Academia Arguello - ECPv6.8.1//NONSGML v1.0//EN
CALSCALE:GREGORIAN
METHOD:PUBLISH
X-ORIGINAL-URL:https://aa.edu.ar
X-WR-CALDESC:Eventos para Academia Arguello
REFRESH-INTERVAL;VALUE=DURATION:PT1H
X-Robots-Tag:noindex
X-PUBLISHED-TTL:PT1H
BEGIN:VTIMEZONE
TZID:America/Argentina/Cordoba
BEGIN:STANDARD
TZOFFSETFROM:-0300
TZOFFSETTO:-0300
TZNAME:-03
DTSTART:20250101T000000
END:STANDARD
END:VTIMEZONE
BEGIN:VEVENT
DTSTART;TZID=America/Argentina/Cordoba:20250405T090000
DTEND;TZID=America/Argentina/Cordoba:20250405T120000
DTSTAMP:20260422T090627
CREATED:20250404T131726Z
LAST-MODIFIED:20250404T153019Z
UID:10001161-1743843600-1743854400@aa.edu.ar
SUMMARY:TORNEO DE FÚTBOL
DESCRIPTION:Sábado 1ra fecha torneo FÚTBOL \nHORARIOS\n1°\, 2 ° GRADO: 10 hs\n3° GRADO: 9 hs\n4° Grado: 10:30 hs\n5° GRADO: 9:30 hs\n6 °GRADO: 9:00 hs
URL:https://aa.edu.ar/evento/torneo-de-futbol/
CATEGORIES:Primario
END:VEVENT
END:VCALENDAR