BEGIN:VCALENDAR
VERSION:2.0
PRODID:-//Academia Arguello - ECPv6.8.1//NONSGML v1.0//EN
CALSCALE:GREGORIAN
METHOD:PUBLISH
X-WR-CALNAME:Academia Arguello
X-ORIGINAL-URL:https://aa.edu.ar
X-WR-CALDESC:Eventos para Academia Arguello
REFRESH-INTERVAL;VALUE=DURATION:PT1H
X-Robots-Tag:noindex
X-PUBLISHED-TTL:PT1H
BEGIN:VTIMEZONE
TZID:America/Argentina/Cordoba
BEGIN:STANDARD
TZOFFSETFROM:-0300
TZOFFSETTO:-0300
TZNAME:-03
DTSTART:20240101T000000
END:STANDARD
END:VTIMEZONE
BEGIN:VEVENT
DTSTART;TZID=America/Argentina/Cordoba:20241211T080000
DTEND;TZID=America/Argentina/Cordoba:20241211T163000
DTSTAMP:20260422T170041
CREATED:20241111T121031Z
LAST-MODIFIED:20241111T121031Z
UID:10001107-1733904000-1733934600@aa.edu.ar
SUMMARY:ACTO DE CIERRE ESCOLAR
DESCRIPTION:Jornada completa. Último día de clases de los estudiantes.
URL:https://aa.edu.ar/evento/acto-de-cierre-escolar/
CATEGORIES:Primario
END:VEVENT
END:VCALENDAR