BEGIN:VCALENDAR
VERSION:2.0
PRODID:-//Academia Arguello - ECPv6.8.1//NONSGML v1.0//EN
CALSCALE:GREGORIAN
METHOD:PUBLISH
X-ORIGINAL-URL:https://aa.edu.ar
X-WR-CALDESC:Eventos para Academia Arguello
REFRESH-INTERVAL;VALUE=DURATION:PT1H
X-Robots-Tag:noindex
X-PUBLISHED-TTL:PT1H
BEGIN:VTIMEZONE
TZID:America/Argentina/Cordoba
BEGIN:STANDARD
TZOFFSETFROM:-0300
TZOFFSETTO:-0300
TZNAME:-03
DTSTART:20240101T000000
END:STANDARD
END:VTIMEZONE
BEGIN:VEVENT
DTSTART;TZID=America/Argentina/Cordoba:20241111T080000
DTEND;TZID=America/Argentina/Cordoba:20241115T170000
DTSTAMP:20260422T185144
CREATED:20241111T113021Z
LAST-MODIFIED:20241111T113021Z
UID:10001099-1731312000-1731690000@aa.edu.ar
SUMMARY:EXÁMENES DE INGLÉS
DESCRIPTION:Del 11 al 15 de noviembre
URL:https://aa.edu.ar/evento/examenes-de-ingles-2/
CATEGORIES:Primario
END:VEVENT
END:VCALENDAR