BEGIN:VCALENDAR
VERSION:2.0
PRODID:-//Academia Arguello - ECPv6.8.1//NONSGML v1.0//EN
CALSCALE:GREGORIAN
METHOD:PUBLISH
X-ORIGINAL-URL:https://aa.edu.ar
X-WR-CALDESC:Eventos para Academia Arguello
REFRESH-INTERVAL;VALUE=DURATION:PT1H
X-Robots-Tag:noindex
X-PUBLISHED-TTL:PT1H
BEGIN:VTIMEZONE
TZID:America/Argentina/Cordoba
BEGIN:STANDARD
TZOFFSETFROM:-0300
TZOFFSETTO:-0300
TZNAME:-03
DTSTART:20240101T000000
END:STANDARD
END:VTIMEZONE
BEGIN:VEVENT
DTSTART;TZID=America/Argentina/Cordoba:20241106T150000
DTEND;TZID=America/Argentina/Cordoba:20241106T163000
DTSTAMP:20260422T185012
CREATED:20241104T105149Z
LAST-MODIFIED:20241104T110708Z
UID:10001087-1730905200-1730910600@aa.edu.ar
SUMMARY:CHARLY DAY
DESCRIPTION:Presentación de cierre de los talleres de coro y percusión de 5º y 6º grado\, en la que también participarán alumnos de 4° grado.\nEste evento especial se llevará a cabo el día miércoles 6 de noviembre a las 15:00h en nuestra Biblioteca.\nSerá una ocasión única para apreciar el trabajo y dedicación de los estudiantes\, quienes han preparado una muestra muy especial.\nNos encantaría contar con su presencia para acompañarlos en este momento tan importante.
URL:https://aa.edu.ar/evento/charly-day/
CATEGORIES:Primario
END:VEVENT
END:VCALENDAR