BEGIN:VCALENDAR
VERSION:2.0
PRODID:-//Academia Arguello - ECPv6.8.1//NONSGML v1.0//EN
CALSCALE:GREGORIAN
METHOD:PUBLISH
X-WR-CALNAME:Academia Arguello
X-ORIGINAL-URL:https://aa.edu.ar
X-WR-CALDESC:Eventos para Academia Arguello
REFRESH-INTERVAL;VALUE=DURATION:PT1H
X-Robots-Tag:noindex
X-PUBLISHED-TTL:PT1H
BEGIN:VTIMEZONE
TZID:America/Argentina/Cordoba
BEGIN:STANDARD
TZOFFSETFROM:-0300
TZOFFSETTO:-0300
TZNAME:-03
DTSTART:20240101T000000
END:STANDARD
END:VTIMEZONE
BEGIN:VEVENT
DTSTART;TZID=America/Argentina/Cordoba:20241010T150000
DTEND;TZID=America/Argentina/Cordoba:20241010T163000
DTSTAMP:20260422T205724
CREATED:20241007T120341Z
LAST-MODIFIED:20241007T120341Z
UID:10001055-1728572400-1728577800@aa.edu.ar
SUMMARY:INTERCULTURALIDAD - 4° GRADO
DESCRIPTION:Interculturalidad en 4to grado en primario académico \nHorario: 15h \nLugar: biblioteca
URL:https://aa.edu.ar/evento/interculturalidad-4-grado-2/
CATEGORIES:Primario
END:VEVENT
END:VCALENDAR