BEGIN:VCALENDAR
VERSION:2.0
PRODID:-//Academia Arguello - ECPv6.8.1//NONSGML v1.0//EN
CALSCALE:GREGORIAN
METHOD:PUBLISH
X-WR-CALNAME:Academia Arguello
X-ORIGINAL-URL:https://aa.edu.ar
X-WR-CALDESC:Eventos para Academia Arguello
REFRESH-INTERVAL;VALUE=DURATION:PT1H
X-Robots-Tag:noindex
X-PUBLISHED-TTL:PT1H
BEGIN:VTIMEZONE
TZID:America/Argentina/Cordoba
BEGIN:STANDARD
TZOFFSETFROM:-0300
TZOFFSETTO:-0300
TZNAME:-03
DTSTART:20240101T000000
END:STANDARD
END:VTIMEZONE
BEGIN:VEVENT
DTSTART;TZID=America/Argentina/Cordoba:20241009T083000
DTEND;TZID=America/Argentina/Cordoba:20241009T100000
DTSTAMP:20260422T205842
CREATED:20241007T121246Z
LAST-MODIFIED:20241007T121246Z
UID:10001057-1728462600-1728468000@aa.edu.ar
SUMMARY:CHARLA EN 1° GRADO
DESCRIPTION:Charla de Pediatra a primer grado
URL:https://aa.edu.ar/evento/charla-en-1-grado/
CATEGORIES:Primario
END:VEVENT
END:VCALENDAR