BEGIN:VCALENDAR
VERSION:2.0
PRODID:-//Academia Arguello - ECPv6.8.1//NONSGML v1.0//EN
CALSCALE:GREGORIAN
METHOD:PUBLISH
X-WR-CALNAME:Academia Arguello
X-ORIGINAL-URL:https://aa.edu.ar
X-WR-CALDESC:Eventos para Academia Arguello
REFRESH-INTERVAL;VALUE=DURATION:PT1H
X-Robots-Tag:noindex
X-PUBLISHED-TTL:PT1H
BEGIN:VTIMEZONE
TZID:America/Argentina/Cordoba
BEGIN:STANDARD
TZOFFSETFROM:-0300
TZOFFSETTO:-0300
TZNAME:-03
DTSTART:20240101T000000
END:STANDARD
END:VTIMEZONE
BEGIN:VEVENT
DTSTART;TZID=America/Argentina/Cordoba:20241007T080000
DTEND;TZID=America/Argentina/Cordoba:20241007T170000
DTSTAMP:20260422T205627
CREATED:20240802T142712Z
LAST-MODIFIED:20240802T142712Z
UID:10001022-1728288000-1728320400@aa.edu.ar
SUMMARY:VIDA EN LA NATURALEZA - 1er grado
DESCRIPTION:VIDA EN LA NATURALEZA 1 GRADO \nLa Serena\, La Granja
URL:https://aa.edu.ar/evento/vida-en-la-naturaleza-1er-grado/
CATEGORIES:Primario
END:VEVENT
BEGIN:VEVENT
DTSTART;TZID=America/Argentina/Cordoba:20241007T103000
DTEND;TZID=America/Argentina/Cordoba:20241007T113000
DTSTAMP:20260422T205627
CREATED:20241007T120051Z
LAST-MODIFIED:20241007T120051Z
UID:10001053-1728297000-1728300600@aa.edu.ar
SUMMARY:CHARLA EN 6° GRADO
DESCRIPTION:En biblioteca para estudiantes
URL:https://aa.edu.ar/evento/charla-en-6-grado/
CATEGORIES:Primario
END:VEVENT
END:VCALENDAR