BEGIN:VCALENDAR
VERSION:2.0
PRODID:-//Academia Arguello - ECPv6.8.1//NONSGML v1.0//EN
CALSCALE:GREGORIAN
METHOD:PUBLISH
X-WR-CALNAME:Academia Arguello
X-ORIGINAL-URL:https://aa.edu.ar
X-WR-CALDESC:Eventos para Academia Arguello
REFRESH-INTERVAL;VALUE=DURATION:PT1H
X-Robots-Tag:noindex
X-PUBLISHED-TTL:PT1H
BEGIN:VTIMEZONE
TZID:America/Argentina/Cordoba
BEGIN:STANDARD
TZOFFSETFROM:-0300
TZOFFSETTO:-0300
TZNAME:-03
DTSTART:20240101T000000
END:STANDARD
END:VTIMEZONE
BEGIN:VEVENT
DTSTART;TZID=America/Argentina/Cordoba:20240802T083000
DTEND;TZID=America/Argentina/Cordoba:20240802T111500
DTSTAMP:20260423T004156
CREATED:20240603T125640Z
LAST-MODIFIED:20240726T180341Z
UID:10000930-1722587400-1722597300@aa.edu.ar
SUMMARY:INTERCULTURALIDAD - 6° GRADO
DESCRIPTION:Interculturalidad en 6to grado \n6to grado A: 8.30h a 9.15h \n6to grado B: 9.30 a 10.15h \n6to grado C: 10:30h a 11.15h \n  \nEn biblioteca Academia Arguello \n 
URL:https://aa.edu.ar/evento/interculturalidad-6-grado/
LOCATION:Colegio Academia Argüello\, ↗️ Ampliación Av. Rafael Nuñez esquina Pozo de la Loma.\, Córdoba\, Córdoba\, 5000\, Argentina
CATEGORIES:Primario
ATTACH;FMTTYPE=image/jpeg:https://aa.edu.ar/wp-content/uploads/2024/06/unnamed-4.jpg
END:VEVENT
END:VCALENDAR