BEGIN:VCALENDAR
VERSION:2.0
PRODID:-//Academia Arguello - ECPv6.8.1//NONSGML v1.0//EN
CALSCALE:GREGORIAN
METHOD:PUBLISH
X-ORIGINAL-URL:https://aa.edu.ar
X-WR-CALDESC:Eventos para Academia Arguello
REFRESH-INTERVAL;VALUE=DURATION:PT1H
X-Robots-Tag:noindex
X-PUBLISHED-TTL:PT1H
BEGIN:VTIMEZONE
TZID:America/Argentina/Cordoba
BEGIN:STANDARD
TZOFFSETFROM:-0300
TZOFFSETTO:-0300
TZNAME:-03
DTSTART:20240101T000000
END:STANDARD
END:VTIMEZONE
BEGIN:VEVENT
DTSTART;TZID=America/Argentina/Cordoba:20240624T083000
DTEND;TZID=America/Argentina/Cordoba:20240624T100000
DTSTAMP:20260423T042159
CREATED:20240614T192152Z
LAST-MODIFIED:20240624T111427Z
UID:10000941-1719217800-1719223200@aa.edu.ar
SUMMARY:PROMESA DE LEALTAD A LA BANDERA
DESCRIPTION:Los invitamos formalmente al acto del Día de la Bandera\, que se llevará a cabo el día lunes 24 de junio a las 8:45 h. Se ruega puntualidad. \nLos alumnos ingresan en el horario habitual\, con el uniforme formal. \n 
URL:https://aa.edu.ar/evento/promesa-de-lealtad-a-la-bandera/
LOCATION:Colegio Academia Argüello\, ↗️ Ampliación Av. Rafael Nuñez esquina Pozo de la Loma.\, Córdoba\, Córdoba\, 5000\, Argentina
CATEGORIES:Primario
ATTACH;FMTTYPE=image/jpeg:https://aa.edu.ar/wp-content/uploads/2024/06/tipografia-aa.jpg
END:VEVENT
END:VCALENDAR