BEGIN:VCALENDAR
VERSION:2.0
PRODID:-//Academia Arguello - ECPv6.8.1//NONSGML v1.0//EN
CALSCALE:GREGORIAN
METHOD:PUBLISH
X-WR-CALNAME:Academia Arguello
X-ORIGINAL-URL:https://aa.edu.ar
X-WR-CALDESC:Eventos para Academia Arguello
REFRESH-INTERVAL;VALUE=DURATION:PT1H
X-Robots-Tag:noindex
X-PUBLISHED-TTL:PT1H
BEGIN:VTIMEZONE
TZID:America/Argentina/Cordoba
BEGIN:STANDARD
TZOFFSETFROM:-0300
TZOFFSETTO:-0300
TZNAME:-03
DTSTART:20240101T000000
END:STANDARD
END:VTIMEZONE
BEGIN:VEVENT
DTSTART;TZID=America/Argentina/Cordoba:20241106T150000
DTEND;TZID=America/Argentina/Cordoba:20241106T163000
DTSTAMP:20260422T165720
CREATED:20241104T105149Z
LAST-MODIFIED:20241104T110708Z
UID:10001087-1730905200-1730910600@aa.edu.ar
SUMMARY:CHARLY DAY
DESCRIPTION:Presentación de cierre de los talleres de coro y percusión de 5º y 6º grado\, en la que también participarán alumnos de 4° grado.\nEste evento especial se llevará a cabo el día miércoles 6 de noviembre a las 15:00h en nuestra Biblioteca.\nSerá una ocasión única para apreciar el trabajo y dedicación de los estudiantes\, quienes han preparado una muestra muy especial.\nNos encantaría contar con su presencia para acompañarlos en este momento tan importante.
URL:https://aa.edu.ar/evento/charly-day/
CATEGORIES:Primario
END:VEVENT
BEGIN:VEVENT
DTSTART;TZID=America/Argentina/Cordoba:20241108T083000
DTEND;TZID=America/Argentina/Cordoba:20241108T100000
DTSTAMP:20260422T165720
CREATED:20241104T110907Z
LAST-MODIFIED:20241104T110907Z
UID:10001088-1731054600-1731060000@aa.edu.ar
SUMMARY:DÍA DE LA TRADICIÓN
DESCRIPTION:
URL:https://aa.edu.ar/evento/dia-de-la-tradicion/
CATEGORIES:Primario
END:VEVENT
BEGIN:VEVENT
DTSTART;TZID=America/Argentina/Cordoba:20241111T080000
DTEND;TZID=America/Argentina/Cordoba:20241115T170000
DTSTAMP:20260422T165720
CREATED:20241111T113021Z
LAST-MODIFIED:20241111T113021Z
UID:10001099-1731312000-1731690000@aa.edu.ar
SUMMARY:EXÁMENES DE INGLÉS
DESCRIPTION:Del 11 al 15 de noviembre
URL:https://aa.edu.ar/evento/examenes-de-ingles-2/
CATEGORIES:Primario
END:VEVENT
BEGIN:VEVENT
DTSTART;TZID=America/Argentina/Cordoba:20241114T050000
DTEND;TZID=America/Argentina/Cordoba:20241114T173000
DTSTAMP:20260422T165720
CREATED:20241111T112756Z
LAST-MODIFIED:20241111T112756Z
UID:10001098-1731560400-1731605400@aa.edu.ar
SUMMARY:ÚLTIMA CLASE DE CATEQUESIS
DESCRIPTION:Estudiantes de 4to y 5to grado
URL:https://aa.edu.ar/evento/ultima-clase-de-catequesis/
CATEGORIES:Primario
END:VEVENT
BEGIN:VEVENT
DTSTART;TZID=America/Argentina/Cordoba:20241119T080000
DTEND;TZID=America/Argentina/Cordoba:20241121T170000
DTSTAMP:20260422T165720
CREATED:20241111T113148Z
LAST-MODIFIED:20241111T113148Z
UID:10001100-1732003200-1732208400@aa.edu.ar
SUMMARY:EXÁMENES DE INGLÉS
DESCRIPTION:Del 19 al 21 de noviembre
URL:https://aa.edu.ar/evento/examenes-de-ingles-3/
CATEGORIES:Primario
END:VEVENT
BEGIN:VEVENT
DTSTART;VALUE=DATE:20241120
DTEND;VALUE=DATE:20241121
DTSTAMP:20260422T165720
CREATED:20241111T120232Z
LAST-MODIFIED:20241111T120232Z
UID:10001104-1732060800-1732147199@aa.edu.ar
SUMMARY:SALIDA A LA NATURALEZA - 1° GRADO
DESCRIPTION:Granja “La Serena” en San Antonio de Arredondo\, Córdoba.
URL:https://aa.edu.ar/evento/salida-a-la-naturaleza-1-grado/
CATEGORIES:Primario
END:VEVENT
BEGIN:VEVENT
DTSTART;TZID=America/Argentina/Cordoba:20241122T080000
DTEND;TZID=America/Argentina/Cordoba:20241125T170000
DTSTAMP:20260422T165720
CREATED:20241111T120332Z
LAST-MODIFIED:20241111T120332Z
UID:10001105-1732262400-1732554000@aa.edu.ar
SUMMARY:EXÁMENES FINALES DE FRANCÉS
DESCRIPTION:VIERNES 22 Y LUNES 25 DE NOVIEMBRE
URL:https://aa.edu.ar/evento/examenes-finales-de-frances/
CATEGORIES:Primario
END:VEVENT
BEGIN:VEVENT
DTSTART;TZID=America/Argentina/Cordoba:20241129T080000
DTEND;TZID=America/Argentina/Cordoba:20241129T170000
DTSTAMP:20260422T165720
CREATED:20240802T142945Z
LAST-MODIFIED:20240802T142945Z
UID:10001023-1732867200-1732899600@aa.edu.ar
SUMMARY:ENTREGA DE PORTFOLIOS
DESCRIPTION:ENTREGA DE PORTFOLIOS A PADRES
URL:https://aa.edu.ar/evento/entrega-de-portfolios/
CATEGORIES:Primario
END:VEVENT
BEGIN:VEVENT
DTSTART;TZID=America/Argentina/Cordoba:20241129T093000
DTEND;TZID=America/Argentina/Cordoba:20241129T123000
DTSTAMP:20260422T165720
CREATED:20241111T114008Z
LAST-MODIFIED:20241111T114008Z
UID:10001103-1732872600-1732883400@aa.edu.ar
SUMMARY:CIERRE DE MÚSICA Y ARTES PLÁSTICAS EN FRANCÉS
DESCRIPTION:3º C:  8:30 a 9:30 h\n3º B:  9:30 a 10:30 h\n3º A:  10:30 a 11:30 h
URL:https://aa.edu.ar/evento/cierre-de-musica-y-artes-plasticas-en-frances/
CATEGORIES:Primario
END:VEVENT
END:VCALENDAR