BEGIN:VCALENDAR
VERSION:2.0
PRODID:-//Academia Arguello - ECPv6.8.1//NONSGML v1.0//EN
CALSCALE:GREGORIAN
METHOD:PUBLISH
X-ORIGINAL-URL:https://aa.edu.ar
X-WR-CALDESC:Eventos para Academia Arguello
REFRESH-INTERVAL;VALUE=DURATION:PT1H
X-Robots-Tag:noindex
X-PUBLISHED-TTL:PT1H
BEGIN:VTIMEZONE
TZID:America/Argentina/Cordoba
BEGIN:STANDARD
TZOFFSETFROM:-0300
TZOFFSETTO:-0300
TZNAME:-03
DTSTART:20240101T000000
END:STANDARD
END:VTIMEZONE
BEGIN:VEVENT
DTSTART;TZID=America/Argentina/Cordoba:20240704T090000
DTEND;TZID=America/Argentina/Cordoba:20240704T100000
DTSTAMP:20260423T004157
CREATED:20240701T162142Z
LAST-MODIFIED:20240701T162142Z
UID:10000955-1720083600-1720087200@aa.edu.ar
SUMMARY:ACTO - TALLER DÍA DE LA INDEPENDENCIA
DESCRIPTION:Acto -Taller de la Semana de la Independencia. \nPor la mañana.
URL:https://aa.edu.ar/evento/acto-taller-dia-de-la-independencia/
LOCATION:Colegio Academia Argüello\, ↗️ Ampliación Av. Rafael Nuñez esquina Pozo de la Loma.\, Córdoba\, Córdoba\, 5000\, Argentina
CATEGORIES:Primario
END:VEVENT
BEGIN:VEVENT
DTSTART;TZID=America/Argentina/Cordoba:20240705T080000
DTEND;TZID=America/Argentina/Cordoba:20240705T082000
DTSTAMP:20260423T004157
CREATED:20240701T174542Z
LAST-MODIFIED:20240701T174542Z
UID:10000132-1720166400-1720167600@aa.edu.ar
SUMMARY:FESTEJO DE CUMPLEAÑOS 🎂🍰
DESCRIPTION:Festejo de todos los cumpleaños desde Enero 2024 a Junio de 2024
URL:https://aa.edu.ar/evento/festejo-de-cumpleanos-%f0%9f%8e%82%f0%9f%8d%b0-2/
LOCATION:Colegio Academia Argüello\, ↗️ Ampliación Av. Rafael Nuñez esquina Pozo de la Loma.\, Córdoba\, Córdoba\, 5000\, Argentina
CATEGORIES:Primario
END:VEVENT
BEGIN:VEVENT
DTSTART;TZID=America/Argentina/Cordoba:20240730T080000
DTEND;TZID=America/Argentina/Cordoba:20240730T093000
DTSTAMP:20260423T004157
CREATED:20240603T125348Z
LAST-MODIFIED:20240624T111327Z
UID:10000929-1722326400-1722331800@aa.edu.ar
SUMMARY:TALLER DE MATEMÁTICA
DESCRIPTION:Taller de matemática en primario
URL:https://aa.edu.ar/evento/taller-de-matematica/
LOCATION:Colegio Academia Argüello\, ↗️ Ampliación Av. Rafael Nuñez esquina Pozo de la Loma.\, Córdoba\, Córdoba\, 5000\, Argentina
CATEGORIES:Primario
END:VEVENT
BEGIN:VEVENT
DTSTART;TZID=America/Argentina/Cordoba:20240731T083000
DTEND;TZID=America/Argentina/Cordoba:20240731T100000
DTSTAMP:20260423T004157
CREATED:20240730T184945Z
LAST-MODIFIED:20240730T184945Z
UID:10001017-1722414600-1722420000@aa.edu.ar
SUMMARY:INTERCULTURALIDAD - 3er grado
DESCRIPTION:Interculturalidad de 3er grado \nHorario: 8:30h \nLugar: Biblioteca
URL:https://aa.edu.ar/evento/interculturalidad-3er-grado/
CATEGORIES:Primario
END:VEVENT
BEGIN:VEVENT
DTSTART;TZID=America/Argentina/Cordoba:20240731T143000
DTEND;TZID=America/Argentina/Cordoba:20240731T160000
DTSTAMP:20260423T004157
CREATED:20240729T193027Z
LAST-MODIFIED:20240729T193115Z
UID:10001016-1722436200-1722441600@aa.edu.ar
SUMMARY:SEGURIDAD FRENTE A LOS RIESGOS EN LAS REDES\, con Elena Onassis
DESCRIPTION:Charla para familias de 4to\, 5toy 6to grado con la Mgtr. Elena Onassis. \nHorario: 14.30h \nLugar: biblioteca \nOrganiza Gestión Cultural y Primario Académico \n 
URL:https://aa.edu.ar/evento/seguridad-frente-a-los-riesgos-en-las-redes-con-elena-onassis/
CATEGORIES:Primario
ATTACH;FMTTYPE=image/png:https://aa.edu.ar/wp-content/uploads/2024/07/sobre-seguridad-frente-a-los-riesgos-en-las-redes.png
END:VEVENT
END:VCALENDAR