BEGIN:VCALENDAR
VERSION:2.0
PRODID:-//Academia Arguello - ECPv6.8.1//NONSGML v1.0//EN
CALSCALE:GREGORIAN
METHOD:PUBLISH
X-WR-CALNAME:Academia Arguello
X-ORIGINAL-URL:https://aa.edu.ar
X-WR-CALDESC:Eventos para Academia Arguello
REFRESH-INTERVAL;VALUE=DURATION:PT1H
X-Robots-Tag:noindex
X-PUBLISHED-TTL:PT1H
BEGIN:VTIMEZONE
TZID:America/Argentina/Cordoba
BEGIN:STANDARD
TZOFFSETFROM:-0300
TZOFFSETTO:-0300
TZNAME:-03
DTSTART:20240101T000000
END:STANDARD
END:VTIMEZONE
BEGIN:VEVENT
DTSTART;TZID=America/Argentina/Cordoba:20240502T140000
DTEND;TZID=America/Argentina/Cordoba:20240502T160000
DTSTAMP:20260423T041740
CREATED:20240417T163139Z
LAST-MODIFIED:20240417T180848Z
UID:10000109-1714658400-1714665600@aa.edu.ar
SUMMARY:WORD WIZARD
DESCRIPTION:Word Wizard – Competencia de escritura creativa \nCoordinado por Carolina Poggi \nHora: 14.30h \nLugar: Biblioteca de Academia Argüello
URL:https://aa.edu.ar/evento/word-wizard/
LOCATION:Colegio Academia Argüello\, ↗️ Ampliación Av. Rafael Nuñez esquina Pozo de la Loma.\, Córdoba\, Córdoba\, 5000\, Argentina
CATEGORIES:Primario,Secundario
ATTACH;FMTTYPE=image/png:https://aa.edu.ar/wp-content/uploads/2024/04/word-wizard-documento-a4.png
END:VEVENT
BEGIN:VEVENT
DTSTART;TZID=America/Argentina/Cordoba:20240503T080000
DTEND;TZID=America/Argentina/Cordoba:20240503T082000
DTSTAMP:20260423T041740
CREATED:20240424T114237Z
LAST-MODIFIED:20240424T114324Z
UID:10000123-1714723200-1714724400@aa.edu.ar
SUMMARY:FESTEJO DE CUMPLEAÑOS 🎂🍰
DESCRIPTION:En formación de primario se canta el feliz cumpleaños a los compañeros que cumplieron en la semana .
URL:https://aa.edu.ar/evento/festejo-de-cumpleanos-%f0%9f%8e%82%f0%9f%8d%b0/2024-05-03/
LOCATION:Colegio Academia Argüello\, ↗️ Ampliación Av. Rafael Nuñez esquina Pozo de la Loma.\, Córdoba\, Córdoba\, 5000\, Argentina
CATEGORIES:Primario
END:VEVENT
BEGIN:VEVENT
DTSTART;TZID=America/Argentina/Cordoba:20240504T090000
DTEND;TZID=America/Argentina/Cordoba:20240504T120000
DTSTAMP:20260423T041740
CREATED:20240503T114618Z
LAST-MODIFIED:20240503T131358Z
UID:10000905-1714813200-1714824000@aa.edu.ar
SUMMARY:ENCUENTRO DE FÚTBOL INTERCOLEGIAL
DESCRIPTION:El encuentro se realizará en el colegio Cita con la vida\, en el campo de deportes de Academia Argüello (ingreso por portón Norte) \nHorarios: \n9:00h: 6° grado \n9:45h: 5° grado \n10:30h: 4° grado \n10h a 12h: 1°\, 2° y 3° grado \n  \nLos estudiantes deberán asistir con uniforme de fútbol o remera gris de Educación física. \nConsultas al 3515161930 (Prof. Fabian)
URL:https://aa.edu.ar/evento/encuentro-de-futbol-intercolegial-2/
LOCATION:Colegio Academia Argüello\, ↗️ Ampliación Av. Rafael Nuñez esquina Pozo de la Loma.\, Córdoba\, Córdoba\, 5000\, Argentina
CATEGORIES:Primario
END:VEVENT
BEGIN:VEVENT
DTSTART;TZID=America/Argentina/Cordoba:20240508T080000
DTEND;TZID=America/Argentina/Cordoba:20240508T083000
DTSTAMP:20260423T041740
CREATED:20240408T130901Z
LAST-MODIFIED:20240506T155854Z
UID:10000089-1715155200-1715157000@aa.edu.ar
SUMMARY:CLASE ABIERTA - 2do grado 🏃‍♀️🏃‍♂️
DESCRIPTION:Clase abierta de educación física junto a familias. \n  \n    \n 
URL:https://aa.edu.ar/evento/clase-abierta-de-educacion-fisica-2do-grado/
LOCATION:Colegio Academia Argüello\, ↗️ Ampliación Av. Rafael Nuñez esquina Pozo de la Loma.\, Córdoba\, Córdoba\, 5000\, Argentina
CATEGORIES:Primario
ATTACH;FMTTYPE=image/jpeg:https://aa.edu.ar/wp-content/uploads/2024/04/dsc_0250-scaled.jpg
END:VEVENT
BEGIN:VEVENT
DTSTART;TZID=America/Argentina/Cordoba:20240508T130000
DTEND;TZID=America/Argentina/Cordoba:20240508T160000
DTSTAMP:20260423T041740
CREATED:20240506T180259Z
LAST-MODIFIED:20240507T113833Z
UID:10000907-1715173200-1715184000@aa.edu.ar
SUMMARY:VISITA A AGUAS CORDOBESAS
DESCRIPTION:Salida de 5to grado a Aguas Cordobesas con las misses Susie\, Andrea y Laura.
URL:https://aa.edu.ar/evento/visita-a-aguas-cordobesas/
CATEGORIES:Primario
END:VEVENT
BEGIN:VEVENT
DTSTART;TZID=America/Argentina/Cordoba:20240510T080000
DTEND;TZID=America/Argentina/Cordoba:20240510T082000
DTSTAMP:20260423T041740
CREATED:20240424T114237Z
LAST-MODIFIED:20240424T114324Z
UID:10000124-1715328000-1715329200@aa.edu.ar
SUMMARY:FESTEJO DE CUMPLEAÑOS 🎂🍰
DESCRIPTION:En formación de primario se canta el feliz cumpleaños a los compañeros que cumplieron en la semana .
URL:https://aa.edu.ar/evento/festejo-de-cumpleanos-%f0%9f%8e%82%f0%9f%8d%b0/2024-05-10/
LOCATION:Colegio Academia Argüello\, ↗️ Ampliación Av. Rafael Nuñez esquina Pozo de la Loma.\, Córdoba\, Córdoba\, 5000\, Argentina
CATEGORIES:Primario
END:VEVENT
BEGIN:VEVENT
DTSTART;TZID=America/Argentina/Cordoba:20240515T080000
DTEND;TZID=America/Argentina/Cordoba:20240515T090000
DTSTAMP:20260423T041740
CREATED:20240416T162319Z
LAST-MODIFIED:20240416T162319Z
UID:10000106-1715760000-1715763600@aa.edu.ar
SUMMARY:CLASE ABIERTA - 3er grado 🏃‍♀️🏃‍♂️
DESCRIPTION:Clase abierta de Educación física para los estudiantes de 3er grado y sus familias \n 
URL:https://aa.edu.ar/evento/clase-abierta-3er-grado-%f0%9f%8f%83%e2%99%80%ef%b8%8f%f0%9f%8f%83%e2%99%82%ef%b8%8f/
LOCATION:Colegio Academia Argüello\, ↗️ Ampliación Av. Rafael Nuñez esquina Pozo de la Loma.\, Córdoba\, Córdoba\, 5000\, Argentina
CATEGORIES:Primario
ATTACH;FMTTYPE=image/jpeg:https://aa.edu.ar/wp-content/uploads/2024/04/dsc_0278-scaled.jpg
END:VEVENT
BEGIN:VEVENT
DTSTART;TZID=America/Argentina/Cordoba:20240517T080000
DTEND;TZID=America/Argentina/Cordoba:20240517T082000
DTSTAMP:20260423T041740
CREATED:20240424T114237Z
LAST-MODIFIED:20240424T114324Z
UID:10000125-1715932800-1715934000@aa.edu.ar
SUMMARY:FESTEJO DE CUMPLEAÑOS 🎂🍰
DESCRIPTION:En formación de primario se canta el feliz cumpleaños a los compañeros que cumplieron en la semana .
URL:https://aa.edu.ar/evento/festejo-de-cumpleanos-%f0%9f%8e%82%f0%9f%8d%b0/2024-05-17/
LOCATION:Colegio Academia Argüello\, ↗️ Ampliación Av. Rafael Nuñez esquina Pozo de la Loma.\, Córdoba\, Córdoba\, 5000\, Argentina
CATEGORIES:Primario
END:VEVENT
BEGIN:VEVENT
DTSTART;TZID=America/Argentina/Cordoba:20240521T080000
DTEND;TZID=America/Argentina/Cordoba:20240522T170000
DTSTAMP:20260423T041740
CREATED:20240424T134012Z
LAST-MODIFIED:20240426T185733Z
UID:10000884-1716278400-1716397200@aa.edu.ar
SUMMARY:🌳 VIDA EN LA NATURALEZA  - 4° grado 🏕
DESCRIPTION:Salida a Vida en la naturaleza de 4° grado. \n21 y 22 de Mayo
URL:https://aa.edu.ar/evento/%f0%9f%8c%b3-vida-en-la-naturaleza-%f0%9f%8f%95/
CATEGORIES:Primario
END:VEVENT
BEGIN:VEVENT
DTSTART;TZID=America/Argentina/Cordoba:20240524T080000
DTEND;TZID=America/Argentina/Cordoba:20240524T082000
DTSTAMP:20260423T041740
CREATED:20240424T114237Z
LAST-MODIFIED:20240424T114324Z
UID:10000126-1716537600-1716538800@aa.edu.ar
SUMMARY:FESTEJO DE CUMPLEAÑOS 🎂🍰
DESCRIPTION:En formación de primario se canta el feliz cumpleaños a los compañeros que cumplieron en la semana .
URL:https://aa.edu.ar/evento/festejo-de-cumpleanos-%f0%9f%8e%82%f0%9f%8d%b0/2024-05-24/
LOCATION:Colegio Academia Argüello\, ↗️ Ampliación Av. Rafael Nuñez esquina Pozo de la Loma.\, Córdoba\, Córdoba\, 5000\, Argentina
CATEGORIES:Primario
END:VEVENT
BEGIN:VEVENT
DTSTART;TZID=America/Argentina/Cordoba:20240527T080000
DTEND;TZID=America/Argentina/Cordoba:20240527T115000
DTSTAMP:20260423T041740
CREATED:20240424T134307Z
LAST-MODIFIED:20240517T115207Z
UID:10000885-1716796800-1716810600@aa.edu.ar
SUMMARY:ACTO 25 DE MAYO
DESCRIPTION:Aniversario de la Revolución de Mayo. Acto escolar. \nOrganiza: \nHorario: de 8h a 11.50h \nUbicación: Biblioteca
URL:https://aa.edu.ar/evento/acto-25-de-mayo/
LOCATION:Colegio Academia Argüello\, ↗️ Ampliación Av. Rafael Nuñez esquina Pozo de la Loma.\, Córdoba\, Córdoba\, 5000\, Argentina
CATEGORIES:Primario
END:VEVENT
BEGIN:VEVENT
DTSTART;TZID=America/Argentina/Cordoba:20240531T080000
DTEND;TZID=America/Argentina/Cordoba:20240531T082000
DTSTAMP:20260423T041740
CREATED:20240424T114237Z
LAST-MODIFIED:20240424T114324Z
UID:10000127-1717142400-1717143600@aa.edu.ar
SUMMARY:FESTEJO DE CUMPLEAÑOS 🎂🍰
DESCRIPTION:En formación de primario se canta el feliz cumpleaños a los compañeros que cumplieron en la semana .
URL:https://aa.edu.ar/evento/festejo-de-cumpleanos-%f0%9f%8e%82%f0%9f%8d%b0/2024-05-31/
LOCATION:Colegio Academia Argüello\, ↗️ Ampliación Av. Rafael Nuñez esquina Pozo de la Loma.\, Córdoba\, Córdoba\, 5000\, Argentina
CATEGORIES:Primario
END:VEVENT
END:VCALENDAR