BEGIN:VCALENDAR
VERSION:2.0
PRODID:-//Academia Arguello - ECPv6.8.1//NONSGML v1.0//EN
CALSCALE:GREGORIAN
METHOD:PUBLISH
X-WR-CALNAME:Academia Arguello
X-ORIGINAL-URL:https://aa.edu.ar
X-WR-CALDESC:Eventos para Academia Arguello
REFRESH-INTERVAL;VALUE=DURATION:PT1H
X-Robots-Tag:noindex
X-PUBLISHED-TTL:PT1H
BEGIN:VTIMEZONE
TZID:America/Argentina/Cordoba
BEGIN:STANDARD
TZOFFSETFROM:-0300
TZOFFSETTO:-0300
TZNAME:-03
DTSTART:20260101T000000
END:STANDARD
END:VTIMEZONE
BEGIN:VEVENT
DTSTART;VALUE=DATE:20261031
DTEND;VALUE=DATE:20261101
DTSTAMP:20260419T133814
CREATED:20260312T135247Z
LAST-MODIFIED:20260406T151831Z
UID:10001328-1793404800-1793491199@aa.edu.ar
SUMMARY:Torneo de hockey
DESCRIPTION:Horario a confirmar \nDirección: Colegio Academia Argüello
URL:https://aa.edu.ar/evento/torneo-de-hockey-6/
CATEGORIES:Primario
END:VEVENT
END:VCALENDAR