BEGIN:VCALENDAR
VERSION:2.0
PRODID:-//Academia Arguello - ECPv6.8.1//NONSGML v1.0//EN
CALSCALE:GREGORIAN
METHOD:PUBLISH
X-ORIGINAL-URL:https://aa.edu.ar
X-WR-CALDESC:Eventos para Academia Arguello
REFRESH-INTERVAL;VALUE=DURATION:PT1H
X-Robots-Tag:noindex
X-PUBLISHED-TTL:PT1H
BEGIN:VTIMEZONE
TZID:America/Argentina/Cordoba
BEGIN:STANDARD
TZOFFSETFROM:-0300
TZOFFSETTO:-0300
TZNAME:-03
DTSTART:20260101T000000
END:STANDARD
END:VTIMEZONE
BEGIN:VEVENT
DTSTART;VALUE=DATE:20260910
DTEND;VALUE=DATE:20260911
DTSTAMP:20260419T101943
CREATED:20260413T131004Z
LAST-MODIFIED:20260413T131004Z
UID:10001385-1788998400-1789084799@aa.edu.ar
SUMMARY:Acto del Día del Maestro 2°Grado
DESCRIPTION:
URL:https://aa.edu.ar/evento/acto-del-dia-del-maestro-2grado/
CATEGORIES:Institucional,Primario
END:VEVENT
END:VCALENDAR