BEGIN:VCALENDAR
VERSION:2.0
PRODID:-//Academia Arguello - ECPv6.8.1//NONSGML v1.0//EN
CALSCALE:GREGORIAN
METHOD:PUBLISH
X-WR-CALNAME:Academia Arguello
X-ORIGINAL-URL:https://aa.edu.ar
X-WR-CALDESC:Eventos para Academia Arguello
REFRESH-INTERVAL;VALUE=DURATION:PT1H
X-Robots-Tag:noindex
X-PUBLISHED-TTL:PT1H
BEGIN:VTIMEZONE
TZID:America/Argentina/Cordoba
BEGIN:STANDARD
TZOFFSETFROM:-0300
TZOFFSETTO:-0300
TZNAME:-03
DTSTART:20260101T000000
END:STANDARD
END:VTIMEZONE
BEGIN:VEVENT
DTSTART;VALUE=DATE:20260324
DTEND;VALUE=DATE:20260325
DTSTAMP:20260420T092635
CREATED:20260306T141546Z
LAST-MODIFIED:20260306T141546Z
UID:10001323-1774310400-1774396799@aa.edu.ar
SUMMARY:FERIADO NACIONAL - DÍA DE LA MEMORIA
DESCRIPTION:Feriado Nacional por el Día Nacional de la Memoria por la Verdad y la Justicia
URL:https://aa.edu.ar/evento/feriado-nacional-dia-de-la-memoria/
CATEGORIES:Institucional
END:VEVENT
END:VCALENDAR