BEGIN:VCALENDAR
VERSION:2.0
PRODID:-//Academia Arguello - ECPv6.8.1//NONSGML v1.0//EN
CALSCALE:GREGORIAN
METHOD:PUBLISH
X-WR-CALNAME:Academia Arguello
X-ORIGINAL-URL:https://aa.edu.ar
X-WR-CALDESC:Eventos para Academia Arguello
REFRESH-INTERVAL;VALUE=DURATION:PT1H
X-Robots-Tag:noindex
X-PUBLISHED-TTL:PT1H
BEGIN:VTIMEZONE
TZID:America/Argentina/Cordoba
BEGIN:STANDARD
TZOFFSETFROM:-0300
TZOFFSETTO:-0300
TZNAME:-03
DTSTART:20260101T000000
END:STANDARD
END:VTIMEZONE
BEGIN:VEVENT
DTSTART;TZID=America/Argentina/Cordoba:20260225T083000
DTEND;TZID=America/Argentina/Cordoba:20260225T093000
DTSTAMP:20260420T092718
CREATED:20260205T192634Z
LAST-MODIFIED:20260319T175318Z
UID:10001302-1772008200-1772011800@aa.edu.ar
SUMMARY:Reunión para familias - Nivel inicial
DESCRIPTION:SALAS DE 2 Y 3: 8:30h
URL:https://aa.edu.ar/evento/reunion-de-padres-nivel-inicial/
CATEGORIES:Inicial
END:VEVENT
END:VCALENDAR