BEGIN:VCALENDAR
VERSION:2.0
PRODID:-//Academia Arguello - ECPv6.8.1//NONSGML v1.0//EN
CALSCALE:GREGORIAN
METHOD:PUBLISH
X-ORIGINAL-URL:https://aa.edu.ar
X-WR-CALDESC:Eventos para Academia Arguello
REFRESH-INTERVAL;VALUE=DURATION:PT1H
X-Robots-Tag:noindex
X-PUBLISHED-TTL:PT1H
BEGIN:VTIMEZONE
TZID:America/Argentina/Cordoba
BEGIN:STANDARD
TZOFFSETFROM:-0300
TZOFFSETTO:-0300
TZNAME:-03
DTSTART:20250101T000000
END:STANDARD
END:VTIMEZONE
BEGIN:VEVENT
DTSTART;VALUE=DATE:20251110
DTEND;VALUE=DATE:20251115
DTSTAMP:20260421T081110
CREATED:20250718T162624Z
LAST-MODIFIED:20250718T162631Z
UID:10001210-1762732800-1763164799@aa.edu.ar
SUMMARY:INTEGRADORAS CASTELLANO
DESCRIPTION:Exámenes finales de castellano
URL:https://aa.edu.ar/evento/integradoras-castellano/
CATEGORIES:Primario
END:VEVENT
BEGIN:VEVENT
DTSTART;TZID=America/Argentina/Cordoba:20251112T080000
DTEND;TZID=America/Argentina/Cordoba:20251114T190000
DTSTAMP:20260421T081110
CREATED:20251113T110023Z
LAST-MODIFIED:20251113T110023Z
UID:10001289-1762934400-1763146800@aa.edu.ar
SUMMARY:VIDA EN LA NATURALEZA - 5° AÑO
DESCRIPTION:Vida en la Naturaleza 5to\nEstudiantes de 5to año\nDocentes: Zelaya y Gutierrez\nCerro Champaquí\nSalida 8 horas \nRegreso: 19horas
URL:https://aa.edu.ar/evento/vida-en-la-naturaleza-5-ano/
CATEGORIES:Secundario
END:VEVENT
BEGIN:VEVENT
DTSTART;TZID=America/Argentina/Cordoba:20251114T180000
DTEND;TZID=America/Argentina/Cordoba:20251114T220000
DTSTAMP:20260421T081110
CREATED:20250724T161219Z
LAST-MODIFIED:20250724T161219Z
UID:10001225-1763143200-1763157600@aa.edu.ar
SUMMARY:VELADA EN SALAS DE 5
DESCRIPTION:Velada tarde/ noche con merienda y cena de las salas de 5 junto a misses en el colegio
URL:https://aa.edu.ar/evento/velada-en-salas-de-5/
CATEGORIES:Inicial
END:VEVENT
END:VCALENDAR