BEGIN:VCALENDAR
VERSION:2.0
PRODID:-//Academia Arguello - ECPv6.8.1//NONSGML v1.0//EN
CALSCALE:GREGORIAN
METHOD:PUBLISH
X-WR-CALNAME:Academia Arguello
X-ORIGINAL-URL:https://aa.edu.ar
X-WR-CALDESC:Eventos para Academia Arguello
REFRESH-INTERVAL;VALUE=DURATION:PT1H
X-Robots-Tag:noindex
X-PUBLISHED-TTL:PT1H
BEGIN:VTIMEZONE
TZID:America/Argentina/Cordoba
BEGIN:STANDARD
TZOFFSETFROM:-0300
TZOFFSETTO:-0300
TZNAME:-03
DTSTART:20250101T000000
END:STANDARD
END:VTIMEZONE
BEGIN:VEVENT
DTSTART;TZID=America/Argentina/Cordoba:20251031T080000
DTEND;TZID=America/Argentina/Cordoba:20251031T170000
DTSTAMP:20260421T080752
CREATED:20250724T160511Z
LAST-MODIFIED:20250724T160511Z
UID:10001223-1761897600-1761930000@aa.edu.ar
SUMMARY:HALLOWEEN 🎃
DESCRIPTION:
URL:https://aa.edu.ar/evento/halloween-%f0%9f%8e%83/
CATEGORIES:Inicial
END:VEVENT
BEGIN:VEVENT
DTSTART;TZID=America/Argentina/Cordoba:20251031T110000
DTEND;TZID=America/Argentina/Cordoba:20251031T170000
DTSTAMP:20260421T080752
CREATED:20251027T120255Z
LAST-MODIFIED:20251027T143208Z
UID:10001276-1761908400-1761930000@aa.edu.ar
SUMMARY:SALIDA A COLODRERO CON ESTUDIANTES DE FRANCIA
DESCRIPTION:Salida a Colodrero con estudiantes de Francia y Voluntarios RSE 6to\nRSE \nde 11 a 12.30 horas aprox \n 
URL:https://aa.edu.ar/evento/salida-a-colodrero-con-estudiantes-de-francia/
CATEGORIES:Secundario
END:VEVENT
BEGIN:VEVENT
DTSTART;TZID=America/Argentina/Cordoba:20251031T130000
DTEND;TZID=America/Argentina/Cordoba:20251031T163000
DTSTAMP:20260421T080752
CREATED:20251007T153035Z
LAST-MODIFIED:20251007T153035Z
UID:10001265-1761915600-1761928200@aa.edu.ar
SUMMARY:HALLOWEEN 🎃👻👽
DESCRIPTION:
URL:https://aa.edu.ar/evento/halloween-%f0%9f%8e%83%f0%9f%91%bb%f0%9f%91%bd/
CATEGORIES:Primario
END:VEVENT
END:VCALENDAR