BEGIN:VCALENDAR
VERSION:2.0
PRODID:-//Academia Arguello - ECPv6.8.1//NONSGML v1.0//EN
CALSCALE:GREGORIAN
METHOD:PUBLISH
X-WR-CALNAME:Academia Arguello
X-ORIGINAL-URL:https://aa.edu.ar
X-WR-CALDESC:Eventos para Academia Arguello
REFRESH-INTERVAL;VALUE=DURATION:PT1H
X-Robots-Tag:noindex
X-PUBLISHED-TTL:PT1H
BEGIN:VTIMEZONE
TZID:America/Argentina/Cordoba
BEGIN:STANDARD
TZOFFSETFROM:-0300
TZOFFSETTO:-0300
TZNAME:-03
DTSTART:20250101T000000
END:STANDARD
END:VTIMEZONE
BEGIN:VEVENT
DTSTART;TZID=America/Argentina/Cordoba:20250425T153000
DTEND;TZID=America/Argentina/Cordoba:20250425T160000
DTSTAMP:20260422T110008
CREATED:20250423T162410Z
LAST-MODIFIED:20250423T162410Z
UID:10001170-1745595000-1745596800@aa.edu.ar
SUMMARY:EARTH CARRERS 🌳🌱🌎
DESCRIPTION:REPRESENTACIÓN “EARTH CAREERS”\, por parte de estudiantes de Drama de 4to año\, acompañados por la profesora Lorena Senatore \n\nviernes 25 con 2º grado\, en biblioteca
URL:https://aa.edu.ar/evento/earth-carrers-%f0%9f%8c%b3%f0%9f%8c%b1%f0%9f%8c%8e-4/
CATEGORIES:Institucional
END:VEVENT
END:VCALENDAR