BEGIN:VCALENDAR
VERSION:2.0
PRODID:-//Academia Arguello - ECPv6.8.1//NONSGML v1.0//EN
CALSCALE:GREGORIAN
METHOD:PUBLISH
X-WR-CALNAME:Academia Arguello
X-ORIGINAL-URL:https://aa.edu.ar
X-WR-CALDESC:Eventos para Academia Arguello
REFRESH-INTERVAL;VALUE=DURATION:PT1H
X-Robots-Tag:noindex
X-PUBLISHED-TTL:PT1H
BEGIN:VTIMEZONE
TZID:America/Argentina/Cordoba
BEGIN:STANDARD
TZOFFSETFROM:-0300
TZOFFSETTO:-0300
TZNAME:-03
DTSTART:20250101T000000
END:STANDARD
END:VTIMEZONE
BEGIN:VEVENT
DTSTART;TZID=America/Argentina/Cordoba:20250424T083000
DTEND;TZID=America/Argentina/Cordoba:20250424T160000
DTSTAMP:20260422T105910
CREATED:20250423T160221Z
LAST-MODIFIED:20250424T135612Z
UID:10001166-1745483400-1745510400@aa.edu.ar
SUMMARY:TEATRO LA GALERA EN ACADEMIA ARGÜELLO
DESCRIPTION:Teatro La Galera en Academia Arguello .  Jueves 24 de abril\n*8:30h: primaria (1°\, 2° y 3° grado)\n*9:45h: jardín\n*11:00h:  secundaria (1° y 2° año)\n*13:40h:  primario (4°\, 5° y 6° grado)\n*15:00h: jardín \n 
URL:https://aa.edu.ar/evento/teatro-la-galera-en-academia-arguello/
CATEGORIES:Institucional
ATTACH;FMTTYPE=image/jpeg:https://aa.edu.ar/wp-content/uploads/2025/04/giracordoba_pages-to-jpg-0001-e1745498763140.jpg
END:VEVENT
BEGIN:VEVENT
DTSTART;TZID=America/Argentina/Cordoba:20250424T153000
DTEND;TZID=America/Argentina/Cordoba:20250424T160000
DTSTAMP:20260422T105910
CREATED:20250423T162330Z
LAST-MODIFIED:20250423T162330Z
UID:10001169-1745508600-1745510400@aa.edu.ar
SUMMARY:EARTH CARRERS 🌳🌱🌎
DESCRIPTION:REPRESENTACIÓN “EARTH CAREERS”\, por parte de estudiantes de Drama de 4to año\, acompañados por la profesora Lorena Senatore \n\njueves 24 con 3º grado\, en biblioteca
URL:https://aa.edu.ar/evento/earth-carrers-%f0%9f%8c%b3%f0%9f%8c%b1%f0%9f%8c%8e-3/
CATEGORIES:Institucional
END:VEVENT
END:VCALENDAR