BEGIN:VCALENDAR
VERSION:2.0
PRODID:-//Academia Arguello - ECPv6.8.1//NONSGML v1.0//EN
CALSCALE:GREGORIAN
METHOD:PUBLISH
X-ORIGINAL-URL:https://aa.edu.ar
X-WR-CALDESC:Eventos para Academia Arguello
REFRESH-INTERVAL;VALUE=DURATION:PT1H
X-Robots-Tag:noindex
X-PUBLISHED-TTL:PT1H
BEGIN:VTIMEZONE
TZID:America/Argentina/Cordoba
BEGIN:STANDARD
TZOFFSETFROM:-0300
TZOFFSETTO:-0300
TZNAME:-03
DTSTART:20250101T000000
END:STANDARD
END:VTIMEZONE
BEGIN:VEVENT
DTSTART;TZID=America/Argentina/Cordoba:20250423T151000
DTEND;TZID=America/Argentina/Cordoba:20250423T163000
DTSTAMP:20260422T110149
CREATED:20250423T162522Z
LAST-MODIFIED:20250423T162522Z
UID:10001171-1745421000-1745425800@aa.edu.ar
SUMMARY:CAPACITACIÓN CON 3º AÑO SOBRE LA NECESIDAD DE REFORESTACIÓN EN LAS SIERRAS DE CÓRDOBA.
DESCRIPTION:A cargo de ACCIÓN SERRANA. \nHora: 15.10 h. \nLugar: Biblioteca. \nOrganiza: Responsabilidad Social Escolar
URL:https://aa.edu.ar/evento/capacitacion-con-3o-ano-sobre-la-necesidad-de-reforestacion-en-las-sierras-de-cordoba/
CATEGORIES:Institucional
END:VEVENT
BEGIN:VEVENT
DTSTART;TZID=America/Argentina/Cordoba:20250423T153000
DTEND;TZID=America/Argentina/Cordoba:20250423T160000
DTSTAMP:20260422T110149
CREATED:20250423T162249Z
LAST-MODIFIED:20250423T162249Z
UID:10001168-1745422200-1745424000@aa.edu.ar
SUMMARY:EARTH CARRERS 🌳🌱🌎
DESCRIPTION:REPRESENTACIÓN “EARTH CAREERS”\, por parte de estudiantes de Drama de 4to año\, acompañados por la profesora Lorena Senatore \n\nmiércoles 23 con Sala de 5\, en el sum 2
URL:https://aa.edu.ar/evento/earth-carrers-%f0%9f%8c%b3%f0%9f%8c%b1%f0%9f%8c%8e-2/
CATEGORIES:Institucional
END:VEVENT
END:VCALENDAR