BEGIN:VCALENDAR
VERSION:2.0
PRODID:-//Academia Arguello - ECPv6.8.1//NONSGML v1.0//EN
CALSCALE:GREGORIAN
METHOD:PUBLISH
X-ORIGINAL-URL:https://aa.edu.ar
X-WR-CALDESC:Eventos para Academia Arguello
REFRESH-INTERVAL;VALUE=DURATION:PT1H
X-Robots-Tag:noindex
X-PUBLISHED-TTL:PT1H
BEGIN:VTIMEZONE
TZID:America/Argentina/Cordoba
BEGIN:STANDARD
TZOFFSETFROM:-0300
TZOFFSETTO:-0300
TZNAME:-03
DTSTART:20250101T000000
END:STANDARD
END:VTIMEZONE
BEGIN:VEVENT
DTSTART;TZID=America/Argentina/Cordoba:20250403T090000
DTEND;TZID=America/Argentina/Cordoba:20250403T110000
DTSTAMP:20260422T110155
CREATED:20250325T115641Z
LAST-MODIFIED:20250325T115641Z
UID:10001158-1743670800-1743678000@aa.edu.ar
SUMMARY:CONVERSATORIO CON VETERANOS DE MALVINAS
DESCRIPTION:Conversatorio – A 43 AÑOS DEL CONFLICTO DE MALVINAS: EL PASADO Y EL PRESENTE EN LA VOZ DE SUS PROTAGONISTAS – Visita de Veteranos de Malvinas\nEstudiantes de 3º\, 4º y 5º año – Familias\nCoordina: Prof. Leandro Maier\nBiblioteca\nde 9:00 a 11:00 \n 
URL:https://aa.edu.ar/evento/conversatorio-con-veteranos-de-malvinas/
CATEGORIES:Secundario
END:VEVENT
END:VCALENDAR