BEGIN:VCALENDAR
VERSION:2.0
PRODID:-//Academia Arguello - ECPv6.8.1//NONSGML v1.0//EN
CALSCALE:GREGORIAN
METHOD:PUBLISH
X-ORIGINAL-URL:https://aa.edu.ar
X-WR-CALDESC:Eventos para Academia Arguello
REFRESH-INTERVAL;VALUE=DURATION:PT1H
X-Robots-Tag:noindex
X-PUBLISHED-TTL:PT1H
BEGIN:VTIMEZONE
TZID:America/Argentina/Cordoba
BEGIN:STANDARD
TZOFFSETFROM:-0300
TZOFFSETTO:-0300
TZNAME:-03
DTSTART:20250101T000000
END:STANDARD
END:VTIMEZONE
BEGIN:VEVENT
DTSTART;VALUE=DATE:20250402
DTEND;VALUE=DATE:20250403
DTSTAMP:20260422T110119
CREATED:20250227T133945Z
LAST-MODIFIED:20250227T133945Z
UID:10001121-1743552000-1743638399@aa.edu.ar
SUMMARY:FERIADO NACIONAL
DESCRIPTION:Feriado Nacional por la caída de los soldados de Malvinas
URL:https://aa.edu.ar/evento/feriado-nacional-5/
CATEGORIES:Institucional
END:VEVENT
END:VCALENDAR